BEGIN:VCALENDAR
VERSION:2.0
PRODID:-//Neighborhood Council of Westchester/Playa - ECPv6.15.18//NONSGML v1.0//EN
CALSCALE:GREGORIAN
METHOD:PUBLISH
X-ORIGINAL-URL:https://ncwpdr.org
X-WR-CALDESC:Events for Neighborhood Council of Westchester/Playa
REFRESH-INTERVAL;VALUE=DURATION:PT1H
X-Robots-Tag:noindex
X-PUBLISHED-TTL:PT1H
BEGIN:VTIMEZONE
TZID:America/Los_Angeles
BEGIN:DAYLIGHT
TZOFFSETFROM:-0800
TZOFFSETTO:-0700
TZNAME:PDT
DTSTART:20220313T100000
END:DAYLIGHT
BEGIN:STANDARD
TZOFFSETFROM:-0700
TZOFFSETTO:-0800
TZNAME:PST
DTSTART:20221106T090000
END:STANDARD
BEGIN:DAYLIGHT
TZOFFSETFROM:-0800
TZOFFSETTO:-0700
TZNAME:PDT
DTSTART:20230312T100000
END:DAYLIGHT
BEGIN:STANDARD
TZOFFSETFROM:-0700
TZOFFSETTO:-0800
TZNAME:PST
DTSTART:20231105T090000
END:STANDARD
BEGIN:DAYLIGHT
TZOFFSETFROM:-0800
TZOFFSETTO:-0700
TZNAME:PDT
DTSTART:20240310T100000
END:DAYLIGHT
BEGIN:STANDARD
TZOFFSETFROM:-0700
TZOFFSETTO:-0800
TZNAME:PST
DTSTART:20241103T090000
END:STANDARD
BEGIN:DAYLIGHT
TZOFFSETFROM:-0800
TZOFFSETTO:-0700
TZNAME:PDT
DTSTART:20250309T100000
END:DAYLIGHT
BEGIN:STANDARD
TZOFFSETFROM:-0700
TZOFFSETTO:-0800
TZNAME:PST
DTSTART:20251102T090000
END:STANDARD
BEGIN:DAYLIGHT
TZOFFSETFROM:-0800
TZOFFSETTO:-0700
TZNAME:PDT
DTSTART:20260308T100000
END:DAYLIGHT
BEGIN:STANDARD
TZOFFSETFROM:-0700
TZOFFSETTO:-0800
TZNAME:PST
DTSTART:20261101T090000
END:STANDARD
END:VTIMEZONE
BEGIN:VEVENT
DTSTART;TZID=America/Los_Angeles:20251123T100000
DTEND;TZID=America/Los_Angeles:20251123T150000
DTSTAMP:20260423T211631
CREATED:20251031T163731Z
LAST-MODIFIED:20251114T225340Z
UID:15408-1763892000-1763910000@ncwpdr.org
SUMMARY:Woman’s Club of Playa del Rey Makers’ Market
DESCRIPTION:Join the Woman’s Club of Playa del Rey for their annual Makers’ Market on Saturday\, November 23 from 10 am to 3 pm! Guests can enjoy shopping for the holidays at more than 60 vendor booths featuring handcrafted items\, as well as a raffle\, home-baked goods and live music. Don’t forget your non-perishable food item donation to benefit the Food Pantry\, LAX! The event is held in the parking lot of the group’s clubhouse at 8039 W. Manchester Ave. in Playa del Rey. The event helps raise funds for the Woman’s Club Scholarship Program.
URL:https://ncwpdr.org/event/womans-club-of-playa-del-rey-makers-market/
LOCATION:Woman’s Club of Playa Del Rey\, 8039 W. Manchester Ave\, Playa Del Rey
CATEGORIES:Events
ATTACH;FMTTYPE=image/jpeg:https://ncwpdr.org/wp-content/uploads/2025/10/makers-postponed.jpg
END:VEVENT
BEGIN:VEVENT
DTSTART;TZID=America/Los_Angeles:20250201T090000
DTEND;TZID=America/Los_Angeles:20250201T110000
DTSTAMP:20260423T211631
CREATED:20250130T174254Z
LAST-MODIFIED:20250130T174254Z
UID:14357-1738400400-1738407600@ncwpdr.org
SUMMARY:Coffee and a Conversation with Cops
DESCRIPTION:RSVP and send your questions to: margarita.diosomito@yahoo.com
URL:https://ncwpdr.org/event/coffee-and-a-conversation-with-cops/
LOCATION:Woman’s Club of Playa Del Rey\, 8039 W. Manchester Ave\, Playa Del Rey
CATEGORIES:Events
ATTACH;FMTTYPE=image/jpeg:https://ncwpdr.org/wp-content/uploads/2025/01/NCWP-coffee.jpg
END:VEVENT
BEGIN:VEVENT
DTSTART;TZID=America/Los_Angeles:20231118T100000
DTEND;TZID=America/Los_Angeles:20231118T140000
DTSTAMP:20260423T211631
CREATED:20231107T225646Z
LAST-MODIFIED:20231107T225646Z
UID:12816-1700301600-1700316000@ncwpdr.org
SUMMARY:Makers Market
DESCRIPTION:Over 40 vendors\, live music and food. \nBring non perishable food donations for food pantry\, LAX
URL:https://ncwpdr.org/event/makers-market/
LOCATION:Woman’s Club of Playa Del Rey\, 8039 W. Manchester Ave\, Playa Del Rey
CATEGORIES:Events
ATTACH;FMTTYPE=image/png:https://ncwpdr.org/wp-content/uploads/2023/11/makers-market.png
END:VEVENT
END:VCALENDAR