BEGIN:VCALENDAR
VERSION:2.0
PRODID:-//Neighborhood Council of Westchester/Playa - ECPv6.15.18//NONSGML v1.0//EN
CALSCALE:GREGORIAN
METHOD:PUBLISH
X-WR-CALNAME:Neighborhood Council of Westchester/Playa
X-ORIGINAL-URL:https://ncwpdr.org
X-WR-CALDESC:Events for Neighborhood Council of Westchester/Playa
REFRESH-INTERVAL;VALUE=DURATION:PT1H
X-Robots-Tag:noindex
X-PUBLISHED-TTL:PT1H
BEGIN:VTIMEZONE
TZID:America/Los_Angeles
BEGIN:DAYLIGHT
TZOFFSETFROM:-0800
TZOFFSETTO:-0700
TZNAME:PDT
DTSTART:20220313T100000
END:DAYLIGHT
BEGIN:STANDARD
TZOFFSETFROM:-0700
TZOFFSETTO:-0800
TZNAME:PST
DTSTART:20221106T090000
END:STANDARD
BEGIN:DAYLIGHT
TZOFFSETFROM:-0800
TZOFFSETTO:-0700
TZNAME:PDT
DTSTART:20230312T100000
END:DAYLIGHT
BEGIN:STANDARD
TZOFFSETFROM:-0700
TZOFFSETTO:-0800
TZNAME:PST
DTSTART:20231105T090000
END:STANDARD
BEGIN:DAYLIGHT
TZOFFSETFROM:-0800
TZOFFSETTO:-0700
TZNAME:PDT
DTSTART:20240310T100000
END:DAYLIGHT
BEGIN:STANDARD
TZOFFSETFROM:-0700
TZOFFSETTO:-0800
TZNAME:PST
DTSTART:20241103T090000
END:STANDARD
END:VTIMEZONE
BEGIN:VEVENT
DTSTART;TZID=America/Los_Angeles:20230315T193000
DTEND;TZID=America/Los_Angeles:20230315T213000
DTSTAMP:20260424T114329
CREATED:20230218T003835Z
LAST-MODIFIED:20230218T015518Z
UID:11451-1678908600-1678915800@ncwpdr.org
SUMMARY:Candidate Forum
DESCRIPTION:Meet the candidates at our in person Candidate Forum moderated by Dr. Michele Cooley-Strickland on Wednesday\, March 15\, 7:30-9:30pm at the LMU Macintosh Building (the big building facing Lincoln). Free parking after 7pm. \nOr join online:\nPlease click the link below to join the webinar:\nhttps://us02web.zoom.us/j/89191619828 \nOr by phone:\nCall 833-548-0282 or 699-444-9171\nWebinar ID: 891 9161 9828
URL:https://ncwpdr.org/event/candidate-forum-2/
LOCATION:LMU Macintosh Building\, Big Building facing Lincoln
CATEGORIES:Events,Meetings
ATTACH;FMTTYPE=image/png:https://ncwpdr.org/wp-content/uploads/2023/02/Candidate-Forum-4.png
END:VEVENT
END:VCALENDAR