BEGIN:VCALENDAR
VERSION:2.0
PRODID:-//Neighborhood Council of Westchester/Playa - ECPv6.15.18//NONSGML v1.0//EN
CALSCALE:GREGORIAN
METHOD:PUBLISH
X-WR-CALNAME:Neighborhood Council of Westchester/Playa
X-ORIGINAL-URL:https://ncwpdr.org
X-WR-CALDESC:Events for Neighborhood Council of Westchester/Playa
REFRESH-INTERVAL;VALUE=DURATION:PT1H
X-Robots-Tag:noindex
X-PUBLISHED-TTL:PT1H
BEGIN:VTIMEZONE
TZID:America/Los_Angeles
BEGIN:DAYLIGHT
TZOFFSETFROM:-0800
TZOFFSETTO:-0700
TZNAME:PDT
DTSTART:20210314T100000
END:DAYLIGHT
BEGIN:STANDARD
TZOFFSETFROM:-0700
TZOFFSETTO:-0800
TZNAME:PST
DTSTART:20211107T090000
END:STANDARD
BEGIN:DAYLIGHT
TZOFFSETFROM:-0800
TZOFFSETTO:-0700
TZNAME:PDT
DTSTART:20220313T100000
END:DAYLIGHT
BEGIN:STANDARD
TZOFFSETFROM:-0700
TZOFFSETTO:-0800
TZNAME:PST
DTSTART:20221106T090000
END:STANDARD
BEGIN:DAYLIGHT
TZOFFSETFROM:-0800
TZOFFSETTO:-0700
TZNAME:PDT
DTSTART:20230312T100000
END:DAYLIGHT
BEGIN:STANDARD
TZOFFSETFROM:-0700
TZOFFSETTO:-0800
TZNAME:PST
DTSTART:20231105T090000
END:STANDARD
END:VTIMEZONE
BEGIN:VEVENT
DTSTART;TZID=America/Los_Angeles:20220806T090000
DTEND;TZID=America/Los_Angeles:20220806T120000
DTSTAMP:20260424T192032
CREATED:20220729T172846Z
LAST-MODIFIED:20220729T172846Z
UID:10218-1659776400-1659787200@ncwpdr.org
SUMMARY:Westchester CA Team Challenge
DESCRIPTION:Westchester CA Team Challenge is gearing up for a half day of good old-fashioned fun on Saturday\, August 6 to raise funds for a local cause. We are asking neighbors to put together a group/team of 6-10 people to play 5 games on Drollinger Field at LMU – the recreation field above the parking lot. Cost to register a team is $300. Sponsorships are also available for $500. \nMore: https://www.westchestercateamchallenge.com/
URL:https://ncwpdr.org/event/westchester-ca-team-challenge/
LOCATION:LMU Drollinger Field
CATEGORIES:Events
ATTACH;FMTTYPE=image/jpeg:https://ncwpdr.org/wp-content/uploads/2022/07/westchester-team-challenge.jpg
END:VEVENT
END:VCALENDAR