BEGIN:VCALENDAR
VERSION:2.0
PRODID:-//Neighborhood Council of Westchester/Playa - ECPv6.15.18//NONSGML v1.0//EN
CALSCALE:GREGORIAN
METHOD:PUBLISH
X-ORIGINAL-URL:https://ncwpdr.org
X-WR-CALDESC:Events for Neighborhood Council of Westchester/Playa
REFRESH-INTERVAL;VALUE=DURATION:PT1H
X-Robots-Tag:noindex
X-PUBLISHED-TTL:PT1H
BEGIN:VTIMEZONE
TZID:America/Los_Angeles
BEGIN:DAYLIGHT
TZOFFSETFROM:-0800
TZOFFSETTO:-0700
TZNAME:PDT
DTSTART:20220313T100000
END:DAYLIGHT
BEGIN:STANDARD
TZOFFSETFROM:-0700
TZOFFSETTO:-0800
TZNAME:PST
DTSTART:20221106T090000
END:STANDARD
BEGIN:DAYLIGHT
TZOFFSETFROM:-0800
TZOFFSETTO:-0700
TZNAME:PDT
DTSTART:20230312T100000
END:DAYLIGHT
BEGIN:STANDARD
TZOFFSETFROM:-0700
TZOFFSETTO:-0800
TZNAME:PST
DTSTART:20231105T090000
END:STANDARD
BEGIN:DAYLIGHT
TZOFFSETFROM:-0800
TZOFFSETTO:-0700
TZNAME:PDT
DTSTART:20240310T100000
END:DAYLIGHT
BEGIN:STANDARD
TZOFFSETFROM:-0700
TZOFFSETTO:-0800
TZNAME:PST
DTSTART:20241103T090000
END:STANDARD
BEGIN:DAYLIGHT
TZOFFSETFROM:-0800
TZOFFSETTO:-0700
TZNAME:PDT
DTSTART:20250309T100000
END:DAYLIGHT
BEGIN:STANDARD
TZOFFSETFROM:-0700
TZOFFSETTO:-0800
TZNAME:PST
DTSTART:20251102T090000
END:STANDARD
BEGIN:DAYLIGHT
TZOFFSETFROM:-0800
TZOFFSETTO:-0700
TZNAME:PDT
DTSTART:20260308T100000
END:DAYLIGHT
BEGIN:STANDARD
TZOFFSETFROM:-0700
TZOFFSETTO:-0800
TZNAME:PST
DTSTART:20261101T090000
END:STANDARD
END:VTIMEZONE
BEGIN:VEVENT
DTSTART;TZID=America/Los_Angeles:20250920T090000
DTEND;TZID=America/Los_Angeles:20250920T120000
DTSTAMP:20260424T174330
CREATED:20250805T163227Z
LAST-MODIFIED:20250805T163227Z
UID:15077-1758358800-1758369600@ncwpdr.org
SUMMARY:Coastal Clean Up Day
DESCRIPTION:
URL:https://ncwpdr.org/event/coastal-clean-up-day/
LOCATION:Dockweiler Youth Center\, 12505 Vista Del Mar\, Playa Del Rey\, 90293
CATEGORIES:Events
ATTACH;FMTTYPE=image/jpeg:https://ncwpdr.org/wp-content/uploads/2025/08/2025-Coastal-Cleanup-Day-scaled-1.jpg
END:VEVENT
BEGIN:VEVENT
DTSTART;TZID=America/Los_Angeles:20250412T090000
DTEND;TZID=America/Los_Angeles:20250412T120000
DTSTAMP:20260424T174330
CREATED:20250225T191920Z
LAST-MODIFIED:20250225T191920Z
UID:14487-1744448400-1744459200@ncwpdr.org
SUMMARY:Kids Beach Clean Up
DESCRIPTION:
URL:https://ncwpdr.org/event/kids-beach-clean-up-2/
LOCATION:Dockweiler Youth Center\, 12505 Vista Del Mar\, Playa Del Rey\, 90293
CATEGORIES:Events
ATTACH;FMTTYPE=image/jpeg:https://ncwpdr.org/wp-content/uploads/2025/02/Kids-Beach-Cleanup-English-scaled-2.jpg
END:VEVENT
BEGIN:VEVENT
DTSTART;TZID=America/Los_Angeles:20230728T193000
DTEND;TZID=America/Los_Angeles:20230728T213000
DTSTAMP:20260424T174330
CREATED:20230727T184952Z
LAST-MODIFIED:20230727T184952Z
UID:12221-1690572600-1690579800@ncwpdr.org
SUMMARY:Beach Movie Nights
DESCRIPTION:Enjoy Family Friendly movie screenings on the sand\, by the waves and under the stars at the Dockweiler Youth Center Friday nights this summer.
URL:https://ncwpdr.org/event/beach-movie-nights/2023-07-28/
LOCATION:Dockweiler Youth Center\, 12505 Vista Del Mar\, Playa Del Rey\, 90293
CATEGORIES:Events
ATTACH;FMTTYPE=image/jpeg:https://ncwpdr.org/wp-content/uploads/2023/07/2023-Beach-Movie-Nights-1200.jpg
END:VEVENT
END:VCALENDAR