BEGIN:VCALENDAR
VERSION:2.0
PRODID:-//Neighborhood Council of Westchester/Playa - ECPv6.15.18//NONSGML v1.0//EN
CALSCALE:GREGORIAN
METHOD:PUBLISH
X-WR-CALNAME:Neighborhood Council of Westchester/Playa
X-ORIGINAL-URL:https://ncwpdr.org
X-WR-CALDESC:Events for Neighborhood Council of Westchester/Playa
REFRESH-INTERVAL;VALUE=DURATION:PT1H
X-Robots-Tag:noindex
X-PUBLISHED-TTL:PT1H
BEGIN:VTIMEZONE
TZID:America/Los_Angeles
BEGIN:DAYLIGHT
TZOFFSETFROM:-0800
TZOFFSETTO:-0700
TZNAME:PDT
DTSTART:20220313T100000
END:DAYLIGHT
BEGIN:STANDARD
TZOFFSETFROM:-0700
TZOFFSETTO:-0800
TZNAME:PST
DTSTART:20221106T090000
END:STANDARD
BEGIN:DAYLIGHT
TZOFFSETFROM:-0800
TZOFFSETTO:-0700
TZNAME:PDT
DTSTART:20230312T100000
END:DAYLIGHT
BEGIN:STANDARD
TZOFFSETFROM:-0700
TZOFFSETTO:-0800
TZNAME:PST
DTSTART:20231105T090000
END:STANDARD
BEGIN:DAYLIGHT
TZOFFSETFROM:-0800
TZOFFSETTO:-0700
TZNAME:PDT
DTSTART:20240310T100000
END:DAYLIGHT
BEGIN:STANDARD
TZOFFSETFROM:-0700
TZOFFSETTO:-0800
TZNAME:PST
DTSTART:20241103T090000
END:STANDARD
END:VTIMEZONE
BEGIN:VEVENT
DTSTART;TZID=America/Los_Angeles:20230128T130000
DTEND;TZID=America/Los_Angeles:20230128T160000
DTSTAMP:20260425T094419
CREATED:20230112T190520Z
LAST-MODIFIED:20230112T190520Z
UID:11226-1674910800-1674921600@ncwpdr.org
SUMMARY:Service Academy Day
DESCRIPTION:Students\, parents\, and educators are welcome!\nWe invite you to listen to speakers from the U.S. Air Force Academy\, U.S. Military Academy\, U.S. Naval Academy\, U.S. Coast Guard Academy\, U.S. Merchant Marie Academy\, parents\, diversity representatives\, current attendees and alumni from the Service Academies. In addition to a wonderful speaking program\, representatives from Southern California Congressional Offices will be available to answer all of your Academy related questions! \nQuestions? Contact Aurelia Friedman and Karen Calderon (323) 651-1040\nServiceAcademyNOM.Lieu@mail.house.gov\nMore info: https://lieu.house.gov/services/military-academy-nominations
URL:https://ncwpdr.org/event/service-academy-day/
LOCATION:DaVinci Schools\, 201 N. Douglas St.\, El Segundo\, 90245
CATEGORIES:Events
ATTACH;FMTTYPE=image/jpeg:https://ncwpdr.org/wp-content/uploads/2023/01/service-academy-day.jpg
END:VEVENT
END:VCALENDAR