BEGIN:VCALENDAR
VERSION:2.0
PRODID:-//Neighborhood Council of Westchester/Playa - ECPv6.15.18//NONSGML v1.0//EN
CALSCALE:GREGORIAN
METHOD:PUBLISH
X-ORIGINAL-URL:https://ncwpdr.org
X-WR-CALDESC:Events for Neighborhood Council of Westchester/Playa
REFRESH-INTERVAL;VALUE=DURATION:PT1H
X-Robots-Tag:noindex
X-PUBLISHED-TTL:PT1H
BEGIN:VTIMEZONE
TZID:America/Los_Angeles
BEGIN:DAYLIGHT
TZOFFSETFROM:-0800
TZOFFSETTO:-0700
TZNAME:PDT
DTSTART:20220313T100000
END:DAYLIGHT
BEGIN:STANDARD
TZOFFSETFROM:-0700
TZOFFSETTO:-0800
TZNAME:PST
DTSTART:20221106T090000
END:STANDARD
BEGIN:DAYLIGHT
TZOFFSETFROM:-0800
TZOFFSETTO:-0700
TZNAME:PDT
DTSTART:20230312T100000
END:DAYLIGHT
BEGIN:STANDARD
TZOFFSETFROM:-0700
TZOFFSETTO:-0800
TZNAME:PST
DTSTART:20231105T090000
END:STANDARD
BEGIN:DAYLIGHT
TZOFFSETFROM:-0800
TZOFFSETTO:-0700
TZNAME:PDT
DTSTART:20240310T100000
END:DAYLIGHT
BEGIN:STANDARD
TZOFFSETFROM:-0700
TZOFFSETTO:-0800
TZNAME:PST
DTSTART:20241103T090000
END:STANDARD
BEGIN:DAYLIGHT
TZOFFSETFROM:-0800
TZOFFSETTO:-0700
TZNAME:PDT
DTSTART:20250309T100000
END:DAYLIGHT
BEGIN:STANDARD
TZOFFSETFROM:-0700
TZOFFSETTO:-0800
TZNAME:PST
DTSTART:20251102T090000
END:STANDARD
BEGIN:DAYLIGHT
TZOFFSETFROM:-0800
TZOFFSETTO:-0700
TZNAME:PDT
DTSTART:20260308T100000
END:DAYLIGHT
BEGIN:STANDARD
TZOFFSETFROM:-0700
TZOFFSETTO:-0800
TZNAME:PST
DTSTART:20261101T090000
END:STANDARD
BEGIN:DAYLIGHT
TZOFFSETFROM:-0800
TZOFFSETTO:-0700
TZNAME:PDT
DTSTART:20270314T100000
END:DAYLIGHT
BEGIN:STANDARD
TZOFFSETFROM:-0700
TZOFFSETTO:-0800
TZNAME:PST
DTSTART:20271107T090000
END:STANDARD
END:VTIMEZONE
BEGIN:VEVENT
DTSTART;TZID=America/Los_Angeles:20260421T183000
DTEND;TZID=America/Los_Angeles:20260421T193000
DTSTAMP:20260423T104411
CREATED:20260416T150139Z
LAST-MODIFIED:20260417T002756Z
UID:15986-1776796200-1776799800@ncwpdr.org
SUMMARY:Community Outreach Meeting
DESCRIPTION:Outreach
URL:https://ncwpdr.org/event/community-outreach-meeting/
LOCATION:CD 11 Westchester District Office\, 7166 Manchester Ave\, Los Angeles\, 90045
CATEGORIES:Meetings
END:VEVENT
BEGIN:VEVENT
DTSTART;TZID=America/Los_Angeles:20250922T183000
DTEND;TZID=America/Los_Angeles:20250922T200000
DTSTAMP:20260423T104411
CREATED:20250914T230716Z
LAST-MODIFIED:20250919T180108Z
UID:15217-1758565800-1758571200@ncwpdr.org
SUMMARY:Government Affairs Committee Meeting
DESCRIPTION:
URL:https://ncwpdr.org/event/september-22-2025-government-affairs-committee-meeting/
LOCATION:CD 11 Westchester District Office\, 7166 Manchester Ave\, Los Angeles\, 90045
CATEGORIES:Meetings
ATTACH;FMTTYPE=image/png:https://ncwpdr.org/wp-content/uploads/2025/09/NCWP-Gov-City-Hall.png
END:VEVENT
BEGIN:VEVENT
DTSTART;TZID=America/Los_Angeles:20250513T183000
DTEND;TZID=America/Los_Angeles:20250513T190000
DTSTAMP:20260423T104411
CREATED:20250510T001043Z
LAST-MODIFIED:20250510T001043Z
UID:14821-1747161000-1747162800@ncwpdr.org
SUMMARY:Planning & Land Use Meeting
DESCRIPTION:There will be no May 2025 Meeting.
URL:https://ncwpdr.org/event/planning-land-use-meeting/
LOCATION:CD 11 Westchester District Office\, 7166 Manchester Ave\, Los Angeles\, 90045
END:VEVENT
BEGIN:VEVENT
DTSTART;TZID=America/Los_Angeles:20250406T100000
DTEND;TZID=America/Los_Angeles:20250406T130000
DTSTAMP:20260423T104411
CREATED:20250331T191003Z
LAST-MODIFIED:20250331T191003Z
UID:14652-1743933600-1743944400@ncwpdr.org
SUMMARY:Rain Barrel Giveaway
DESCRIPTION:Councilmember Traci Park is giving away free rain barrels at her Westchester office (7166 Manchester Ave) — come grab one while supplies last! It’s a simple\, eco-friendly way to keep your plants healthy and conserve water in our dry climate. Let’s make sustainability easy and local.
URL:https://ncwpdr.org/event/rain-barrel-giveaway/
LOCATION:CD 11 Westchester District Office\, 7166 Manchester Ave\, Los Angeles\, 90045
CATEGORIES:Events
ATTACH;FMTTYPE=image/jpeg:https://ncwpdr.org/wp-content/uploads/2025/03/2025-0406-rain-barrel.jpg
END:VEVENT
BEGIN:VEVENT
DTSTART;TZID=America/Los_Angeles:20250318T183000
DTEND;TZID=America/Los_Angeles:20250318T190000
DTSTAMP:20260423T104411
CREATED:20250312T181405Z
LAST-MODIFIED:20250312T181405Z
UID:14551-1742322600-1742324400@ncwpdr.org
SUMMARY:No PLUC Meeting Tonight - Also\, all future PLUC meetings moved to the 2nd Tuesday of each month
DESCRIPTION:
URL:https://ncwpdr.org/event/no-pluc-meeting-tonight-also-all-future-pluc-meetings-moved-to-the-2nd-tuesday-of-each-month/
LOCATION:CD 11 Westchester District Office\, 7166 Manchester Ave\, Los Angeles\, 90045
END:VEVENT
BEGIN:VEVENT
DTSTART;TZID=America/Los_Angeles:20250218T183000
DTEND;TZID=America/Los_Angeles:20250218T213000
DTSTAMP:20260423T104411
CREATED:20250214T034912Z
LAST-MODIFIED:20250214T034912Z
UID:14423-1739903400-1739914200@ncwpdr.org
SUMMARY:PLUC Committee Meeting
DESCRIPTION:Join us for presentations as follows: \n\n8501 Pershing Drive\, Playa Del Rey: Howe Mart Liquor Inc. – Presentation re: upgrade to full line of alcoholic beverages (Type 21) 6am – 12 am Daily\n5494 W Centinela LA 90045:  Presentation re:  existing retail cannabis business\n237  East Montreal St. LA 90293: Presentation re SFR development\n138 Culver Blvd.\, Playa Del Rey: Presentation re Edward Czuker – Legado Del Mar LLC Project
URL:https://ncwpdr.org/event/pluc-committee-meeting-3/
LOCATION:CD 11 Westchester District Office\, 7166 Manchester Ave\, Los Angeles\, 90045
END:VEVENT
BEGIN:VEVENT
DTSTART;TZID=America/Los_Angeles:20250121T183000
DTEND;TZID=America/Los_Angeles:20250121T203000
DTSTAMP:20260423T104411
CREATED:20250118T014835Z
LAST-MODIFIED:20250121T215436Z
UID:14339-1737484200-1737491400@ncwpdr.org
SUMMARY:PLUC Meeting-Cancelled
DESCRIPTION:Join us for a meeting to discuss the following issues: (1) 237 Montreal Street Development\, (2) 138 Culver Blvd./Czucker Project\,  (3) Presentation by Kimberly Fox re: Protecting Small Businesses as Mixed-Use Commercial Density is Built \nWe will meet Tuesday\, January 21\, 6:30pm at the Westchester Municipal Building\, 7166 Manchester.
URL:https://ncwpdr.org/event/pluc-meeting-4/
LOCATION:CD 11 Westchester District Office\, 7166 Manchester Ave\, Los Angeles\, 90045
CATEGORIES:Meetings
ATTACH;FMTTYPE=image/png:https://ncwpdr.org/wp-content/uploads/2025/01/PLUM-Mar-3.png
END:VEVENT
BEGIN:VEVENT
DTSTART;TZID=America/Los_Angeles:20241214T110000
DTEND;TZID=America/Los_Angeles:20241214T140000
DTSTAMP:20260423T104411
CREATED:20241212T220802Z
LAST-MODIFIED:20241212T220802Z
UID:14225-1734174000-1734184800@ncwpdr.org
SUMMARY:Better 11 Holiday Celebration
DESCRIPTION:RSVP: CD11RSVP@lacity.org
URL:https://ncwpdr.org/event/better-11-holiday-celebration/
LOCATION:CD 11 Westchester District Office\, 7166 Manchester Ave\, Los Angeles\, 90045
CATEGORIES:Events
ATTACH;FMTTYPE=image/jpeg:https://ncwpdr.org/wp-content/uploads/2024/12/park-party.jpg
END:VEVENT
BEGIN:VEVENT
DTSTART;TZID=America/Los_Angeles:20240521T183000
DTEND;TZID=America/Los_Angeles:20240521T200000
DTSTAMP:20260423T104411
CREATED:20240507T034140Z
LAST-MODIFIED:20240516T181355Z
UID:13607-1716316200-1716321600@ncwpdr.org
SUMMARY:PLUC Committee Meeting
DESCRIPTION:Join us regarding a follow-up presentation regarding the proposed development site located at 7027 Vista del Mar\, Playa del Rey Tuesday\, May 21\, 6:30 at 7166 W. Manchester Ave.
URL:https://ncwpdr.org/event/pluc-committee-meeting/
LOCATION:CD 11 Westchester District Office\, 7166 Manchester Ave\, Los Angeles\, 90045
CATEGORIES:Meetings
ATTACH;FMTTYPE=image/png:https://ncwpdr.org/wp-content/uploads/2024/05/PLUM-Mar-1.png
END:VEVENT
BEGIN:VEVENT
DTSTART;TZID=America/Los_Angeles:20231209T110000
DTEND;TZID=America/Los_Angeles:20231209T140000
DTSTAMP:20260423T104411
CREATED:20231204T201519Z
LAST-MODIFIED:20231204T201519Z
UID:12998-1702119600-1702130400@ncwpdr.org
SUMMARY:Holiday Celebration
DESCRIPTION:RSVP to CD11RSVP@lacity.org
URL:https://ncwpdr.org/event/holiday-celebration/
LOCATION:CD 11 Westchester District Office\, 7166 Manchester Ave\, Los Angeles\, 90045
CATEGORIES:Events
ATTACH;FMTTYPE=image/jpeg:https://ncwpdr.org/wp-content/uploads/2023/12/traci-holiday.jpg
END:VEVENT
END:VCALENDAR