BEGIN:VCALENDAR
VERSION:2.0
PRODID:-//Neighborhood Council of Westchester/Playa - ECPv6.15.18//NONSGML v1.0//EN
CALSCALE:GREGORIAN
METHOD:PUBLISH
X-WR-CALNAME:Neighborhood Council of Westchester/Playa
X-ORIGINAL-URL:https://ncwpdr.org
X-WR-CALDESC:Events for Neighborhood Council of Westchester/Playa
REFRESH-INTERVAL;VALUE=DURATION:PT1H
X-Robots-Tag:noindex
X-PUBLISHED-TTL:PT1H
BEGIN:VTIMEZONE
TZID:America/Los_Angeles
BEGIN:DAYLIGHT
TZOFFSETFROM:-0800
TZOFFSETTO:-0700
TZNAME:PDT
DTSTART:20200308T100000
END:DAYLIGHT
BEGIN:STANDARD
TZOFFSETFROM:-0700
TZOFFSETTO:-0800
TZNAME:PST
DTSTART:20201101T090000
END:STANDARD
BEGIN:DAYLIGHT
TZOFFSETFROM:-0800
TZOFFSETTO:-0700
TZNAME:PDT
DTSTART:20210314T100000
END:DAYLIGHT
BEGIN:STANDARD
TZOFFSETFROM:-0700
TZOFFSETTO:-0800
TZNAME:PST
DTSTART:20211107T090000
END:STANDARD
BEGIN:DAYLIGHT
TZOFFSETFROM:-0800
TZOFFSETTO:-0700
TZNAME:PDT
DTSTART:20220313T100000
END:DAYLIGHT
BEGIN:STANDARD
TZOFFSETFROM:-0700
TZOFFSETTO:-0800
TZNAME:PST
DTSTART:20221106T090000
END:STANDARD
BEGIN:DAYLIGHT
TZOFFSETFROM:-0800
TZOFFSETTO:-0700
TZNAME:PDT
DTSTART:20230312T100000
END:DAYLIGHT
BEGIN:STANDARD
TZOFFSETFROM:-0700
TZOFFSETTO:-0800
TZNAME:PST
DTSTART:20231105T090000
END:STANDARD
BEGIN:DAYLIGHT
TZOFFSETFROM:-0800
TZOFFSETTO:-0700
TZNAME:PDT
DTSTART:20240310T100000
END:DAYLIGHT
BEGIN:STANDARD
TZOFFSETFROM:-0700
TZOFFSETTO:-0800
TZNAME:PST
DTSTART:20241103T090000
END:STANDARD
END:VTIMEZONE
BEGIN:VEVENT
DTSTART;TZID=America/Los_Angeles:20231113T183000
DTEND;TZID=America/Los_Angeles:20231113T210000
DTSTAMP:20260424T051334
CREATED:20231018T222245Z
LAST-MODIFIED:20231110T202321Z
UID:12732-1699900200-1699909200@ncwpdr.org
SUMMARY:Government Affairs Committee Meeting
DESCRIPTION:
URL:https://ncwpdr.org/event/government-affairs-committee-meeting-november-13th-2023/
LOCATION:Westchester Municipal Building 7166 Manchester Avenue\, Westchester\, CA 90045\, 7166 Manchester Avenue\, Westchester\, CA\, 90045\, United States
CATEGORIES:Meetings
ATTACH;FMTTYPE=image/png:https://ncwpdr.org/wp-content/uploads/2023/10/NCWP-Gov-City-Hall-1.png
END:VEVENT
BEGIN:VEVENT
DTSTART;TZID=America/Los_Angeles:20231016T183000
DTEND;TZID=America/Los_Angeles:20231016T200000
DTSTAMP:20260424T051334
CREATED:20230927T052449Z
LAST-MODIFIED:20231013T182858Z
UID:12576-1697481000-1697486400@ncwpdr.org
SUMMARY:Government Affairs Committee Meeting
DESCRIPTION:Join us for the next NCWP Government Affairs Committee Meeting on October 16\, 6:30pm at the Westchester Municipal Building\, 7166 W. Manchester Ave. \nOn our agenda: \n\nDigital Advertising at Metro locations\nProposal for 90 Freeway
URL:https://ncwpdr.org/event/government-affairs-committee-meeting-2023-1016/
LOCATION:Westchester Municipal Building 7166 Manchester Avenue\, Westchester\, CA 90045\, 7166 Manchester Avenue\, Westchester\, CA\, 90045\, United States
CATEGORIES:Meetings
ATTACH;FMTTYPE=image/png:https://ncwpdr.org/wp-content/uploads/2023/09/NCWP-Gov-City-Hall.png
END:VEVENT
BEGIN:VEVENT
DTSTART;TZID=America/Los_Angeles:20230320T183000
DTEND;TZID=America/Los_Angeles:20230320T193000
DTSTAMP:20260424T051334
CREATED:20230301T024228Z
LAST-MODIFIED:20230317T070153Z
UID:11523-1679337000-1679340600@ncwpdr.org
SUMMARY:Government Affairs Committee Meeting - March 20\, 2023
DESCRIPTION:Join us for the next Government Affairs Committee Meeting March 20\, 6:30pm. \nWe will discuss sending a letter to our councilwoman about the proposed Scattergood Generating Station Green Hydrogen project. \nZoom Meeting/Webinar Online: https://us02web.zoom.us/j/84507734166 or By Telephone\nDial +1 (833) 548-0282 to Join the Meeting/Webinar\nThen Enter This Zoom Meeting/Webinar ID: 845 0773 4166 and Press #
URL:https://ncwpdr.org/event/government-affairs-committee-meeting-march-20-2023/
LOCATION:Zoom
CATEGORIES:Meetings
ATTACH;FMTTYPE=image/png:https://ncwpdr.org/wp-content/uploads/2023/02/NCWP-Gov-City-Hall-2.png
END:VEVENT
BEGIN:VEVENT
DTSTART;TZID=America/Los_Angeles:20220725T183000
DTEND;TZID=America/Los_Angeles:20220725T200000
DTSTAMP:20260424T051334
CREATED:20220719T024839Z
LAST-MODIFIED:20220721T220022Z
UID:10182-1658773800-1658779200@ncwpdr.org
SUMMARY:Government Affairs Committee Meeting
DESCRIPTION:Join us for the NCWP Government Affairs Committee Meeting on July 25\, 6:30pm \nZoom Meeting/Webinar Online: https://us02web.zoom.us/j/84507734166 or By Telephone\nDial +1 (833) 548-0282 to Join the Meeting/Webinar\nThen Enter This Zoom Meeting/Webinar ID: 845 0773 4166 and Press #
URL:https://ncwpdr.org/event/july-25-2022-government-affairs-committee/
LOCATION:Zoom
CATEGORIES:Meetings
ATTACH;FMTTYPE=image/png:https://ncwpdr.org/wp-content/uploads/2022/07/NCWP-Gov-City-Hall-July.png
END:VEVENT
BEGIN:VEVENT
DTSTART;TZID=America/Los_Angeles:20211025T183000
DTEND;TZID=America/Los_Angeles:20211025T203000
DTSTAMP:20260424T051334
CREATED:20211022T212140Z
LAST-MODIFIED:20211023T171933Z
UID:8356-1635186600-1635193800@ncwpdr.org
SUMMARY:Government Affairs Committee Meeting
DESCRIPTION:Join us for the NCWP Government Affairs Committee Meeting on October 25\, 6:30pm. \nJoin online: https://us02web.zoom.us/j/84507734166 \nor by phone: (669) 900-6833\, Zoom webinar: 845 0773 4166 and Press #
URL:https://ncwpdr.org/event/government-affairs-committee-meeting-2/
CATEGORIES:Meetings
ATTACH;FMTTYPE=image/png:https://ncwpdr.org/wp-content/uploads/2021/10/NCWP-gov-oct.png
END:VEVENT
BEGIN:VEVENT
DTSTART;TZID=America/Los_Angeles:20211018T183000
DTEND;TZID=America/Los_Angeles:20211018T203000
DTSTAMP:20260424T051334
CREATED:20211018T235339Z
LAST-MODIFIED:20211019T004547Z
UID:8285-1634581800-1634589000@ncwpdr.org
SUMMARY:October 18\, 2021 - CANCELED Government Affairs Committee meeting
DESCRIPTION:MEETING CANCELED
URL:https://ncwpdr.org/event/october-18-2021-canceled-government-affairs-committee-meeting/
CATEGORIES:Meetings
END:VEVENT
END:VCALENDAR