BEGIN:VCALENDAR
VERSION:2.0
PRODID:-//Neighborhood Council of Westchester/Playa - ECPv6.15.18//NONSGML v1.0//EN
CALSCALE:GREGORIAN
METHOD:PUBLISH
X-ORIGINAL-URL:https://ncwpdr.org
X-WR-CALDESC:Events for Neighborhood Council of Westchester/Playa
REFRESH-INTERVAL;VALUE=DURATION:PT1H
X-Robots-Tag:noindex
X-PUBLISHED-TTL:PT1H
BEGIN:VTIMEZONE
TZID:America/Los_Angeles
BEGIN:DAYLIGHT
TZOFFSETFROM:-0800
TZOFFSETTO:-0700
TZNAME:PDT
DTSTART:20200308T100000
END:DAYLIGHT
BEGIN:STANDARD
TZOFFSETFROM:-0700
TZOFFSETTO:-0800
TZNAME:PST
DTSTART:20201101T090000
END:STANDARD
BEGIN:DAYLIGHT
TZOFFSETFROM:-0800
TZOFFSETTO:-0700
TZNAME:PDT
DTSTART:20210314T100000
END:DAYLIGHT
BEGIN:STANDARD
TZOFFSETFROM:-0700
TZOFFSETTO:-0800
TZNAME:PST
DTSTART:20211107T090000
END:STANDARD
BEGIN:DAYLIGHT
TZOFFSETFROM:-0800
TZOFFSETTO:-0700
TZNAME:PDT
DTSTART:20220313T100000
END:DAYLIGHT
BEGIN:STANDARD
TZOFFSETFROM:-0700
TZOFFSETTO:-0800
TZNAME:PST
DTSTART:20221106T090000
END:STANDARD
END:VTIMEZONE
BEGIN:VEVENT
DTSTART;TZID=America/Los_Angeles:20211005T173000
DTEND;TZID=America/Los_Angeles:20211005T183000
DTSTAMP:20260424T163114
CREATED:20210930T210717Z
LAST-MODIFIED:20211004T193238Z
UID:8044-1633455000-1633458600@ncwpdr.org
SUMMARY:Budget and Finance Committee Meeting
DESCRIPTION:Come join the Neighborhood Council Budget & Finance Committee and learn about neighborhood purpose grants\, the council’s budget allocation and get your questions answered. \nJoin via Zoom:  https://us02web.zoom.us/j/96761319787 \nOr phone:  +16699006833\,\,96761319787#
URL:https://ncwpdr.org/event/budget-and-finance-committee-meeting-3/
CATEGORIES:Meetings
ATTACH;FMTTYPE=image/jpeg:https://ncwpdr.org/wp-content/uploads/2021/01/Bluff-creek-park-sculpture-The-Hometown-News-content-page-header-c.jpg
ORGANIZER;CN="Cord Thomas":MAILTO:cord.thomas.ncwp@gmail.com
END:VEVENT
END:VCALENDAR