BEGIN:VCALENDAR
VERSION:2.0
PRODID:-//Neighborhood Council of Westchester/Playa - ECPv6.15.18//NONSGML v1.0//EN
CALSCALE:GREGORIAN
METHOD:PUBLISH
X-ORIGINAL-URL:https://ncwpdr.org
X-WR-CALDESC:Events for Neighborhood Council of Westchester/Playa
REFRESH-INTERVAL;VALUE=DURATION:PT1H
X-Robots-Tag:noindex
X-PUBLISHED-TTL:PT1H
BEGIN:VTIMEZONE
TZID:America/Los_Angeles
BEGIN:DAYLIGHT
TZOFFSETFROM:-0800
TZOFFSETTO:-0700
TZNAME:PDT
DTSTART:20250309T100000
END:DAYLIGHT
BEGIN:STANDARD
TZOFFSETFROM:-0700
TZOFFSETTO:-0800
TZNAME:PST
DTSTART:20251102T090000
END:STANDARD
BEGIN:DAYLIGHT
TZOFFSETFROM:-0800
TZOFFSETTO:-0700
TZNAME:PDT
DTSTART:20260308T100000
END:DAYLIGHT
BEGIN:STANDARD
TZOFFSETFROM:-0700
TZOFFSETTO:-0800
TZNAME:PST
DTSTART:20261101T090000
END:STANDARD
BEGIN:DAYLIGHT
TZOFFSETFROM:-0800
TZOFFSETTO:-0700
TZNAME:PDT
DTSTART:20270314T100000
END:DAYLIGHT
BEGIN:STANDARD
TZOFFSETFROM:-0700
TZOFFSETTO:-0800
TZNAME:PST
DTSTART:20271107T090000
END:STANDARD
END:VTIMEZONE
BEGIN:VEVENT
DTSTART;TZID=America/Los_Angeles:20260106T180000
DTEND;TZID=America/Los_Angeles:20260106T183000
DTSTAMP:20260423T111109
CREATED:20260102T210918Z
LAST-MODIFIED:20260103T221241Z
UID:15552-1767722400-1767724200@ncwpdr.org
SUMMARY:Budget & Finance Committee meeting
DESCRIPTION:Please join us for our first Budget & Committee meeting of 2026.
URL:https://ncwpdr.org/event/budget-finance-committee-meeting-11/
LOCATION:Westchester Municipal Building 7166 Manchester Avenue\, Westchester\, CA 90045\, 7166 Manchester Avenue\, Westchester\, CA\, 90045\, United States
CATEGORIES:Meetings
ATTACH;FMTTYPE=image/png:https://ncwpdr.org/wp-content/uploads/2026/01/budget-meeting-3.png
END:VEVENT
BEGIN:VEVENT
DTSTART;TZID=America/Los_Angeles:20260106T183000
DTEND;TZID=America/Los_Angeles:20260106T210000
DTSTAMP:20260423T111109
CREATED:20251112T214048Z
LAST-MODIFIED:20260103T223634Z
UID:15497-1767724200-1767733200@ncwpdr.org
SUMMARY:Board Meeting
DESCRIPTION:Join us for the first NCWP Meeting of the year on Tuesday\, January 6\, 6;30pm at the Westchester Community Center\, 7166 Manchester Ave. \nPresentations on our agenda: \n\n12751 Millennium #5-185 – Seabutter (ZA-2025-5682-MPA)\n245 E Waterview St (DIR-2025-3181-CDP-MEL-HCA)
URL:https://ncwpdr.org/event/board-meeting-31/
LOCATION:Westchester Municipal Building 7166 Manchester Avenue\, Westchester\, CA 90045\, 7166 Manchester Avenue\, Westchester\, CA\, 90045\, United States
CATEGORIES:Meetings
ATTACH;FMTTYPE=image/png:https://ncwpdr.org/wp-content/uploads/2025/11/Meeting-Graphic-5.png
END:VEVENT
BEGIN:VEVENT
DTSTART;TZID=America/Los_Angeles:20260110T093000
DTEND;TZID=America/Los_Angeles:20260110T120000
DTSTAMP:20260423T111109
CREATED:20260103T222344Z
LAST-MODIFIED:20260103T222344Z
UID:15570-1768037400-1768046400@ncwpdr.org
SUMMARY:Ballona Creek Clean Up
DESCRIPTION:Saturday\, January 10\, 2026\n9:30 AM  12:00 PM\n\n\nMeet us in the dirt parking lot behind Local Market:303 Culver BoulevardPlaya del Rey\, CA\, 90293United States (map)
URL:https://ncwpdr.org/event/ballona-creek-clean-up/
CATEGORIES:Events
ATTACH;FMTTYPE=image/jpeg:https://ncwpdr.org/wp-content/uploads/2026/01/ballona-creek-clean-up-2026-0110.jpg
END:VEVENT
BEGIN:VEVENT
DTSTART;TZID=America/Los_Angeles:20260113T183000
DTEND;TZID=America/Los_Angeles:20260113T193000
DTSTAMP:20260423T111109
CREATED:20251203T035128Z
LAST-MODIFIED:20260114T015555Z
UID:15533-1768329000-1768332600@ncwpdr.org
SUMMARY:NCWP PLUC Meeting 6:30 PM/MEETING CANCELLED
DESCRIPTION:
URL:https://ncwpdr.org/event/ncwp-pluc-meeting-630-pm/
END:VEVENT
BEGIN:VEVENT
DTSTART;TZID=America/Los_Angeles:20260122T200000
DTEND;TZID=America/Los_Angeles:20260122T230000
DTSTAMP:20260423T111109
CREATED:20260103T221413Z
LAST-MODIFIED:20260103T221413Z
UID:15567-1769112000-1769122800@ncwpdr.org
SUMMARY:Volunteer for the Homeless Count
DESCRIPTION:Sign up to participate in the 2026 Homeless Count
URL:https://ncwpdr.org/event/volunteer-for-the-homeless-count/
CATEGORIES:Events
ATTACH;FMTTYPE=image/jpeg:https://ncwpdr.org/wp-content/uploads/2026/01/Volunteer-Registration-Bulletin-Board-2026.jpg
END:VEVENT
BEGIN:VEVENT
DTSTART;TZID=America/Los_Angeles:20260123T130000
DTEND;TZID=America/Los_Angeles:20260123T150000
DTSTAMP:20260423T111109
CREATED:20260103T222508Z
LAST-MODIFIED:20260103T222508Z
UID:15573-1769173200-1769180400@ncwpdr.org
SUMMARY:Lunar New Year Celebration
DESCRIPTION:
URL:https://ncwpdr.org/event/lunar-new-year-celebration/
LOCATION:Westchester Senior Center\, 8740 Lincoln Blvd.\, Westchester\, 90045
CATEGORIES:Events
ATTACH;FMTTYPE=image/jpeg:https://ncwpdr.org/wp-content/uploads/2026/01/2026-01-23-westchester-lunar-new-year.jpg
END:VEVENT
BEGIN:VEVENT
DTSTART;TZID=America/Los_Angeles:20260124T090000
DTEND;TZID=America/Los_Angeles:20260124T120000
DTSTAMP:20260423T111109
CREATED:20260121T181838Z
LAST-MODIFIED:20260121T181838Z
UID:15661-1769245200-1769256000@ncwpdr.org
SUMMARY:Shine LA: Ballona Creek Bike Path
DESCRIPTION:Register to Shine LA at the Ballona Creek Bike Path for Saturday\, January 24\, 9am-noon. Meet at the Milton Street Park Gate\, 12500 Milton Street.
URL:https://ncwpdr.org/event/shine-la-ballona-creek-bike-path/
CATEGORIES:Events
ATTACH;FMTTYPE=image/jpeg:https://ncwpdr.org/wp-content/uploads/2026/01/2026-01-24-shine-la-ballona.jpg
END:VEVENT
BEGIN:VEVENT
DTSTART;TZID=America/Los_Angeles:20260126T183000
DTEND;TZID=America/Los_Angeles:20260126T200000
DTSTAMP:20260423T111109
CREATED:20260123T195541Z
LAST-MODIFIED:20260123T195824Z
UID:15670-1769452200-1769457600@ncwpdr.org
SUMMARY:Community Plan Update Committee Meeting
DESCRIPTION:Join us for the next Community Plan Update Committee Meeting on Monday\, January 26\, 6:30pm at the Westchester Municipal Building\, 7166 Manchester Ave. \nWe plan to discuss the Community Plan Survey Responses.
URL:https://ncwpdr.org/event/community-plan-update-committee-meeting-5/
CATEGORIES:Meetings
ATTACH;FMTTYPE=image/png:https://ncwpdr.org/wp-content/uploads/2026/01/Update-1.png
END:VEVENT
BEGIN:VEVENT
DTSTART;TZID=America/Los_Angeles:20260128T100000
DTEND;TZID=America/Los_Angeles:20260128T143000
DTSTAMP:20260423T111109
CREATED:20260126T191243Z
LAST-MODIFIED:20260126T192724Z
UID:15685-1769594400-1769610600@ncwpdr.org
SUMMARY:Beyond Today: Planning for the Future
DESCRIPTION:Beyond Today: Planning for the Future Program on Saturday\, February 28th \nAre you prepared for the financial\, legal and health situations that may lie ahead? Join Westside Pacific Villages and the Woman’s Club of Playa Del Rey for an important educational program\, “Beyond Today: Planning for the Future” on Saturday\, February 28th from 10-2:30pm at Covenant Presbyterian Church\, 6323 W. 80th St. in Westchester. Learn from expert speakers on topics such as estate and retirement planning\, changes to Medicare\, reverse mortgages\, tips for aging in place\, and more. \n  \nContinental breakfast and lunch will be served. Seats are limited. Purchase tickets here\, or contact rsvp@thewpv.org or (310) 695-7030 by February 27th. Tickets are $40 or $50 at the door. All proceeds go to Westside Pacific Villages\, a 501(c)3 organization that helps adults stay living independently at home as long as possible.
URL:https://ncwpdr.org/event/beyond-today-planning-for-the-future/
CATEGORIES:Events
ATTACH;FMTTYPE=image/jpeg:https://ncwpdr.org/wp-content/uploads/2026/01/2026-01-28.jpg
END:VEVENT
END:VCALENDAR