BEGIN:VCALENDAR
VERSION:2.0
PRODID:-//Neighborhood Council of Westchester/Playa - ECPv6.15.18//NONSGML v1.0//EN
CALSCALE:GREGORIAN
METHOD:PUBLISH
X-ORIGINAL-URL:https://ncwpdr.org
X-WR-CALDESC:Events for Neighborhood Council of Westchester/Playa
REFRESH-INTERVAL;VALUE=DURATION:PT1H
X-Robots-Tag:noindex
X-PUBLISHED-TTL:PT1H
BEGIN:VTIMEZONE
TZID:America/Los_Angeles
BEGIN:DAYLIGHT
TZOFFSETFROM:-0800
TZOFFSETTO:-0700
TZNAME:PDT
DTSTART:20240310T100000
END:DAYLIGHT
BEGIN:STANDARD
TZOFFSETFROM:-0700
TZOFFSETTO:-0800
TZNAME:PST
DTSTART:20241103T090000
END:STANDARD
BEGIN:DAYLIGHT
TZOFFSETFROM:-0800
TZOFFSETTO:-0700
TZNAME:PDT
DTSTART:20250309T100000
END:DAYLIGHT
BEGIN:STANDARD
TZOFFSETFROM:-0700
TZOFFSETTO:-0800
TZNAME:PST
DTSTART:20251102T090000
END:STANDARD
BEGIN:DAYLIGHT
TZOFFSETFROM:-0800
TZOFFSETTO:-0700
TZNAME:PDT
DTSTART:20260308T100000
END:DAYLIGHT
BEGIN:STANDARD
TZOFFSETFROM:-0700
TZOFFSETTO:-0800
TZNAME:PST
DTSTART:20261101T090000
END:STANDARD
END:VTIMEZONE
BEGIN:VEVENT
DTSTART;TZID=America/Los_Angeles:20251202T183000
DTEND;TZID=America/Los_Angeles:20251202T210000
DTSTAMP:20260423T124541
CREATED:20241210T191252Z
LAST-MODIFIED:20251201T225144Z
UID:14224-1764700200-1764709200@ncwpdr.org
SUMMARY:Board Meeting-Cancelled
DESCRIPTION:
URL:https://ncwpdr.org/event/board-meeting-2025-12-02/
LOCATION:Westchester Municipal Building 7166 Manchester Avenue\, Westchester\, CA 90045\, 7166 Manchester Avenue\, Westchester\, CA\, 90045\, United States
CATEGORIES:Meetings
ATTACH;FMTTYPE=image/png:https://ncwpdr.org/wp-content/uploads/2024/12/Meeting-Graphic-4.png
END:VEVENT
BEGIN:VEVENT
DTSTART;TZID=America/Los_Angeles:20251203T150000
DTEND;TZID=America/Los_Angeles:20251203T200000
DTSTAMP:20260423T124541
CREATED:20251121T004751Z
LAST-MODIFIED:20251121T004751Z
UID:15521-1764774000-1764792000@ncwpdr.org
SUMMARY:Watch for Santa on the LAPD Sleigh
DESCRIPTION:
URL:https://ncwpdr.org/event/watch-for-santa-on-the-lapd-sleigh/
CATEGORIES:Events
ATTACH;FMTTYPE=image/png:https://ncwpdr.org/wp-content/uploads/2025/11/ncwp-santa.png
END:VEVENT
BEGIN:VEVENT
DTSTART;TZID=America/Los_Angeles:20251209T183000
DTEND;TZID=America/Los_Angeles:20251209T200000
DTSTAMP:20260423T124541
CREATED:20251203T034957Z
LAST-MODIFIED:20251203T034957Z
UID:15531-1765305000-1765310400@ncwpdr.org
SUMMARY:NCWP PLUC Meeting - NO MEETING IN DECEMBER
DESCRIPTION:
URL:https://ncwpdr.org/event/ncwp-pluc-meeting-no-meeting-in-december/
END:VEVENT
BEGIN:VEVENT
DTSTART;TZID=America/Los_Angeles:20251213T090000
DTEND;TZID=America/Los_Angeles:20251213T130000
DTSTAMP:20260423T124541
CREATED:20251031T190200Z
LAST-MODIFIED:20251031T190200Z
UID:15427-1765616400-1765630800@ncwpdr.org
SUMMARY:Winterfest
DESCRIPTION:Winterfest is a free\, family-friendly celebration that brings neighbors together to kick off the holiday season. This year’s festivities will include a skate jam\, a real snow mound\, arts and crafts\, holiday treats\, pancakes\, breakfast\, and much more. It’s a joyful day of community spirit\, fun\, and togetherness. We are seeking local partners to help bring the magic of Winterfest to life. Sponsorships will directly support event activities\, supplies\, and entertainment for families and children in our community.
URL:https://ncwpdr.org/event/winterfest/
LOCATION:Westchester Park\, 8740 Lincoln Blvd
CATEGORIES:Events
ATTACH;FMTTYPE=image/jpeg:https://ncwpdr.org/wp-content/uploads/2025/10/WFsavethedate-1.jpg
END:VEVENT
END:VCALENDAR