BEGIN:VCALENDAR
VERSION:2.0
PRODID:-//Neighborhood Council of Westchester/Playa - ECPv6.15.18//NONSGML v1.0//EN
CALSCALE:GREGORIAN
METHOD:PUBLISH
X-ORIGINAL-URL:https://ncwpdr.org
X-WR-CALDESC:Events for Neighborhood Council of Westchester/Playa
REFRESH-INTERVAL;VALUE=DURATION:PT1H
X-Robots-Tag:noindex
X-PUBLISHED-TTL:PT1H
BEGIN:VTIMEZONE
TZID:America/Los_Angeles
BEGIN:DAYLIGHT
TZOFFSETFROM:-0800
TZOFFSETTO:-0700
TZNAME:PDT
DTSTART:20240310T100000
END:DAYLIGHT
BEGIN:STANDARD
TZOFFSETFROM:-0700
TZOFFSETTO:-0800
TZNAME:PST
DTSTART:20241103T090000
END:STANDARD
BEGIN:DAYLIGHT
TZOFFSETFROM:-0800
TZOFFSETTO:-0700
TZNAME:PDT
DTSTART:20250309T100000
END:DAYLIGHT
BEGIN:STANDARD
TZOFFSETFROM:-0700
TZOFFSETTO:-0800
TZNAME:PST
DTSTART:20251102T090000
END:STANDARD
BEGIN:DAYLIGHT
TZOFFSETFROM:-0800
TZOFFSETTO:-0700
TZNAME:PDT
DTSTART:20260308T100000
END:DAYLIGHT
BEGIN:STANDARD
TZOFFSETFROM:-0700
TZOFFSETTO:-0800
TZNAME:PST
DTSTART:20261101T090000
END:STANDARD
END:VTIMEZONE
BEGIN:VEVENT
DTSTART;TZID=America/Los_Angeles:20251104T180000
DTEND;TZID=America/Los_Angeles:20251104T183000
DTSTAMP:20260423T141935
CREATED:20251104T171534Z
LAST-MODIFIED:20251104T171534Z
UID:15447-1762279200-1762281000@ncwpdr.org
SUMMARY:Budget & Finance Committee Meeting
DESCRIPTION:Join us for the NCWP Budget & Finance Committee Meeting on Tuesday\, November 4\, 6pm at the Westchester Municipal Building\, 7166 Manchester Ave.
URL:https://ncwpdr.org/event/budget-finance-committee-meeting-10/
LOCATION:Westchester Municipal Building 7166 Manchester Avenue\, Westchester\, CA 90045\, 7166 Manchester Avenue\, Westchester\, CA\, 90045\, United States
CATEGORIES:Meetings
ATTACH;FMTTYPE=image/png:https://ncwpdr.org/wp-content/uploads/2025/11/budget-meeting-12.png
END:VEVENT
BEGIN:VEVENT
DTSTART;TZID=America/Los_Angeles:20251104T183000
DTEND;TZID=America/Los_Angeles:20251104T210000
DTSTAMP:20260423T141935
CREATED:20241210T191252Z
LAST-MODIFIED:20251031T162007Z
UID:14222-1762281000-1762290000@ncwpdr.org
SUMMARY:Board Meeting
DESCRIPTION:Join us for the next meeting of the NCWP on Tuesday\, November 4\, 2025\, 6:30pm.
URL:https://ncwpdr.org/event/board-meeting-2025-11-04/
LOCATION:Westchester Municipal Building 7166 Manchester Avenue\, Westchester\, CA 90045\, 7166 Manchester Avenue\, Westchester\, CA\, 90045\, United States
CATEGORIES:Meetings
ATTACH;FMTTYPE=image/png:https://ncwpdr.org/wp-content/uploads/2024/12/Meeting-Graphic-25-1.png
END:VEVENT
BEGIN:VEVENT
DTSTART;TZID=America/Los_Angeles:20251108T110000
DTEND;TZID=America/Los_Angeles:20251108T140000
DTSTAMP:20260423T141935
CREATED:20251031T162518Z
LAST-MODIFIED:20251031T162630Z
UID:15401-1762599600-1762610400@ncwpdr.org
SUMMARY:West LA NC Summit
DESCRIPTION:Board of Neighborhood Commissioners Randell Erving invites you to our West LA NC Summit—an afternoon of conversation\, connection\, and community. \n📅 Date: Saturday November 8\, 2025\n🕖 Time: 11:00am – 2:00pm\n📍 Location: 11430 Woodbine Ave.\, Los Angeles\, CA 90066\nAt the Summit you will have a chance to engage in discussion with LA City Leaders and Departments including: \nMayor Karen Bass\nDepartment of Neighborhood Empowerment General Manager Carmen Chang\nLAFD Leadership\nLAPD Leadership\nDepartment of Public Works\nThe Office of the City Clerk (NC Funding & Elections) \nIn addition to other featured guests. \nWe encourage folks to 👉 RSVP here: https://www.eventbrite.com/e/west-la-neighborhood-council-summit-tickets-1612044070209
URL:https://ncwpdr.org/event/15401/
LOCATION:11430 Woodbine Ave\, 11430 Woodbine Ave\, Los Angeles\, 90066
CATEGORIES:Events
ATTACH;FMTTYPE=image/jpeg:https://ncwpdr.org/wp-content/uploads/2025/10/West-LA-NC-Summit-Graphic-2.jpg
END:VEVENT
BEGIN:VEVENT
DTSTART;TZID=America/Los_Angeles:20251108T150000
DTEND;TZID=America/Los_Angeles:20251108T163000
DTSTAMP:20260423T141935
CREATED:20251105T193504Z
LAST-MODIFIED:20251105T193504Z
UID:15467-1762614000-1762619400@ncwpdr.org
SUMMARY:Conversation with Veterans
DESCRIPTION:Join Congressman Ted Lieu for a virtual community forum aimed at establishing a greater understanding between local veterans and the friends and neighbors for whom they served.
URL:https://ncwpdr.org/event/conversation-with-veterans/
CATEGORIES:Events
ATTACH;FMTTYPE=image/jpeg:https://ncwpdr.org/wp-content/uploads/2025/11/Conversation-with-veterans.jpg
END:VEVENT
BEGIN:VEVENT
DTSTART;TZID=America/Los_Angeles:20251110T183000
DTEND;TZID=America/Los_Angeles:20251110T200000
DTSTAMP:20260423T141935
CREATED:20251105T190547Z
LAST-MODIFIED:20251107T225256Z
UID:15464-1762799400-1762804800@ncwpdr.org
SUMMARY:Outreach Committee Meeting
DESCRIPTION:The NCWP Outreach Committee will meet Monday\, November 10\, 2025\, 6:30pm at the Westchester Municipal Building\, 7166 Manchester Avenue. \nWe plan to review 2025 events\, plan for 2026\, discuss the Adopt-a-Park program and more. \nJoin us!
URL:https://ncwpdr.org/event/outreach-committee-meeting-5/
LOCATION:Westchester Municipal Building 7166 Manchester Avenue\, Westchester\, CA 90045\, 7166 Manchester Avenue\, Westchester\, CA\, 90045\, United States
CATEGORIES:Meetings
ATTACH;FMTTYPE=image/png:https://ncwpdr.org/wp-content/uploads/2025/11/Outreach-meeting.png
END:VEVENT
BEGIN:VEVENT
DTSTART;TZID=America/Los_Angeles:20251111T183000
DTEND;TZID=America/Los_Angeles:20251111T200000
DTSTAMP:20260423T141935
CREATED:20251107T221833Z
LAST-MODIFIED:20251107T231317Z
UID:15487-1762885800-1762891200@ncwpdr.org
SUMMARY:Planning and Land Use Committee Meeting
DESCRIPTION:Join us for the next NCWP Planning and Land Use Committee Meeting November 11\, 6:30pm at the Westchester Municipal Building\, 7166 Manchester Ave. \nOn ou agenda: \n\nPresentation by Joseph Spierer Architects re: 245 E Waterview Street\, Playa del Rey Vote to approve\, modify\, deny\nPresentation: Seabutter/Playa Vista (Sushi Restaurant)\nVote to approve\, modify\, deny\nLAX Sign District Presentation
URL:https://ncwpdr.org/event/planning-and-land-use-committee-meeting-13/
LOCATION:Westchester Municipal Building 7166 Manchester Avenue\, Westchester\, CA 90045\, 7166 Manchester Avenue\, Westchester\, CA\, 90045\, United States
CATEGORIES:Meetings
ATTACH;FMTTYPE=image/png:https://ncwpdr.org/wp-content/uploads/2025/11/PLUM-25-3-1.png
END:VEVENT
BEGIN:VEVENT
DTSTART;TZID=America/Los_Angeles:20251115T110000
DTEND;TZID=America/Los_Angeles:20251115T150000
DTSTAMP:20260423T141935
CREATED:20251104T230245Z
LAST-MODIFIED:20251114T224303Z
UID:15460-1763204400-1763218800@ncwpdr.org
SUMMARY:LAPD 100-Year Celebration-Cancelled
DESCRIPTION:The event begins with a program in front of the station at 11:00 AM. After the program (around 11:45 AM)\, it will shift to the back of the station for the open house and conclude at approximately 3:00 PM.
URL:https://ncwpdr.org/event/lapd-100-year-celebration/
CATEGORIES:Events
ATTACH;FMTTYPE=image/jpeg:https://ncwpdr.org/wp-content/uploads/2025/11/lapd-pacific-100-years.jpeg
END:VEVENT
BEGIN:VEVENT
DTSTART;TZID=America/Los_Angeles:20251123T100000
DTEND;TZID=America/Los_Angeles:20251123T150000
DTSTAMP:20260423T141935
CREATED:20251031T163731Z
LAST-MODIFIED:20251114T225340Z
UID:15408-1763892000-1763910000@ncwpdr.org
SUMMARY:Woman’s Club of Playa del Rey Makers’ Market
DESCRIPTION:Join the Woman’s Club of Playa del Rey for their annual Makers’ Market on Saturday\, November 23 from 10 am to 3 pm! Guests can enjoy shopping for the holidays at more than 60 vendor booths featuring handcrafted items\, as well as a raffle\, home-baked goods and live music. Don’t forget your non-perishable food item donation to benefit the Food Pantry\, LAX! The event is held in the parking lot of the group’s clubhouse at 8039 W. Manchester Ave. in Playa del Rey. The event helps raise funds for the Woman’s Club Scholarship Program.
URL:https://ncwpdr.org/event/womans-club-of-playa-del-rey-makers-market/
LOCATION:Woman’s Club of Playa Del Rey\, 8039 W. Manchester Ave\, Playa Del Rey
CATEGORIES:Events
ATTACH;FMTTYPE=image/jpeg:https://ncwpdr.org/wp-content/uploads/2025/10/makers-postponed.jpg
END:VEVENT
END:VCALENDAR