BEGIN:VCALENDAR
VERSION:2.0
PRODID:-//Neighborhood Council of Westchester/Playa - ECPv6.15.18//NONSGML v1.0//EN
CALSCALE:GREGORIAN
METHOD:PUBLISH
X-ORIGINAL-URL:https://ncwpdr.org
X-WR-CALDESC:Events for Neighborhood Council of Westchester/Playa
REFRESH-INTERVAL;VALUE=DURATION:PT1H
X-Robots-Tag:noindex
X-PUBLISHED-TTL:PT1H
BEGIN:VTIMEZONE
TZID:America/Los_Angeles
BEGIN:DAYLIGHT
TZOFFSETFROM:-0800
TZOFFSETTO:-0700
TZNAME:PDT
DTSTART:20240310T100000
END:DAYLIGHT
BEGIN:STANDARD
TZOFFSETFROM:-0700
TZOFFSETTO:-0800
TZNAME:PST
DTSTART:20241103T090000
END:STANDARD
BEGIN:DAYLIGHT
TZOFFSETFROM:-0800
TZOFFSETTO:-0700
TZNAME:PDT
DTSTART:20250309T100000
END:DAYLIGHT
BEGIN:STANDARD
TZOFFSETFROM:-0700
TZOFFSETTO:-0800
TZNAME:PST
DTSTART:20251102T090000
END:STANDARD
BEGIN:DAYLIGHT
TZOFFSETFROM:-0800
TZOFFSETTO:-0700
TZNAME:PDT
DTSTART:20260308T100000
END:DAYLIGHT
BEGIN:STANDARD
TZOFFSETFROM:-0700
TZOFFSETTO:-0800
TZNAME:PST
DTSTART:20261101T090000
END:STANDARD
END:VTIMEZONE
BEGIN:VEVENT
DTSTART;TZID=America/Los_Angeles:20251004T130000
DTEND;TZID=America/Los_Angeles:20251004T160000
DTSTAMP:20260423T155422
CREATED:20251001T173849Z
LAST-MODIFIED:20251001T173849Z
UID:15277-1759582800-1759593600@ncwpdr.org
SUMMARY:STEM Expo
DESCRIPTION:Loyola Marymount University\, in partnership with the International Council on Systems Engineering (INCOSE) Los Angeles\, presents its second annual STEM Expo on Saturday\, Oct. 4\, 2025 on the Westchester campus. \nFree and open to the public\, LMU’s STEM Expo will gather science\, technology\, and space enthusiasts from the community for hands-on learning about space travel and exploration geared towards K-12 students. The event will feature robotics and rocket launch activities\, a Mars Rover “Museum” and Landing Site Model\, Mars Rover & ISS Docking PC Simulations\, a tour of LMU’s science and engineering labs\, and a raffle with STEM-related prizes. \nINCOSE\, a not-for-profit membership organization\, connects systems engineering professionals with professional development opportunities. The INCOSE-LA Chapter is one of the largest globally with 470+ members from over 40 organizations. \nWHAT: LMU presents its annual STEM Expo\, a free\, hands-on event to engage K-12 students interested in STEM. \nWHEN: Saturday\, Oct. 4\, 2025\, from 1 p.m. to 4 p.m. \nWHERE: Loyola Marymount University\, Featherston Life Sciences Building\, Hannon Courtyard\, 1 LMU Drive\, Los Angeles\, CA 90045 \nMORE INFO: Guests can find more details and register by clicking the link.
URL:https://ncwpdr.org/event/stem-expo/
LOCATION:LMU\, 1 LMU Drive\, Westchester
CATEGORIES:Events
ATTACH;FMTTYPE=image/jpeg:https://ncwpdr.org/wp-content/uploads/2025/10/Lmu-stem-expo.jpg
END:VEVENT
BEGIN:VEVENT
DTSTART;TZID=America/Los_Angeles:20251007T183000
DTEND;TZID=America/Los_Angeles:20251007T210000
DTSTAMP:20260423T155422
CREATED:20241210T191252Z
LAST-MODIFIED:20251003T190154Z
UID:14221-1759861800-1759870800@ncwpdr.org
SUMMARY:Board Meeting
DESCRIPTION:Join us for the next NCWP Meeting on Tuesday\, October 7\, 6:30pm at the Westchester Municipal Building\, 7166 Manchester Ave. \nPlease join us for a presentation on the ATMP Roadway Improvements with updated project information from Amy Imamura\, PSHR-SCP\, LAWA\, Director of Capital Program Outreach & Engagement Airport Development Group. \nThe ATMP Roadway Improvements webpage with updated project information is now live on the LAWA website: https://www.lawa.org/transforminglax/projects/atmp-roadways. \nThe webpage includes the PowerPoint presentation we’ve provided to several community groups\, interactive walkthrough video simulations\, FAQs\, and access to live LAX construction alerts.
URL:https://ncwpdr.org/event/board-meeting-2025-10-07/
LOCATION:Westchester Municipal Building 7166 Manchester Avenue\, Westchester\, CA 90045\, 7166 Manchester Avenue\, Westchester\, CA\, 90045\, United States
CATEGORIES:Meetings
ATTACH;FMTTYPE=image/png:https://ncwpdr.org/wp-content/uploads/2024/12/Meeting-Graphic-6.png
END:VEVENT
BEGIN:VEVENT
DTSTART;TZID=America/Los_Angeles:20251008T090000
DTEND;TZID=America/Los_Angeles:20251008T110000
DTSTAMP:20260423T155422
CREATED:20251003T220619Z
LAST-MODIFIED:20251003T220619Z
UID:15311-1759914000-1759921200@ncwpdr.org
SUMMARY:Coffee with a Cop
DESCRIPTION:
URL:https://ncwpdr.org/event/coffee-with-a-cop/
LOCATION:Starbucks-Century Blvd\, 5301 W. Century Blvd\, Westchester\, 90045
CATEGORIES:Events
ATTACH;FMTTYPE=image/png:https://ncwpdr.org/wp-content/uploads/2025/10/coffee-cop-ncwp.png
END:VEVENT
BEGIN:VEVENT
DTSTART;TZID=America/Los_Angeles:20251008T183000
DTEND;TZID=America/Los_Angeles:20251008T200000
DTSTAMP:20260423T155422
CREATED:20251001T173513Z
LAST-MODIFIED:20251001T173513Z
UID:15273-1759948200-1759953600@ncwpdr.org
SUMMARY:Playa Del Rey Town Hall
DESCRIPTION:Playa del Rey\, you’re next in the CD11 town hall tour! We are looking forward to getting together to talk about homelessness\, public safety\, our illegal bonfire beach task force\, updates on density and development\, traffic and parking enforcement on Vista del Mar\, plus any other local issues on your mind. Please register HERE and we look forward to seeing you on October 8!
URL:https://ncwpdr.org/event/playa-del-rey-town-hall/
LOCATION:Westchester Elk’s Lodge\, 8025 W Manchester Ave\, Playa Del Rey\, 90293
CATEGORIES:Events
ATTACH;FMTTYPE=image/jpeg:https://ncwpdr.org/wp-content/uploads/2025/10/playa-del-rey-town-hall.jpg
END:VEVENT
BEGIN:VEVENT
DTSTART;TZID=America/Los_Angeles:20251009T120000
DTEND;TZID=America/Los_Angeles:20251009T130000
DTSTAMP:20260423T155422
CREATED:20250912T201951Z
LAST-MODIFIED:20250912T201951Z
UID:15199-1760011200-1760014800@ncwpdr.org
SUMMARY:Senior Services Day
DESCRIPTION:Senior Services Day – Please join Los Angeles City Attorney Hydee Feldstein Soto and Councilmember Park for Senior Services Day on Thursday\, October 9\, 2025\, from 12PM to 1PM at the Westchester Senior Center. This event is designed to connect older adults and their caregivers with information on aging services and resources available in Los Angeles. Participants can learn about services offered by the city\, county\, and local nonprofits\, and potentially qualify for benefits\, such as free Metro rides through programs like the LIFE Program.
URL:https://ncwpdr.org/event/senior-services-day/
LOCATION:Westchester Senior Center\, 8740 Lincoln Blvd.\, Westchester\, 90045
CATEGORIES:Events
ATTACH;FMTTYPE=image/jpeg:https://ncwpdr.org/wp-content/uploads/2025/09/Senior-Services-Day-1200.jpg
END:VEVENT
BEGIN:VEVENT
DTSTART;TZID=America/Los_Angeles:20251011T160000
DTEND;TZID=America/Los_Angeles:20251011T200000
DTSTAMP:20260423T155422
CREATED:20250805T163755Z
LAST-MODIFIED:20250805T163755Z
UID:15086-1760198400-1760212800@ncwpdr.org
SUMMARY:Second Saturday Stroll
DESCRIPTION:You’re invited to a new Westchester event: the Second Saturday Stroll! \nMark your calendars for August 9\, September 13 and October 11 from 4-8 pm as local leaders launch a community summer series designed to bring neighbors together for art\, music\, food and fun! This celebration on 87th Street in the Westchester Triangle will feature live performances\, interactive art\, and great local bites\, while shining a spotlight on the incredible businesses in and around the Westchester Triangle!
URL:https://ncwpdr.org/event/second-saturday-stroll/2025-10-11/
CATEGORIES:Events
ATTACH;FMTTYPE=image/jpeg:https://ncwpdr.org/wp-content/uploads/2025/08/Second-Saturday-Stroll-7.16.jpg
END:VEVENT
BEGIN:VEVENT
DTSTART;TZID=America/Los_Angeles:20251014T183000
DTEND;TZID=America/Los_Angeles:20251014T200000
DTSTAMP:20260423T155422
CREATED:20250714T214626Z
LAST-MODIFIED:20251006T182917Z
UID:15014-1760466600-1760472000@ncwpdr.org
SUMMARY:Planning and Land Use Committee Meeting
DESCRIPTION:Join us for presentations by St. Anastasia School\, LAX and the developer of the 9000 Airport site (Hertz Facility). We will meet Tuesday\, October 14\, 6:30pm at the Westchester Municipal Building\, 7166 Manchester Ave.
URL:https://ncwpdr.org/event/planning-and-land-use-committee-meeting-12/
CATEGORIES:Meetings
ATTACH;FMTTYPE=image/png:https://ncwpdr.org/wp-content/uploads/2025/07/PLUM-25-2.png
END:VEVENT
BEGIN:VEVENT
DTSTART;TZID=America/Los_Angeles:20251018T200000
DTEND;TZID=America/Los_Angeles:20251018T200000
DTSTAMP:20260423T155422
CREATED:20251018T000418Z
LAST-MODIFIED:20251018T000418Z
UID:15359-1760817600-1760817600@ncwpdr.org
SUMMARY:Kids Halloween Scary Story Contest at The Book Jewel
DESCRIPTION:Ready to write the next great horror story that would make R.l. Stine and Mary Shelley shiver? Westchester’s favorite independent bookstore\, The Book Jewel\, is inviting the community to participate in its annual Halloween-themed Scary Story Contest. Aspiring writers (ages 6-13) are asked to submit their best original weird tales to the shop by October 18 at 8 p.m. Stories should be scary\, yet family-appropriate\, and be five minutes or less when read aloud. Participants must be available to share their creative fiction at The Book Jewel during its authors’ reading night on October 25 at noon. A gift card will be awarded to the contest winners. The shop is located at 6259 W. 87th St. in Westchester. More details are available at thebookjewel.com.
URL:https://ncwpdr.org/event/kids-halloween-scary-story-contest-at-the-book-jewel/
LOCATION:Book Jewel\, 6259 W. 87th St\, Westchester
CATEGORIES:Events
ATTACH;FMTTYPE=image/jpeg:https://ncwpdr.org/wp-content/uploads/2025/10/Book-Jewel-Halloween.jpg
END:VEVENT
BEGIN:VEVENT
DTSTART;TZID=America/Los_Angeles:20251021T183000
DTEND;TZID=America/Los_Angeles:20251021T200000
DTSTAMP:20260423T155422
CREATED:20251017T181353Z
LAST-MODIFIED:20251017T234156Z
UID:15341-1761071400-1761076800@ncwpdr.org
SUMMARY:Public Safety Committee Meeting
DESCRIPTION:Join us for the Public Safety Meeting for the Neighborhood Council of Westchester / Playa on Tuesday 10/21/25 as we discuss all things relevant to Public Safety in our area\, Council District 11 and Los Angeles.
URL:https://ncwpdr.org/event/public-safety-committee-meeting-16/
LOCATION:Airport Police Community Room\, 9160 South Loyola Blvd\, Westchester\, CA\, 90045\, United States
CATEGORIES:Meetings
ATTACH;FMTTYPE=image/png:https://ncwpdr.org/wp-content/uploads/2025/10/NCWP-Public-Safety-5.png
END:VEVENT
BEGIN:VEVENT
DTSTART;TZID=America/Los_Angeles:20251024T180000
DTEND;TZID=America/Los_Angeles:20251024T210000
DTSTAMP:20260423T155422
CREATED:20251002T225839Z
LAST-MODIFIED:20251002T225839Z
UID:15298-1761328800-1761339600@ncwpdr.org
SUMMARY:YMCA Spooktacular
DESCRIPTION:The Westchester Family YMCA is ready to thrill and chill attendees at its annual Halloween Spooktacular! RSVP before space runs out for this can’t-miss family-friendly event featuring a haunted maze\, food trucks\, games\, activities\, a monster parade\, lots of candy and more! Feeling ghoulishly generous? The Y is asking the community for donations of candy and Halloween decorations\, which can be dropped off at their front desk through October 23. The Westchester Family YMCA is located at 8015 S. Sepulveda Blvd. in Westchester.
URL:https://ncwpdr.org/event/ymca-spooktacular/
LOCATION:Westchester Family YMCA\, 8015 S. Sepulveda Blvd
CATEGORIES:Events
ATTACH;FMTTYPE=image/jpeg:https://ncwpdr.org/wp-content/uploads/2025/10/ymca-spooktacular-2025.jpg
END:VEVENT
BEGIN:VEVENT
DTSTART;TZID=America/Los_Angeles:20251025T160000
DTEND;TZID=America/Los_Angeles:20251025T220000
DTSTAMP:20260423T155422
CREATED:20251018T000139Z
LAST-MODIFIED:20251018T000215Z
UID:15355-1761408000-1761429600@ncwpdr.org
SUMMARY:Marina Spooktacular
DESCRIPTION:Visit the Marina for their annual Spooktacular event! There’s fun and scares for all ages\, but the frights intensify as night falls over Burton Chace Park in Marina del Rey during this two-day festival. Festivities include carnival games\, photo booth\, face painters\, blackout maze\, graveyard treasure hunt and more! Learn more at https://beaches.lacounty.gov/halloween/
URL:https://ncwpdr.org/event/marina-spooktacular/2025-10-25/
LOCATION:Burton Chace Park\, 13650 Mindanao Way\, Marina Del Rey\, 90292
CATEGORIES:Events
ATTACH;FMTTYPE=image/jpeg:https://ncwpdr.org/wp-content/uploads/2025/10/marina-spooktacular.jpg
END:VEVENT
BEGIN:VEVENT
DTSTART;TZID=America/Los_Angeles:20251026T093000
DTEND;TZID=America/Los_Angeles:20251026T113000
DTSTAMP:20260423T155422
CREATED:20251017T235411Z
LAST-MODIFIED:20251017T235411Z
UID:15348-1761471000-1761478200@ncwpdr.org
SUMMARY:Playa Vista Monster Dash 5K
DESCRIPTION:Celebrate the spooky season–and prepare for all the Halloween treats you’ll be eating–by signing up for the 7th Annual Monster Dash in Playa Vista. Grab your friends and your best costumes to participate in this bewitching fun run/walk that takes place along the neighborhood’s Bluff Creek Drive. The cost to register is $50 for adults and $20 for children 18 and under (plus fees). A family bundle of four tickets is also available! A costume contest\, sponsor booths\, giveaways and custom finisher medals for runners\, round out the event. For more info and to RSVP\, visit https://www.eventbrite.com/e/7th-annual-playa-vista-monster-dash-5k-tickets-1323892260389
URL:https://ncwpdr.org/event/playa-vista-monster-dash-5k/
LOCATION:Randy Johnson Park Soccer Fields\, 12702 W Bluff Creek Dr\, Los Angeles
CATEGORIES:Events
ATTACH;FMTTYPE=image/jpeg:https://ncwpdr.org/wp-content/uploads/2025/10/PV_MonsterDash2023_0373-scaled-1.jpg
END:VEVENT
BEGIN:VEVENT
DTSTART;TZID=America/Los_Angeles:20251026T100000
DTEND;TZID=America/Los_Angeles:20251026T140000
DTSTAMP:20260423T155422
CREATED:20251017T235945Z
LAST-MODIFIED:20251017T235945Z
UID:15352-1761472800-1761487200@ncwpdr.org
SUMMARY:Sixth Annual Halloween Bash at RUNWAY
DESCRIPTION:Visit RUNWAY Playa Vista for a family-friendly day that is sure to scare up some fun! The shopping center will be transformed into a spooktacular party\, featuring crafts\, photo booths\, petting zoo\, creepy characters\, games and more! Participating local businesses will also be handing out candy from 1:30 to 2 p.m. For an extra special treat\, buy a ticket for a visit to the Candy Coach\, for a five-minute dash to fill up your bag with chocolate and more! RSVP at runwayplayavista.com/events. RUNWAY is located at 12775 W. Millennium Drive in Playa Vista. \nRunway Playa Vista 12775 W Millennium\, Playa Vista
URL:https://ncwpdr.org/event/sixth-annual-halloween-bash-at-runway/
CATEGORIES:Events
ATTACH;FMTTYPE=image/jpeg:https://ncwpdr.org/wp-content/uploads/2025/10/Runway-Oct-24-Halloween-14-scaled-1.jpg
END:VEVENT
BEGIN:VEVENT
DTSTART;TZID=America/Los_Angeles:20251026T160000
DTEND;TZID=America/Los_Angeles:20251026T220000
DTSTAMP:20260423T155422
CREATED:20251018T000139Z
LAST-MODIFIED:20251018T000139Z
UID:15358-1761494400-1761516000@ncwpdr.org
SUMMARY:Marina Spooktacular
DESCRIPTION:Visit the Marina for their annual Spooktacular event! There’s fun and scares for all ages\, but the frights intensify as night falls over Burton Chace Park in Marina del Rey during this two-day festival. Festivities include carnival games\, photo booth\, face painters\, blackout maze\, graveyard treasure hunt and more! Learn more at https://beaches.lacounty.gov/halloween/
URL:https://ncwpdr.org/event/marina-spooktacular/2025-10-26/
LOCATION:Burton Chace Park\, 13650 Mindanao Way\, Marina Del Rey\, 90292
CATEGORIES:Events
ATTACH;FMTTYPE=image/jpeg:https://ncwpdr.org/wp-content/uploads/2025/10/marina-spooktacular.jpg
END:VEVENT
BEGIN:VEVENT
DTSTART;TZID=America/Los_Angeles:20251027T183000
DTEND;TZID=America/Los_Angeles:20251027T200000
DTSTAMP:20260423T155422
CREATED:20251024T175628Z
LAST-MODIFIED:20251024T175710Z
UID:15367-1761589800-1761595200@ncwpdr.org
SUMMARY:Community Plan Update Committee Meeting
DESCRIPTION:Join us for the Community Plan Update Committee Meeting\, Monday October 27\, 6:30pm at the Westchester Municipal Building\, 7166 Manchester Ave. \nOn our agenda: \n\nCommunity Plan Survey\nPotential Impact of SB79 on us
URL:https://ncwpdr.org/event/community-plan-update-committee-meeting-4/
LOCATION:Westchester Municipal Building 7166 Manchester Avenue\, Westchester\, CA 90045\, 7166 Manchester Avenue\, Westchester\, CA\, 90045\, United States
CATEGORIES:Meetings
ATTACH;FMTTYPE=image/png:https://ncwpdr.org/wp-content/uploads/2025/10/Update-13.png
END:VEVENT
END:VCALENDAR