BEGIN:VCALENDAR
VERSION:2.0
PRODID:-//Neighborhood Council of Westchester/Playa - ECPv6.15.18//NONSGML v1.0//EN
CALSCALE:GREGORIAN
METHOD:PUBLISH
X-ORIGINAL-URL:https://ncwpdr.org
X-WR-CALDESC:Events for Neighborhood Council of Westchester/Playa
REFRESH-INTERVAL;VALUE=DURATION:PT1H
X-Robots-Tag:noindex
X-PUBLISHED-TTL:PT1H
BEGIN:VTIMEZONE
TZID:America/Los_Angeles
BEGIN:DAYLIGHT
TZOFFSETFROM:-0800
TZOFFSETTO:-0700
TZNAME:PDT
DTSTART:20240310T100000
END:DAYLIGHT
BEGIN:STANDARD
TZOFFSETFROM:-0700
TZOFFSETTO:-0800
TZNAME:PST
DTSTART:20241103T090000
END:STANDARD
BEGIN:DAYLIGHT
TZOFFSETFROM:-0800
TZOFFSETTO:-0700
TZNAME:PDT
DTSTART:20250309T100000
END:DAYLIGHT
BEGIN:STANDARD
TZOFFSETFROM:-0700
TZOFFSETTO:-0800
TZNAME:PST
DTSTART:20251102T090000
END:STANDARD
BEGIN:DAYLIGHT
TZOFFSETFROM:-0800
TZOFFSETTO:-0700
TZNAME:PDT
DTSTART:20260308T100000
END:DAYLIGHT
BEGIN:STANDARD
TZOFFSETFROM:-0700
TZOFFSETTO:-0800
TZNAME:PST
DTSTART:20261101T090000
END:STANDARD
END:VTIMEZONE
BEGIN:VEVENT
DTSTART;TZID=America/Los_Angeles:20250902T180000
DTEND;TZID=America/Los_Angeles:20250902T183000
DTSTAMP:20260423T173217
CREATED:20250831T041549Z
LAST-MODIFIED:20250831T041619Z
UID:15178-1756836000-1756837800@ncwpdr.org
SUMMARY:Budget & Finance Committee Meeting
DESCRIPTION:The Budget & Finance Committee will meet right before the board meeting at 6pm.
URL:https://ncwpdr.org/event/budget-finance-committee-meeting-9/
LOCATION:Westchester Municipal Building 7166 Manchester Avenue\, Westchester\, CA 90045\, 7166 Manchester Avenue\, Westchester\, CA\, 90045\, United States
CATEGORIES:Events
ATTACH;FMTTYPE=image/png:https://ncwpdr.org/wp-content/uploads/2025/08/budget-meeting-10.png
END:VEVENT
BEGIN:VEVENT
DTSTART;TZID=America/Los_Angeles:20250902T183000
DTEND;TZID=America/Los_Angeles:20250902T210000
DTSTAMP:20260423T173217
CREATED:20241210T191252Z
LAST-MODIFIED:20250829T212742Z
UID:14220-1756837800-1756846800@ncwpdr.org
SUMMARY:Board Meeting
DESCRIPTION:Join us for our next NCWP Meeting on Tuesday\, September 2\, 6:30pm at the Westchester Municipal Building\, 7166 Manchester. \nCouncilwoman Traci Park will be our special guest.
URL:https://ncwpdr.org/event/board-meeting-2025-09-02/
LOCATION:Westchester Municipal Building 7166 Manchester Avenue\, Westchester\, CA 90045\, 7166 Manchester Avenue\, Westchester\, CA\, 90045\, United States
CATEGORIES:Meetings
ATTACH;FMTTYPE=image/png:https://ncwpdr.org/wp-content/uploads/2024/12/Meeting-Graphic-3.png
END:VEVENT
BEGIN:VEVENT
DTSTART;TZID=America/Los_Angeles:20250906T090000
DTEND;TZID=America/Los_Angeles:20250906T120000
DTSTAMP:20260423T173217
CREATED:20250905T225318Z
LAST-MODIFIED:20250905T225318Z
UID:15192-1757149200-1757160000@ncwpdr.org
SUMMARY:Charter Reform Meeting
DESCRIPTION:Please join the L.A. Charter reform commission this Saturday\, September 6th\, for an engaging study session.\n\nSeptember 6th\, 2025\, 9:00 AM\nLoyola Marymount University\n1 LMU Drive\, University Hall\nLos Angeles\, CA 90045
URL:https://ncwpdr.org/event/charter-reform-meeting/
CATEGORIES:Events
ATTACH;FMTTYPE=image/jpeg:https://ncwpdr.org/wp-content/uploads/2025/09/LA-Charter-Reform.jpg
END:VEVENT
BEGIN:VEVENT
DTSTART;TZID=America/Los_Angeles:20250913T160000
DTEND;TZID=America/Los_Angeles:20250913T200000
DTSTAMP:20260423T173217
CREATED:20250805T163755Z
LAST-MODIFIED:20250912T202313Z
UID:15085-1757779200-1757793600@ncwpdr.org
SUMMARY:Second Saturday Stroll
DESCRIPTION:You’re invited to a new Westchester event: the Second Saturday Stroll! \nMark your calendars for August 9\, September 13 and October 11 from 4-8 pm as local leaders launch a community summer series designed to bring neighbors together for art\, music\, food and fun! This celebration on 87th Street in the Westchester Triangle will feature live performances\, interactive art\, and great local bites\, while shining a spotlight on the incredible businesses in and around the Westchester Triangle!
URL:https://ncwpdr.org/event/second-saturday-stroll-2025-09-13/
CATEGORIES:Events
ATTACH;FMTTYPE=image/png:https://ncwpdr.org/wp-content/uploads/2025/08/second-sat-stroll-9-13.png
END:VEVENT
BEGIN:VEVENT
DTSTART;TZID=America/Los_Angeles:20250920T090000
DTEND;TZID=America/Los_Angeles:20250920T120000
DTSTAMP:20260423T173217
CREATED:20250805T163227Z
LAST-MODIFIED:20250805T163227Z
UID:15077-1758358800-1758369600@ncwpdr.org
SUMMARY:Coastal Clean Up Day
DESCRIPTION:
URL:https://ncwpdr.org/event/coastal-clean-up-day/
LOCATION:Dockweiler Youth Center\, 12505 Vista Del Mar\, Playa Del Rey\, 90293
CATEGORIES:Events
ATTACH;FMTTYPE=image/jpeg:https://ncwpdr.org/wp-content/uploads/2025/08/2025-Coastal-Cleanup-Day-scaled-1.jpg
END:VEVENT
BEGIN:VEVENT
DTSTART;TZID=America/Los_Angeles:20250920T120000
DTEND;TZID=America/Los_Angeles:20250920T190000
DTSTAMP:20260423T173217
CREATED:20250912T203411Z
LAST-MODIFIED:20250912T210812Z
UID:15204-1758369600-1758394800@ncwpdr.org
SUMMARY:WAM Arts & Music Block Party Preview
DESCRIPTION:The Westchester Arts & Music (WAM) Block Party is an annual\, free\, day-long community event benefiting local non-profit organizations\, with live music and dance\, art\, vendors & community booths\, kids activities\, garden tours\, food trucks\, and socializing—plus a beer and wine garden! \nA favorite community event of the year\, and we’re especially excited to celebrate its 10th anniversary! \nOn Sat\, Sept 20th\, from 12–7 PM\, join us for a FREE day of live music\, local art\, family activities\, vendors\, food trucks\, and so much more. \nHere’s a peek at what’s in store: \nBeer + Wine Garden\nIt’s the perfect place to gather with friends\, enjoy a drink\, and catch all the action close to the stage.\n(Adults 21+ only). \nPerformers\nGet ready for an incredible lineup of performers bringing live music and energy to the WAM Block Party stage! From local favorites to fresh new sounds\, the WAM stage is stacked with talent you won’t want to miss. \nFor Kids\nWAM offers exciting activities for kiddos of all ages. Be sure to stop in the Emerson Avenue Community Garden to enjoy bubble mania\, Lego building\, playdough and goop\, flag making\, and cardboard caterpillar play stations from 12-4pm. \nVendors\nWAM vendors highlight the creativity and diversity of our community. Whether it’s artists sharing one-of-a-kind work\, local businesses\, or nonprofits building awareness\, each brings something special to engage and inspire the community. \nHappening at 8050 Emerson Ave. between W. 80th St. & W 80th Pl.\nWestchester\, Los Angeles\, CA 90045
URL:https://ncwpdr.org/event/wam-arts-music-block-party-preview/
CATEGORIES:Events
ATTACH;FMTTYPE=image/jpeg:https://ncwpdr.org/wp-content/uploads/2025/09/wam-0019.jpg
END:VEVENT
BEGIN:VEVENT
DTSTART;TZID=America/Los_Angeles:20250922T183000
DTEND;TZID=America/Los_Angeles:20250922T200000
DTSTAMP:20260423T173217
CREATED:20250914T230716Z
LAST-MODIFIED:20250919T180108Z
UID:15217-1758565800-1758571200@ncwpdr.org
SUMMARY:Government Affairs Committee Meeting
DESCRIPTION:
URL:https://ncwpdr.org/event/september-22-2025-government-affairs-committee-meeting/
LOCATION:CD 11 Westchester District Office\, 7166 Manchester Ave\, Los Angeles\, 90045
CATEGORIES:Meetings
ATTACH;FMTTYPE=image/png:https://ncwpdr.org/wp-content/uploads/2025/09/NCWP-Gov-City-Hall.png
END:VEVENT
BEGIN:VEVENT
DTSTART;TZID=America/Los_Angeles:20250922T183000
DTEND;TZID=America/Los_Angeles:20250922T200000
DTSTAMP:20260423T173217
CREATED:20250919T192105Z
LAST-MODIFIED:20250919T192105Z
UID:15244-1758565800-1758571200@ncwpdr.org
SUMMARY:Community Plan Update Committee Meeting
DESCRIPTION:Join us for our next NCWP Community Plan Update Committee Meeting on September 22\, 6:30pm at the Westchester-Loyola Village Library\, 7114 W. Manchester Avenue. We plan to discuss our community survey.
URL:https://ncwpdr.org/event/community-plan-update-committee-meeting-3/
LOCATION:Westchester-Loyola Village Library Community Room\, 7114 W. Manchester Ave\, 90045
CATEGORIES:Meetings
ATTACH;FMTTYPE=image/png:https://ncwpdr.org/wp-content/uploads/2025/09/Update-12.png
END:VEVENT
BEGIN:VEVENT
DTSTART;TZID=America/Los_Angeles:20250923T120000
DTEND;TZID=America/Los_Angeles:20250923T133000
DTSTAMP:20260423T173217
CREATED:20250905T225626Z
LAST-MODIFIED:20250905T225726Z
UID:15195-1758628800-1758634200@ncwpdr.org
SUMMARY:Potential Projects near I-105 Freeway Feedback Sessions
DESCRIPTION:Join us for virtual and in-person community meetings! \nMetro has a plan to make it easier to get around\nLos Angeles\, which includes reducing congestion.\nThis Equity Assessment Study works to identify\ntransportation projects to improve mobility\, accessibility\, and connectivity for all users within 3 miles of the I-105 freeway. \nJoin us for a community meeting to view the prioritized project list\, draft project report\, and speak with the project team. All meetings will offer the same information and Spanish interpretation. Please attend the meeting that best suits your schedule. \nLearn more about the Study and let us know your thoughts on the prioritized project list. \nTuesday\, September 23\, 2025 | 12–1:30pm  | Virtual\nWebinar Link: http://bit.ly/459XRbu\nWebinar ID: 872 4030 6388\nCall in Number: +1 213 338 8477 \nWednesday\, September 24\, 2025 | 6–7:30pm\nLynwood Bateman Hall\n11331 Ernestine Av\, Lynwood\, CA 90262 \nSaturday\, September 27\, 2025 | 10–11:30am\nRich Rehearsal Hall\n13200 Clarkdale Av\, Norwalk\, CA 90650 \nWednesday\, October 1\, 2025 | 6–7:30pm\nVerbum Dei Jesuit High School\n11100 S Central Av\, Los Angeles\, CA 90059 \nTo learn more\, please visit the project website. For any questions\, contact the project hotline at 213.922.6565 or email 105ExpressLanes@metro.net.
URL:https://ncwpdr.org/event/potential-projects-near-i-105-freeway-feedback-sessions/
CATEGORIES:Events
ATTACH;FMTTYPE=image/jpeg:https://ncwpdr.org/wp-content/uploads/2025/09/105.jpg
END:VEVENT
BEGIN:VEVENT
DTSTART;TZID=America/Los_Angeles:20250925T183000
DTEND;TZID=America/Los_Angeles:20250925T200000
DTSTAMP:20260423T173217
CREATED:20250922T192334Z
LAST-MODIFIED:20250922T192334Z
UID:15252-1758825000-1758830400@ncwpdr.org
SUMMARY:Airport Relations Committee Meeting
DESCRIPTION:Join us for the next NCWP Airport Relations Committee Meeting on Thursday\, September 25\, 6:30pm at the Westchester Municipal Building\, 7166 Manchester Ave. \nWe will have a presentation by Los Angeles World Airports ATMP/Roadway Project team
URL:https://ncwpdr.org/event/airport-relations-committee-meeting-12/
LOCATION:Westchester Municipal Building 7166 Manchester Avenue\, Westchester\, CA 90045\, 7166 Manchester Avenue\, Westchester\, CA\, 90045\, United States
CATEGORIES:Meetings
ATTACH;FMTTYPE=image/png:https://ncwpdr.org/wp-content/uploads/2025/09/LAWA-5.png
END:VEVENT
BEGIN:VEVENT
DTSTART;TZID=America/Los_Angeles:20250927T080000
DTEND;TZID=America/Los_Angeles:20250927T170000
DTSTAMP:20260423T173217
CREATED:20250813T163724Z
LAST-MODIFIED:20250821T234739Z
UID:15114-1758960000-1758992400@ncwpdr.org
SUMMARY:Congress of Neighborhoods
DESCRIPTION:Registration is Now Open 🎉 \nJoin hundreds of your fellow NC members for: \n\n20+ workshops on leadership\, advocacy\, and community-building\n30 exhibitors with valuable resources\nOpportunities to meet with city leaders and fellow advocates\nComplimentary lunch and networking opportunities\n\nWhen: Saturday\, September 27\, 2025 from 8 am – 5 pm\nWhere: Los Angeles City Hall\nCost: Free and open to all
URL:https://ncwpdr.org/event/congress-of-neighborhoods-5/
LOCATION:City Hall
CATEGORIES:Events
ATTACH;FMTTYPE=image/jpeg:https://ncwpdr.org/wp-content/uploads/2025/08/CoN25-promo-1200.jpg
END:VEVENT
BEGIN:VEVENT
DTSTART;TZID=America/Los_Angeles:20250927T090000
DTEND;TZID=America/Los_Angeles:20250927T130000
DTSTAMP:20260423T173217
CREATED:20250915T204057Z
LAST-MODIFIED:20250915T204057Z
UID:15224-1758963600-1758978000@ncwpdr.org
SUMMARY:Farmers Market Anniversary Celebration
DESCRIPTION:Happy September –a hint of fall is in the air! Enjoy last-of-the-season summer crops with stone fruit\, summery heirloom tomatoes\, and even watermelon right alongside first-of-the-season persimmons and so much abundance in veggies: green beans\, snap peas\, asparagus\, brussel sprouts\, and your favorite staples\, too. Fall festivities are ahead as well! Save the date: the Westchester Farmers Market turns nine and will be celebrating on September 28! \nExpect a super-sized farmers’ market\, live music\, community booths\, farm talks\, kids activities\, and special throughout the market. Visit westchesterfarmersmkt.com for details. The Market will also be hosting Halloween activities and its annual Winter Festival later in the season. Cheers y’all to building community over good food and healthy choices each and every Sunday in Westchester’s Downtown Triangle. Enjoy the fall season at the Westchester Farmers Market!
URL:https://ncwpdr.org/event/farmers-market-anniversary-celebration/
CATEGORIES:Events
ATTACH;FMTTYPE=image/jpeg:https://ncwpdr.org/wp-content/uploads/2025/09/farmers-market-ncwp.jpg
END:VEVENT
BEGIN:VEVENT
DTSTART;TZID=America/Los_Angeles:20250930T100000
DTEND;TZID=America/Los_Angeles:20250930T123000
DTSTAMP:20260423T173217
CREATED:20250813T163508Z
LAST-MODIFIED:20250813T163508Z
UID:15112-1759226400-1759235400@ncwpdr.org
SUMMARY:Public Hearing on Sanitation Rate Increase
DESCRIPTION:If you have a concern about the proposed rate increases\, your opportunity to speak up is the public hearing on September 30\, 10am at City Hall. \nAbout the proposed increases
URL:https://ncwpdr.org/event/public-hearing-on-sanitation-rate-increase/
LOCATION:City Hall
CATEGORIES:Events
ATTACH;FMTTYPE=image/jpeg:https://ncwpdr.org/wp-content/uploads/2025/08/HTN-ad-08-25-NCWP-half-pdf.jpg
END:VEVENT
END:VCALENDAR