BEGIN:VCALENDAR
VERSION:2.0
PRODID:-//Neighborhood Council of Westchester/Playa - ECPv6.15.18//NONSGML v1.0//EN
CALSCALE:GREGORIAN
METHOD:PUBLISH
X-ORIGINAL-URL:https://ncwpdr.org
X-WR-CALDESC:Events for Neighborhood Council of Westchester/Playa
REFRESH-INTERVAL;VALUE=DURATION:PT1H
X-Robots-Tag:noindex
X-PUBLISHED-TTL:PT1H
BEGIN:VTIMEZONE
TZID:America/Los_Angeles
BEGIN:DAYLIGHT
TZOFFSETFROM:-0800
TZOFFSETTO:-0700
TZNAME:PDT
DTSTART:20240310T100000
END:DAYLIGHT
BEGIN:STANDARD
TZOFFSETFROM:-0700
TZOFFSETTO:-0800
TZNAME:PST
DTSTART:20241103T090000
END:STANDARD
BEGIN:DAYLIGHT
TZOFFSETFROM:-0800
TZOFFSETTO:-0700
TZNAME:PDT
DTSTART:20250309T100000
END:DAYLIGHT
BEGIN:STANDARD
TZOFFSETFROM:-0700
TZOFFSETTO:-0800
TZNAME:PST
DTSTART:20251102T090000
END:STANDARD
BEGIN:DAYLIGHT
TZOFFSETFROM:-0800
TZOFFSETTO:-0700
TZNAME:PDT
DTSTART:20260308T100000
END:DAYLIGHT
BEGIN:STANDARD
TZOFFSETFROM:-0700
TZOFFSETTO:-0800
TZNAME:PST
DTSTART:20261101T090000
END:STANDARD
END:VTIMEZONE
BEGIN:VEVENT
DTSTART;TZID=America/Los_Angeles:20250805T170000
DTEND;TZID=America/Los_Angeles:20250805T210000
DTSTAMP:20260423T191814
CREATED:20250710T202951Z
LAST-MODIFIED:20250710T202951Z
UID:15004-1754413200-1754427600@ncwpdr.org
SUMMARY:National Night Out
DESCRIPTION:Meet your public safety officers in the annual National Night Out Against Crime on Tuesday\, August 5\, 5-9pm at the Mar Vista Recreation Center. \nMusic\, food\, prizes and fun!
URL:https://ncwpdr.org/event/national-night-out-6/
LOCATION:Mar Vista Recreatio Center\, 11430 Woodbine St.\, Los Angeles
CATEGORIES:Events
ATTACH;FMTTYPE=image/jpeg:https://ncwpdr.org/wp-content/uploads/2025/07/NNO-Flyer-2025-Traci-Park-1200.jpg
END:VEVENT
BEGIN:VEVENT
DTSTART;TZID=America/Los_Angeles:20250805T180000
DTEND;TZID=America/Los_Angeles:20250805T183000
DTSTAMP:20260423T191814
CREATED:20250716T212912Z
LAST-MODIFIED:20250805T224806Z
UID:15019-1754416800-1754418600@ncwpdr.org
SUMMARY:Budget Committee Meeting Cancelled
DESCRIPTION:Join us for the next NCWP Budget Committee Meeting on Tuesday\, August 5\, 6pm at the Westchester Municipal Building\, 7166 Manchester.
URL:https://ncwpdr.org/event/budget-committee-meeting-5/
LOCATION:Westchester Municipal Building 7166 Manchester Avenue\, Westchester\, CA 90045\, 7166 Manchester Avenue\, Westchester\, CA\, 90045\, United States
CATEGORIES:Meetings
ATTACH;FMTTYPE=image/png:https://ncwpdr.org/wp-content/uploads/2025/07/budget-meeting-1.png
END:VEVENT
BEGIN:VEVENT
DTSTART;TZID=America/Los_Angeles:20250805T183000
DTEND;TZID=America/Los_Angeles:20250805T210000
DTSTAMP:20260423T191814
CREATED:20241210T191252Z
LAST-MODIFIED:20250805T224937Z
UID:14219-1754418600-1754427600@ncwpdr.org
SUMMARY:Board Meeting Cancelled
DESCRIPTION:Join us for the next meeting of the Neighborhood Council Westchester Playa on Tuesday\, August 5\, 6:30pm at the Westchester Municipal Building\, 7166 Manchester Avenue\, Westchester\, CA 90045. \nWe will hear a presentation from Lucy Han with Friends of The Jungle who is asking for the NCWP Support for the mural honoring the Gillis Volleyball Tournament founded and run for fifty years for our community by Steve and Dave Cressman.
URL:https://ncwpdr.org/event/board-meeting-2025-08-05/
LOCATION:Westchester Municipal Building 7166 Manchester Avenue\, Westchester\, CA 90045\, 7166 Manchester Avenue\, Westchester\, CA\, 90045\, United States
CATEGORIES:Meetings
ATTACH;FMTTYPE=image/png:https://ncwpdr.org/wp-content/uploads/2024/12/Meeting-Graphic-2.png
END:VEVENT
BEGIN:VEVENT
DTSTART;TZID=America/Los_Angeles:20250809T160000
DTEND;TZID=America/Los_Angeles:20250809T200000
DTSTAMP:20260423T191814
CREATED:20250805T163755Z
LAST-MODIFIED:20250805T163848Z
UID:15080-1754755200-1754769600@ncwpdr.org
SUMMARY:Second Saturday Stroll
DESCRIPTION:You’re invited to a new Westchester event: the Second Saturday Stroll! \nMark your calendars for August 9\, September 13 and October 11 from 4-8 pm as local leaders launch a community summer series designed to bring neighbors together for art\, music\, food and fun! This celebration on 87th Street in the Westchester Triangle will feature live performances\, interactive art\, and great local bites\, while shining a spotlight on the incredible businesses in and around the Westchester Triangle!
URL:https://ncwpdr.org/event/second-saturday-stroll/2025-08-09/
CATEGORIES:Events
ATTACH;FMTTYPE=image/jpeg:https://ncwpdr.org/wp-content/uploads/2025/08/Second-Saturday-Stroll-7.16.jpg
END:VEVENT
BEGIN:VEVENT
DTSTART;TZID=America/Los_Angeles:20250812T183000
DTEND;TZID=America/Los_Angeles:20250812T200000
DTSTAMP:20260423T191814
CREATED:20250714T214331Z
LAST-MODIFIED:20250808T164356Z
UID:15008-1755023400-1755028800@ncwpdr.org
SUMMARY:Planning and Land Use Committee Meeting
DESCRIPTION:Join us for a meeting of the NCWP Planning and Land Use Committee Meeting on Tuesday\, August 12\, 6:30pm at the Westchester Municipal Building\, 7166 Manchester. \nBacari is requesting a Coastal Development Permit for the Al Fresco Dining Program.
URL:https://ncwpdr.org/event/planning-and-land-use-committee-meeting-10/
LOCATION:Westchester Municipal Building 7166 Manchester Avenue\, Westchester\, CA 90045\, 7166 Manchester Avenue\, Westchester\, CA\, 90045\, United States
CATEGORIES:Meetings
ATTACH;FMTTYPE=image/png:https://ncwpdr.org/wp-content/uploads/2025/07/PLUM-25.png
END:VEVENT
BEGIN:VEVENT
DTSTART;TZID=America/Los_Angeles:20250816T090000
DTEND;TZID=America/Los_Angeles:20250816T130000
DTSTAMP:20260423T191814
CREATED:20250805T164058Z
LAST-MODIFIED:20250805T164058Z
UID:15087-1755334800-1755349200@ncwpdr.org
SUMMARY:YFest 2025
DESCRIPTION:Westchester Family YMCA Annex 8020 Alverstone Ave.\, Westchester\, CA\nThe Westchester Family YMCA will transform into a vibrant hub of health and connection on Saturday\, August 16th\, 2025\, from 9:00am to 1:00pm. This exciting community wellness event exemplifies the Metropolitan LA YMCA Association’s commitment to making branch locations true “Centers of Community Well Being”—spaces that extend far beyond traditional fitness facilities. Taking place in the Westchester YMCA Annex parking lot\, this one-day wellness experience seamlessly blends movement\, mindfulness\, and community engagement. The event promises to be a mind-body connection playground\, featuring interactive booths\, hands-on demonstrations\, and brain-boosting activities that go well beyond your typical health fair. Designed with every age group in mind\, the celebration will offer engaging games for children\, practical wellness strategies for teens and adults\, and specialized exercise demonstrations tailored for aging seniors. This comprehensive approach ensures that every community member can discover something meaningful\, reinforcing the YMCA’s mission to strengthen the well-being of all.
URL:https://ncwpdr.org/event/yfest-2025/
CATEGORIES:Events
ATTACH;FMTTYPE=image/jpeg:https://ncwpdr.org/wp-content/uploads/2025/08/yfest2025.jpg
END:VEVENT
BEGIN:VEVENT
DTSTART;TZID=America/Los_Angeles:20250817T090000
DTEND;TZID=America/Los_Angeles:20250817T160000
DTSTAMP:20260423T191814
CREATED:20250805T162819Z
LAST-MODIFIED:20250805T162819Z
UID:15074-1755421200-1755446400@ncwpdr.org
SUMMARY:CicLAvia: Culver City Meets Venice
DESCRIPTION:CicLAvia catalyzes vibrant public spaces\, active transportation and good health through car-free streets.
URL:https://ncwpdr.org/event/ciclavia-culver-city-meets-venice/
CATEGORIES:Events
ATTACH;FMTTYPE=image/jpeg:https://ncwpdr.org/wp-content/uploads/2025/08/ciclavia_Culver_City_meets_Venice_081725_1000.jpg
END:VEVENT
BEGIN:VEVENT
DTSTART;TZID=America/Los_Angeles:20250825T183000
DTEND;TZID=America/Los_Angeles:20250825T203000
DTSTAMP:20260423T191814
CREATED:20250822T194153Z
LAST-MODIFIED:20250822T194403Z
UID:15128-1756146600-1756153800@ncwpdr.org
SUMMARY:Community Plan Update Committee Meeting
DESCRIPTION:Join us for the next NCWP Community Plan Update Committee Meeting on Monday\, August 25\, 6:30pm at the Westchester Municipal Building\, 7166 Manchester Ave. \nWe will hear an update on SB79 which would destroy single family zoning and allow Sacramento to control zoning across the state.
URL:https://ncwpdr.org/event/community-plan-update-committee-meeting-2/
LOCATION:Westchester Municipal Building 7166 Manchester Avenue\, Westchester\, CA 90045\, 7166 Manchester Avenue\, Westchester\, CA\, 90045\, United States
CATEGORIES:Meetings
ATTACH;FMTTYPE=image/png:https://ncwpdr.org/wp-content/uploads/2025/08/Update-11.png
END:VEVENT
BEGIN:VEVENT
DTSTART;TZID=America/Los_Angeles:20250828T183000
DTEND;TZID=America/Los_Angeles:20250828T203000
DTSTAMP:20260423T191814
CREATED:20250822T194716Z
LAST-MODIFIED:20250825T182242Z
UID:15132-1756405800-1756413000@ncwpdr.org
SUMMARY:Airport Relations Committee Meeting-Cancelled
DESCRIPTION:
URL:https://ncwpdr.org/event/airport-relations-committee-meeting-11/
LOCATION:Westchester Municipal Building 7166 Manchester Avenue\, Westchester\, CA 90045\, 7166 Manchester Avenue\, Westchester\, CA\, 90045\, United States
CATEGORIES:Meetings
ATTACH;FMTTYPE=image/png:https://ncwpdr.org/wp-content/uploads/2025/08/LAWA-4.png
END:VEVENT
END:VCALENDAR