BEGIN:VCALENDAR
VERSION:2.0
PRODID:-//Neighborhood Council of Westchester/Playa - ECPv6.15.18//NONSGML v1.0//EN
CALSCALE:GREGORIAN
METHOD:PUBLISH
X-ORIGINAL-URL:https://ncwpdr.org
X-WR-CALDESC:Events for Neighborhood Council of Westchester/Playa
REFRESH-INTERVAL;VALUE=DURATION:PT1H
X-Robots-Tag:noindex
X-PUBLISHED-TTL:PT1H
BEGIN:VTIMEZONE
TZID:America/Los_Angeles
BEGIN:DAYLIGHT
TZOFFSETFROM:-0800
TZOFFSETTO:-0700
TZNAME:PDT
DTSTART:20220313T100000
END:DAYLIGHT
BEGIN:STANDARD
TZOFFSETFROM:-0700
TZOFFSETTO:-0800
TZNAME:PST
DTSTART:20221106T090000
END:STANDARD
BEGIN:DAYLIGHT
TZOFFSETFROM:-0800
TZOFFSETTO:-0700
TZNAME:PDT
DTSTART:20230312T100000
END:DAYLIGHT
BEGIN:STANDARD
TZOFFSETFROM:-0700
TZOFFSETTO:-0800
TZNAME:PST
DTSTART:20231105T090000
END:STANDARD
BEGIN:DAYLIGHT
TZOFFSETFROM:-0800
TZOFFSETTO:-0700
TZNAME:PDT
DTSTART:20240310T100000
END:DAYLIGHT
BEGIN:STANDARD
TZOFFSETFROM:-0700
TZOFFSETTO:-0800
TZNAME:PST
DTSTART:20241103T090000
END:STANDARD
END:VTIMEZONE
BEGIN:VEVENT
DTSTART;TZID=America/Los_Angeles:20230601T100000
DTEND;TZID=America/Los_Angeles:20230601T120000
DTSTAMP:20260425T152327
CREATED:20230421T210137Z
LAST-MODIFIED:20230421T210137Z
UID:11868-1685613600-1685620800@ncwpdr.org
SUMMARY:Reform LA: Commission Instructions
DESCRIPTION:The Ad Hoc Committee on Governance Reform has begun its listening sessions on potential reforms to our city’s redistricting process. This is a historic effort which is being led by the Council President and the more public participation the better\, as reforms recommended by the committee will need to go to the full City Council and the voters for adoption\, as many reforms would require changes to the City Charter. \nListening sessions will take place over the next few weeks and into the summer. The committee will make its recommendations to the full City Council in late summer and\, if approved\, will head to voters for their consideration in either March or November of 2024. \nRegister your thoughts on redistricting reform: https://cityclerk.lacity.org/publiccomment/ Council File #22-1196-S1
URL:https://ncwpdr.org/event/reform-la-commission-instructions/
LOCATION:Cheviot Hills Recreation Center\, 2551 Motor Ave\, Los Angeles\, 90064
CATEGORIES:Events
ATTACH;FMTTYPE=image/jpeg:https://ncwpdr.org/wp-content/uploads/2023/04/listen-june-1.jpg
END:VEVENT
BEGIN:VEVENT
DTSTART;TZID=America/Los_Angeles:20230602T180000
DTEND;TZID=America/Los_Angeles:20230602T210000
DTSTAMP:20260425T152327
CREATED:20230602T203754Z
LAST-MODIFIED:20230602T203754Z
UID:12015-1685728800-1685739600@ncwpdr.org
SUMMARY:Movie Night
DESCRIPTION:
URL:https://ncwpdr.org/event/movie-night/
CATEGORIES:Events
ATTACH;FMTTYPE=image/jpeg:https://ncwpdr.org/wp-content/uploads/2023/06/summer-westchester-Y.jpeg
END:VEVENT
BEGIN:VEVENT
DTSTART;TZID=America/Los_Angeles:20230606T173000
DTEND;TZID=America/Los_Angeles:20230606T183000
DTSTAMP:20260425T152327
CREATED:20230526T200244Z
LAST-MODIFIED:20230605T185621Z
UID:12006-1686072600-1686076200@ncwpdr.org
SUMMARY:Budget & Finance Committee Meeting
DESCRIPTION:Join us for the next Budget & Finance Committee Meeting June 6\, 5:30pm at Community Room at the LAWA Police Station\, 9160 Loyola Blvd.\, Los Angeles\, CA 90045
URL:https://ncwpdr.org/event/budget-finance-committee-meeting/
LOCATION:LAWA Police Station\, 9160 Loyola Blvd\, 90045
CATEGORIES:Meetings
ATTACH;FMTTYPE=image/png:https://ncwpdr.org/wp-content/uploads/2023/05/budget-meeting-3.png
END:VEVENT
BEGIN:VEVENT
DTSTART;TZID=America/Los_Angeles:20230606T184000
DTEND;TZID=America/Los_Angeles:20230606T200000
DTSTAMP:20260425T152327
CREATED:20221231T211037Z
LAST-MODIFIED:20230908T184014Z
UID:11166-1686076800-1686081600@ncwpdr.org
SUMMARY:Board Meeting
DESCRIPTION:Join us for a specially scheduled meeting of the NCWP Tuesday\, June 6\, 6:40pm at the LAWA Police Station Community Room\, 9160 Loyola Blvd.
URL:https://ncwpdr.org/event/board-meeting-22-2023-06-06/
LOCATION:LAWA Police Station\, 9160 Loyola Blvd\, 90045
CATEGORIES:Meetings
ATTACH;FMTTYPE=image/png:https://ncwpdr.org/wp-content/uploads/2022/12/Meeting-Graphic-7.png
END:VEVENT
BEGIN:VEVENT
DTSTART;TZID=America/Los_Angeles:20230607T060000
DTEND;TZID=America/Los_Angeles:20230607T180000
DTSTAMP:20260425T152327
CREATED:20230605T190825Z
LAST-MODIFIED:20230605T190825Z
UID:12034-1686117600-1686160800@ncwpdr.org
SUMMARY:Lane Closure
DESCRIPTION:Cedars-Sinai will be undertaking another concrete pour this Wednesday\, June 7. This will be of a smaller scope than a few weeks ago\, but lanes will still be closed for the duration of the project.
URL:https://ncwpdr.org/event/lane-closure/
CATEGORIES:Events
ATTACH;FMTTYPE=image/jpeg:https://ncwpdr.org/wp-content/uploads/2023/06/2023-06-07-1.jpg
END:VEVENT
BEGIN:VEVENT
DTSTART;TZID=America/Los_Angeles:20230612T100000
DTEND;TZID=America/Los_Angeles:20230612T120000
DTSTAMP:20260425T152327
CREATED:20230421T210322Z
LAST-MODIFIED:20230421T210322Z
UID:11872-1686564000-1686571200@ncwpdr.org
SUMMARY:Reform LA: Commission Support Systems
DESCRIPTION:The Ad Hoc Committee on Governance Reform has begun its listening sessions on potential reforms to our city’s redistricting process. This is a historic effort which is being led by the Council President and the more public participation the better\, as reforms recommended by the committee will need to go to the full City Council and the voters for adoption\, as many reforms would require changes to the City Charter. \nListening sessions will take place over the next few weeks and into the summer. The committee will make its recommendations to the full City Council in late summer and\, if approved\, will head to voters for their consideration in either March or November of 2024. \nRegister your thoughts on redistricting reform: https://cityclerk.lacity.org/publiccomment/ Council File #22-1196-S1
URL:https://ncwpdr.org/event/reform-la-commission-support-systems/
LOCATION:City Hall
CATEGORIES:Events
ATTACH;FMTTYPE=image/jpeg:https://ncwpdr.org/wp-content/uploads/2023/04/listen-june-12.jpg
END:VEVENT
BEGIN:VEVENT
DTSTART;TZID=America/Los_Angeles:20230617T093000
DTEND;TZID=America/Los_Angeles:20230617T120000
DTSTAMP:20260425T152327
CREATED:20230201T200406Z
LAST-MODIFIED:20230614T184638Z
UID:11351-1686994200-1687003200@ncwpdr.org
SUMMARY:Budget Day
DESCRIPTION:Budget Day is June 17 from 9:30 a.m. to 1:00 p.m. There will be a keynote address from Mayor Bass. Please register now at tiny.cc/budgetday23.
URL:https://ncwpdr.org/event/budget-day-5/
CATEGORIES:Events
ATTACH;FMTTYPE=image/png:https://ncwpdr.org/wp-content/uploads/2023/02/Budget-Day-2023.png
END:VEVENT
BEGIN:VEVENT
DTSTART;VALUE=DATE:20230618
DTEND;VALUE=DATE:20230619
DTSTAMP:20260425T152327
CREATED:20230614T182938Z
LAST-MODIFIED:20230614T182938Z
UID:12071-1687046400-1687132799@ncwpdr.org
SUMMARY:Happy Father's Day
DESCRIPTION:
URL:https://ncwpdr.org/event/happy-fathers-day/
CATEGORIES:Events
ATTACH;FMTTYPE=image/png:https://ncwpdr.org/wp-content/uploads/2023/06/ncwpdr-fathers-day.png
END:VEVENT
BEGIN:VEVENT
DTSTART;TZID=America/Los_Angeles:20230618T090000
DTEND;TZID=America/Los_Angeles:20230618T160000
DTSTAMP:20260425T152327
CREATED:20230614T181843Z
LAST-MODIFIED:20230614T181843Z
UID:12064-1687078800-1687104000@ncwpdr.org
SUMMARY:CicLAvia Juneteenth
DESCRIPTION:On Sunday\, June 18\, we’re opening up streets in South Los Angeles so you can jog\, ride\, bike\, skate\, run\, walk\, skateboard\, spectate\, and enjoy the route however you want. Our routes are welcoming to people of all ages and abilities! \nCicLAvia—South LA is presented by Metro. This event will feature the 3rd annual Juneteenth Celebration and Resource Fair brought to you by Los Angeles County Supervisor Holly J. Mitchell.
URL:https://ncwpdr.org/event/ciclavia-juneteenth/
CATEGORIES:Events
ATTACH;FMTTYPE=image/jpeg:https://ncwpdr.org/wp-content/uploads/2023/06/updated-juneteenth-2023.jpg
END:VEVENT
BEGIN:VEVENT
DTSTART;TZID=America/Los_Angeles:20230620T183000
DTEND;TZID=America/Los_Angeles:20230620T213000
DTSTAMP:20260425T152327
CREATED:20210814T043750Z
LAST-MODIFIED:20230617T001614Z
UID:7987-1687285800-1687296600@ncwpdr.org
SUMMARY:Planning and Land Use
DESCRIPTION:Join us for the next NCWP Planning and Land Use Committee Meeting Tuesday\, June 20\, 6:30pm at the Westchester Municipal Building Community Room\, 7166 Manchester. \nOn our agenda: \n\nPotential impacts of SB7\nPep Boys Project\nSB 9 project at 8307 Georgetown\n\n 
URL:https://ncwpdr.org/event/planning-and-land-use-2023-06-20/
LOCATION:Zoom
CATEGORIES:Meetings
ATTACH;FMTTYPE=image/png:https://ncwpdr.org/wp-content/uploads/2021/08/june-planning-2.png
END:VEVENT
BEGIN:VEVENT
DTSTART;TZID=America/Los_Angeles:20230626T183000
DTEND;TZID=America/Los_Angeles:20230626T200000
DTSTAMP:20260425T152327
CREATED:20230113T191147Z
LAST-MODIFIED:20230623T212520Z
UID:11256-1687804200-1687809600@ncwpdr.org
SUMMARY:Community Plan Update Ad Hoc Committee Meeting
DESCRIPTION:Join us for the next Community Plan Update Ad Hoc Committee Meeting Monday\, June 26\, 6:30pm at the Municipal Building Community Room\, 7166 Manchester Blvd. \nThe City is proposing upzoning a large a portion of R1 near Pep Boys between Manchester/La Tijera and Sepulveda as well as other areas.
URL:https://ncwpdr.org/event/community-plan-update-ad-hoc-committee-meeting-2023-06-26/
LOCATION:Westchester Municipal Building 7166 Manchester Avenue\, Westchester\, CA 90045\, 7166 Manchester Avenue\, Westchester\, CA\, 90045\, United States
CATEGORIES:Meetings
ATTACH;FMTTYPE=image/png:https://ncwpdr.org/wp-content/uploads/2023/01/Community-Plan-4.png
END:VEVENT
BEGIN:VEVENT
DTSTART;TZID=America/Los_Angeles:20230627T100000
DTEND;TZID=America/Los_Angeles:20230627T160000
DTSTAMP:20260425T152327
CREATED:20230620T180339Z
LAST-MODIFIED:20230620T180339Z
UID:12090-1687860000-1687881600@ncwpdr.org
SUMMARY:Red Cross Blood Drive
DESCRIPTION:JUNE 27th | 10AM – 4PM\n8505 Saran Drive\, Playa del Rey\, 90293 \nEach Summer\, Del Rey Church partners with the Red Cross and hosts a Summer Blood Drive. \nBlood is essential to help patients survive surgeries\, cancer treatment\, chronic illnesses\, and traumatic injuries. This lifesaving care starts with one person making a generous donation. The need for blood is constant. But only about 3% of age-eligible people donate blood yearly \nIf you would like to give blood\, follow this LINK. If you have trouble signing up\, simply call Lucy Lundegard at the church (310) 823-4275 and she will help you to complete your sign up. \nStreamline your donation experience and save up to 15 minutes by visiting RedCrossBlood.org/RapidPass to complete your pre-donation reading and health history questions on the day of your appointment.
URL:https://ncwpdr.org/event/red-cross-blood-drive/
CATEGORIES:Events
ATTACH;FMTTYPE=image/png:https://ncwpdr.org/wp-content/uploads/2023/06/2023-06-27-give-blood.png
END:VEVENT
BEGIN:VEVENT
DTSTART;TZID=America/Los_Angeles:20230629T090000
DTEND;TZID=America/Los_Angeles:20230629T150000
DTSTAMP:20260425T152327
CREATED:20230614T182016Z
LAST-MODIFIED:20230614T182016Z
UID:12068-1688029200-1688050800@ncwpdr.org
SUMMARY:City of Los Angeles Career Fair
DESCRIPTION:Learn about the various careers in Public Works and other City departments as well as how to apply and gain insightful information on City employment opportunities. We have both full-time and part-time positions available. Come speak with our staff to learn more about the positions you’re interested in\, receive on-site assistance with an online application (we’ll have computers available for you to use)\, and even take an employment exam. \nRSVP: https://cityoflacareerfair.eventbrite.com/ \nThe following full-time City positions are available. Apply online or on-site at the Career Fair. We’ll have staff available to answer questions about the positions. \nPublic Work Depts:\nCivil Engineering Associate\nEnvironmental Compliance Inspector\nGardener Caretaker\nInstrument Mechanic\nProgrammer Analyst\nRoofer\nTree Surgeon Assistant\nSystems Analyst\nProject Assistant \nLAPD:\n911 Dispatcher\nPolice Officer\nDetention Officer \nLAFD:\nFirefighter \nMedical:\nAdvance Practice Provider\nCorrectional Nurse\nLicensed Vocational Nurse \nLADOT (Transportation):\nCrossing Guards\nCommunity Admin Workers\nTransportation Engineering Aides \nRec and Parks:\nSpecial Program Assistant II\nInstructors\nLifeguards\nPark Rangers \nTarget Local Hire (TLH):\nOffice Trainee\nVocational Workers\nGardener Caretaker\nWarehouse & Toolroom Worker\nCustodian\nMaintenance Labor \nBridge to Jobs (BTJ):\nAccounting Clerk Trainee\nCommunications Information\nRepresentative Trainee \nFREE CAREER WORKSHOPS: \n9:30 AM\nCIVIL SERVICE AND THE CITY’S HIRING PROCESS\nOur team will explain what civil service means\, what exams are like\, and the City’s hiring process. \n10:30 AM\nTIPS FOR APPLICATIONS\, RESUMES\, AND COVER LETTERS\nWe’ll teach you the right words to use and some simple tricks for showcasing your skills and experience in the best possible way on paper. \n11:30 AM\nINTERVIEWING 101\nPreparing for an interview is easier than you think. Learn about best practices and simple guidelines for making a professional first impression. \n12:30 PM\nFINDING A JOB WITH THE CITY OF LOS ANGELES\nWe’ll explain common city terms\, the salary ranges\, and the application process. \n1:30 PM\nDRESS FOR SUCCESS\nA suit isn’t always required for interviews. Sometimes business casual is acceptable for an interview. We’ll provide some helpful guidelines.
URL:https://ncwpdr.org/event/city-of-los-angeles-career-fair/
CATEGORIES:Events
ATTACH;FMTTYPE=image/png:https://ncwpdr.org/wp-content/uploads/2023/06/career-fair-June-29.png
END:VEVENT
END:VCALENDAR