BEGIN:VCALENDAR
VERSION:2.0
PRODID:-//Neighborhood Council of Westchester/Playa - ECPv6.15.18//NONSGML v1.0//EN
CALSCALE:GREGORIAN
METHOD:PUBLISH
X-WR-CALNAME:Neighborhood Council of Westchester/Playa
X-ORIGINAL-URL:https://ncwpdr.org
X-WR-CALDESC:Events for Neighborhood Council of Westchester/Playa
REFRESH-INTERVAL;VALUE=DURATION:PT1H
X-Robots-Tag:noindex
X-PUBLISHED-TTL:PT1H
BEGIN:VTIMEZONE
TZID:America/Los_Angeles
BEGIN:DAYLIGHT
TZOFFSETFROM:-0800
TZOFFSETTO:-0700
TZNAME:PDT
DTSTART:20240310T100000
END:DAYLIGHT
BEGIN:STANDARD
TZOFFSETFROM:-0700
TZOFFSETTO:-0800
TZNAME:PST
DTSTART:20241103T090000
END:STANDARD
BEGIN:DAYLIGHT
TZOFFSETFROM:-0800
TZOFFSETTO:-0700
TZNAME:PDT
DTSTART:20250309T100000
END:DAYLIGHT
BEGIN:STANDARD
TZOFFSETFROM:-0700
TZOFFSETTO:-0800
TZNAME:PST
DTSTART:20251102T090000
END:STANDARD
BEGIN:DAYLIGHT
TZOFFSETFROM:-0800
TZOFFSETTO:-0700
TZNAME:PDT
DTSTART:20260308T100000
END:DAYLIGHT
BEGIN:STANDARD
TZOFFSETFROM:-0700
TZOFFSETTO:-0800
TZNAME:PST
DTSTART:20261101T090000
END:STANDARD
END:VTIMEZONE
BEGIN:VEVENT
DTSTART;TZID=America/Los_Angeles:20250121T183000
DTEND;TZID=America/Los_Angeles:20250121T203000
DTSTAMP:20260425T035231
CREATED:20250118T014835Z
LAST-MODIFIED:20250121T215436Z
UID:14339-1737484200-1737491400@ncwpdr.org
SUMMARY:PLUC Meeting-Cancelled
DESCRIPTION:Join us for a meeting to discuss the following issues: (1) 237 Montreal Street Development\, (2) 138 Culver Blvd./Czucker Project\,  (3) Presentation by Kimberly Fox re: Protecting Small Businesses as Mixed-Use Commercial Density is Built \nWe will meet Tuesday\, January 21\, 6:30pm at the Westchester Municipal Building\, 7166 Manchester.
URL:https://ncwpdr.org/event/pluc-meeting-4/
LOCATION:CD 11 Westchester District Office\, 7166 Manchester Ave\, Los Angeles\, 90045
CATEGORIES:Meetings
ATTACH;FMTTYPE=image/png:https://ncwpdr.org/wp-content/uploads/2025/01/PLUM-Mar-3.png
END:VEVENT
BEGIN:VEVENT
DTSTART;TZID=America/Los_Angeles:20250123T200000
DTEND;TZID=America/Los_Angeles:20250123T230000
DTSTAMP:20260425T035231
CREATED:20241121T233252Z
LAST-MODIFIED:20250113T190525Z
UID:14178-1737662400-1737673200@ncwpdr.org
SUMMARY:Homeless Count-Postponed
DESCRIPTION:Join and make a difference! You can now register to volunteer for the 2025 Greater Los Angeles Homeless Count! This essential event aims to count our unhoused neighbors and obtain data that helps us develop effective strategies to address the homelessness crisis in Los Angeles City and County. Mark your calendars for Homeless Count 2025\, taking place on the nights of January 21\, 22\, and 23. To learn more and sign up\, visit count.lahsa.org!
URL:https://ncwpdr.org/event/homeless-count-5/
LOCATION:CA
CATEGORIES:Events
ATTACH;FMTTYPE=image/jpeg:https://ncwpdr.org/wp-content/uploads/2024/11/homeless-count-2025.jpg
END:VEVENT
BEGIN:VEVENT
DTSTART;TZID=America/Los_Angeles:20250201T090000
DTEND;TZID=America/Los_Angeles:20250201T110000
DTSTAMP:20260425T035231
CREATED:20250130T174254Z
LAST-MODIFIED:20250130T174254Z
UID:14357-1738400400-1738407600@ncwpdr.org
SUMMARY:Coffee and a Conversation with Cops
DESCRIPTION:RSVP and send your questions to: margarita.diosomito@yahoo.com
URL:https://ncwpdr.org/event/coffee-and-a-conversation-with-cops/
LOCATION:Woman’s Club of Playa Del Rey\, 8039 W. Manchester Ave\, Playa Del Rey
CATEGORIES:Events
ATTACH;FMTTYPE=image/jpeg:https://ncwpdr.org/wp-content/uploads/2025/01/NCWP-coffee.jpg
END:VEVENT
BEGIN:VEVENT
DTSTART;TZID=America/Los_Angeles:20250201T090000
DTEND;TZID=America/Los_Angeles:20250201T140000
DTSTAMP:20260425T035231
CREATED:20250123T202342Z
LAST-MODIFIED:20250123T215111Z
UID:14351-1738400400-1738418400@ncwpdr.org
SUMMARY:Free Vision Screening
DESCRIPTION:
URL:https://ncwpdr.org/event/free-vision-screening/
LOCATION:Westchester Senior Center\, 8740 Lincoln Blvd.\, Westchester\, 90045
CATEGORIES:Events
ATTACH;FMTTYPE=image/jpeg:https://ncwpdr.org/wp-content/uploads/2025/01/2025-01-vision-screening2.jpg
END:VEVENT
BEGIN:VEVENT
DTSTART;TZID=America/Los_Angeles:20250204T180000
DTEND;TZID=America/Los_Angeles:20250204T183000
DTSTAMP:20260425T035231
CREATED:20250201T004133Z
LAST-MODIFIED:20250201T004133Z
UID:14366-1738692000-1738693800@ncwpdr.org
SUMMARY:Budget & Finance Committee Meeting
DESCRIPTION:The NCWP Budget & Finance Committee Meeting will be held February 4\, 6pm at the LAWA Police Headquarters.
URL:https://ncwpdr.org/event/budget-finance-committee-meeting-7/
LOCATION:LAWA Police Headquarters 9160 South Loyola Blvd\, Los Angeles\, CA 90045
CATEGORIES:Meetings
ATTACH;FMTTYPE=image/png:https://ncwpdr.org/wp-content/uploads/2025/01/budget-meeting-10.png
END:VEVENT
BEGIN:VEVENT
DTSTART;TZID=America/Los_Angeles:20250204T183000
DTEND;TZID=America/Los_Angeles:20250204T210000
DTSTAMP:20260425T035231
CREATED:20241210T191252Z
LAST-MODIFIED:20250201T221957Z
UID:14213-1738693800-1738702800@ncwpdr.org
SUMMARY:Board Meeting
DESCRIPTION:Join us for our next NCWP Meeting on Tuesday\, February 4\, 6:30pm. We will consider a number of Neighborhood Purpose Grants: \n\nWorld Harvest Food Bank\nWestside Pacific Villages\nLA Costal Education Foundation\n\n 
URL:https://ncwpdr.org/event/board-meeting-30-2025-02-04/
LOCATION:LAWA Police Headquarters 9160 South Loyola Blvd\, Los Angeles\, CA 90045
CATEGORIES:Meetings
ATTACH;FMTTYPE=image/png:https://ncwpdr.org/wp-content/uploads/2024/12/Meeting-Graphic-26.png
END:VEVENT
BEGIN:VEVENT
DTSTART;TZID=America/Los_Angeles:20250206T180000
DTEND;TZID=America/Los_Angeles:20250206T200000
DTSTAMP:20260425T035231
CREATED:20250205T204557Z
LAST-MODIFIED:20250205T204557Z
UID:14412-1738864800-1738872000@ncwpdr.org
SUMMARY:Special Community Plan Update Ad Hoc Committee Meeting
DESCRIPTION:Join us for a rescheduled Special Meeting of the Community Plan Update Ad Hoc Committee February 6\, 6pm at the Westchester-Loyola Village Library/Community Room 7114 W. Manchester Ave. \nWe will be recapping progress to date and next steps with our Community Plan Update. We will also be discussing ED-1 impacts.
URL:https://ncwpdr.org/event/special-community-plan-update-ad-hoc-committee-meeting/
LOCATION:Westchester-Loyola Village Library Community Room\, 7114 W. Manchester Ave\, 90045
CATEGORIES:Meetings
ATTACH;FMTTYPE=image/png:https://ncwpdr.org/wp-content/uploads/2025/02/Update-6.png
END:VEVENT
BEGIN:VEVENT
DTSTART;TZID=America/Los_Angeles:20250218T183000
DTEND;TZID=America/Los_Angeles:20250218T210000
DTSTAMP:20260425T035231
CREATED:20250215T035404Z
LAST-MODIFIED:20250215T035404Z
UID:14444-1739903400-1739912400@ncwpdr.org
SUMMARY:Planning and Land Use Committee Meeting
DESCRIPTION:Join us for the NCWP Planning and Land Use Committee Meeting February 18\, 6:30pm at the Westchester Municipal Building\, 7166 Manchester Blvd. \nOn our agenda: \n\n138 Culver Blvd\nHowe Mart Liquor Store alcohol\n237 East Montreal St.
URL:https://ncwpdr.org/event/planning-and-land-use-committee-meeting-8/
LOCATION:Westchester Municipal Building 7166 Manchester Avenue\, Westchester\, CA 90045\, 7166 Manchester Avenue\, Westchester\, CA\, 90045\, United States
CATEGORIES:Meetings
ATTACH;FMTTYPE=image/png:https://ncwpdr.org/wp-content/uploads/2025/02/PLUM-Mar-4.png
END:VEVENT
BEGIN:VEVENT
DTSTART;TZID=America/Los_Angeles:20250218T183000
DTEND;TZID=America/Los_Angeles:20250218T213000
DTSTAMP:20260425T035231
CREATED:20250214T034912Z
LAST-MODIFIED:20250214T034912Z
UID:14423-1739903400-1739914200@ncwpdr.org
SUMMARY:PLUC Committee Meeting
DESCRIPTION:Join us for presentations as follows: \n\n8501 Pershing Drive\, Playa Del Rey: Howe Mart Liquor Inc. – Presentation re: upgrade to full line of alcoholic beverages (Type 21) 6am – 12 am Daily\n5494 W Centinela LA 90045:  Presentation re:  existing retail cannabis business\n237  East Montreal St. LA 90293: Presentation re SFR development\n138 Culver Blvd.\, Playa Del Rey: Presentation re Edward Czuker – Legado Del Mar LLC Project
URL:https://ncwpdr.org/event/pluc-committee-meeting-3/
LOCATION:CD 11 Westchester District Office\, 7166 Manchester Ave\, Los Angeles\, 90045
END:VEVENT
BEGIN:VEVENT
DTSTART;TZID=America/Los_Angeles:20250220T200000
DTEND;TZID=America/Los_Angeles:20250220T230000
DTSTAMP:20260425T035231
CREATED:20250205T210138Z
LAST-MODIFIED:20250205T210138Z
UID:14416-1740081600-1740092400@ncwpdr.org
SUMMARY:Homeless Count
DESCRIPTION:Volunteer
URL:https://ncwpdr.org/event/homeless-count-6/
LOCATION:CA
CATEGORIES:Events
ATTACH;FMTTYPE=image/jpeg:https://ncwpdr.org/wp-content/uploads/2025/02/they-count-will-you-2025.jpg
END:VEVENT
BEGIN:VEVENT
DTSTART;TZID=America/Los_Angeles:20250224T183000
DTEND;TZID=America/Los_Angeles:20250224T203000
DTSTAMP:20260425T035231
CREATED:20250221T203957Z
LAST-MODIFIED:20250221T203957Z
UID:14470-1740421800-1740429000@ncwpdr.org
SUMMARY:Community Plan Update Ad Hoc Committee Meeting
DESCRIPTION:Join us for the NCWP Community Plan Update Ad Hoc Committee Meeting on Monday\, February 24\, 6:30pm at the Westchester Municipal Building\, 7166 Manchester Ave. \nWe will discuss a potential motion asking the City to share with us how many units they are requiring to be built in our area\, information which they have to this point not provided.
URL:https://ncwpdr.org/event/community-plan-update-ad-hoc-committee-meeting-9/
LOCATION:Westchester Municipal Building 7166 Manchester Avenue\, Westchester\, CA 90045\, 7166 Manchester Avenue\, Westchester\, CA\, 90045\, United States
CATEGORIES:Meetings
ATTACH;FMTTYPE=image/png:https://ncwpdr.org/wp-content/uploads/2025/02/Update-7.png
END:VEVENT
BEGIN:VEVENT
DTSTART;TZID=America/Los_Angeles:20250225T183000
DTEND;TZID=America/Los_Angeles:20250225T200000
DTSTAMP:20260425T035231
CREATED:20250221T100111Z
LAST-MODIFIED:20250221T211611Z
UID:14449-1740508200-1740513600@ncwpdr.org
SUMMARY:Public Safety Committee Meeting
DESCRIPTION:Join us for our 1st Public Safety meeting of the year as we hear and discuss updates from our Senior Lead Officers from the LAPD Pacific Division
URL:https://ncwpdr.org/event/february-25-2025-public-safety-committee-meeting/
LOCATION:Airport Police Community Room\, 9160 South Loyola Blvd\, Westchester\, CA\, 90045\, United States
CATEGORIES:Meetings
ATTACH;FMTTYPE=image/png:https://ncwpdr.org/wp-content/uploads/2025/02/NCWP-Public-Safety-4.png
END:VEVENT
BEGIN:VEVENT
DTSTART;TZID=America/Los_Angeles:20250301T070000
DTEND;TZID=America/Los_Angeles:20250301T160000
DTSTAMP:20260425T035231
CREATED:20250225T191736Z
LAST-MODIFIED:20250228T034529Z
UID:14484-1740812400-1740844800@ncwpdr.org
SUMMARY:Dragon Boat Festival
DESCRIPTION:
URL:https://ncwpdr.org/event/dragon-boat-festival/
LOCATION:Burton Chace Park\, 13650 Mindanao Way\, Marina Del Rey\, 90292
CATEGORIES:Events
ATTACH;FMTTYPE=image/jpeg:https://ncwpdr.org/wp-content/uploads/2025/02/LA-Co-DB-Fest-flyer-020725-scaled-1.jpg
END:VEVENT
BEGIN:VEVENT
DTSTART;TZID=America/Los_Angeles:20250304T183000
DTEND;TZID=America/Los_Angeles:20250304T210000
DTSTAMP:20260425T035231
CREATED:20241210T191252Z
LAST-MODIFIED:20250301T041531Z
UID:14214-1741113000-1741122000@ncwpdr.org
SUMMARY:Board Meeting
DESCRIPTION:Join us for the next meeting of the Neighborhood Council Westchester / Playa Tuesday\, March 4\, 6:30pm. \nOn our agenda: \n\nHousing units required in our area\nLetter to City Planning on NCWP input\n\n 
URL:https://ncwpdr.org/event/board-meeting-30-2025-03-04/
LOCATION:Westchester Municipal Building 7166 Manchester Avenue\, Westchester\, CA 90045\, 7166 Manchester Avenue\, Westchester\, CA\, 90045\, United States
CATEGORIES:Meetings
ATTACH;FMTTYPE=image/png:https://ncwpdr.org/wp-content/uploads/2024/12/Meeting-Graphic-25.png
END:VEVENT
BEGIN:VEVENT
DTSTART;TZID=America/Los_Angeles:20250308T073000
DTEND;TZID=America/Los_Angeles:20250308T110000
DTSTAMP:20260425T035231
CREATED:20250228T033343Z
LAST-MODIFIED:20250228T033343Z
UID:14506-1741419000-1741431600@ncwpdr.org
SUMMARY:Rock\, Roll & Run
DESCRIPTION:
URL:https://ncwpdr.org/event/rock-roll-run-2/
LOCATION:CA
CATEGORIES:Events
ATTACH;FMTTYPE=image/png:https://ncwpdr.org/wp-content/uploads/2025/02/Rock-Roll-Run-Sponsor-IG-posts.png
END:VEVENT
BEGIN:VEVENT
DTSTART;VALUE=DATE:20250310
DTEND;VALUE=DATE:20250315
DTSTAMP:20260425T035231
CREATED:20250228T032407Z
LAST-MODIFIED:20250228T032407Z
UID:14503-1741564800-1741996799@ncwpdr.org
SUMMARY:MyLA311 Week
DESCRIPTION:Use the MyLA311 to report illegal dumping\, potholes\, graffiti\, street lighting and more. \nGet the app or use the website: https://lacity.gov/myla311
URL:https://ncwpdr.org/event/myla311-week/
LOCATION:CA
CATEGORIES:Events
ATTACH;FMTTYPE=image/png:https://ncwpdr.org/wp-content/uploads/2025/02/MyLA311_FLYER-2025-General_PW-week-FINAL.png
END:VEVENT
BEGIN:VEVENT
DTSTART;TZID=America/Los_Angeles:20250313T100000
DTEND;TZID=America/Los_Angeles:20250313T160000
DTSTAMP:20260425T035231
CREATED:20250225T192114Z
LAST-MODIFIED:20250225T192114Z
UID:14490-1741860000-1741881600@ncwpdr.org
SUMMARY:Blood Drive
DESCRIPTION:
URL:https://ncwpdr.org/event/blood-drive-4/
LOCATION:Mindanao Way Community Room\, 13650 Mindanao Way\, Marina del Rey\, 90292
CATEGORIES:Events
ATTACH;FMTTYPE=image/jpeg:https://ncwpdr.org/wp-content/uploads/2025/02/DBH-Blood-Drive-March-2025-pdf.jpg
END:VEVENT
BEGIN:VEVENT
DTSTART;TZID=America/Los_Angeles:20250313T180000
DTEND;TZID=America/Los_Angeles:20250313T200000
DTSTAMP:20260425T035231
CREATED:20250228T031116Z
LAST-MODIFIED:20250228T031116Z
UID:14501-1741888800-1741896000@ncwpdr.org
SUMMARY:Park Needs Assessment Meeting
DESCRIPTION:
URL:https://ncwpdr.org/event/park-needs-assessment-meeting/
LOCATION:Westchester Recreation Center\, 7000 W. Manchester Ave\, 90045
CATEGORIES:Events
ATTACH;FMTTYPE=image/jpeg:https://ncwpdr.org/wp-content/uploads/2025/02/PNA-Phase-1-Community-Outreach-Flyer-pdf.jpg
END:VEVENT
BEGIN:VEVENT
DTSTART;TZID=America/Los_Angeles:20250318T183000
DTEND;TZID=America/Los_Angeles:20250318T190000
DTSTAMP:20260425T035231
CREATED:20250312T181405Z
LAST-MODIFIED:20250312T181405Z
UID:14551-1742322600-1742324400@ncwpdr.org
SUMMARY:No PLUC Meeting Tonight - Also\, all future PLUC meetings moved to the 2nd Tuesday of each month
DESCRIPTION:
URL:https://ncwpdr.org/event/no-pluc-meeting-tonight-also-all-future-pluc-meetings-moved-to-the-2nd-tuesday-of-each-month/
LOCATION:CD 11 Westchester District Office\, 7166 Manchester Ave\, Los Angeles\, 90045
END:VEVENT
BEGIN:VEVENT
DTSTART;TZID=America/Los_Angeles:20250324T183000
DTEND;TZID=America/Los_Angeles:20250324T193000
DTSTAMP:20260425T035231
CREATED:20250320T161906Z
LAST-MODIFIED:20250320T173559Z
UID:14593-1742841000-1742844600@ncwpdr.org
SUMMARY:Government Affairs Committee Meeting
DESCRIPTION:Join us for our NCWP Government Affairs Committee Meeting March 24\, 6:30pm at the Westchester Municipal Building\, 7166 W. Manchester. \nWe will discuss proposed comments to LADWP on Scattergood Generating Hydrogen Modernization. Discuss and consider restrictions on property owners who use them as investments and not for occupancy.
URL:https://ncwpdr.org/event/government-affairs-committee-meeting-5/
LOCATION:CA
CATEGORIES:Meetings
ATTACH;FMTTYPE=image/png:https://ncwpdr.org/wp-content/uploads/2025/03/NCWP-Gov-City-Hall-2.png
END:VEVENT
BEGIN:VEVENT
DTSTART;TZID=America/Los_Angeles:20250401T080000
DTEND;TZID=America/Los_Angeles:20250401T170000
DTSTAMP:20260425T035231
CREATED:20250627T173535Z
LAST-MODIFIED:20250627T173713Z
UID:14960-1743494400-1743526800@ncwpdr.org
SUMMARY:Ed Meeting
DESCRIPTION:
URL:https://ncwpdr.org/event/ed-meeting/
LOCATION:CA
CATEGORIES:Events
END:VEVENT
BEGIN:VEVENT
DTSTART;TZID=America/Los_Angeles:20250401T183000
DTEND;TZID=America/Los_Angeles:20250401T210000
DTSTAMP:20260425T035231
CREATED:20241210T191252Z
LAST-MODIFIED:20250330T003812Z
UID:14215-1743532200-1743541200@ncwpdr.org
SUMMARY:Board Meeting
DESCRIPTION:Join us for the next NCWP Meeting on Tuesday\, April 1\, 6:30pm at the Westchester Municipal Building\, 7144 Manchester. \nOn our agenda: \nThe Los Angeles Department of Water and Power (LADWP) has prepared a Draft Environmental Impact Report (EIR) as part of the California Environmental Quality Act (CEQA) for the proposed Scattergood Generating Station Units 1 and 2 Green Hydrogen-Ready Modernization Project. They will be on hand to answer questions. \n\nThe period for submitting comments has been extended\, LADWP will accept public comments during the dates listed from October 31\, 2024 to April 7\, 2025.  Comments: Scattergood_CEQA@ladwp.com.  The proposed project is located at 12700 Vista Del Mar in Playa Del Rey and would replace the existing generation with green hydrogen-ready units. This hydrogen-ready capability would allow LADWP to begin the conversion from natural gas to renewably-derived green hydrogen at this plant.
URL:https://ncwpdr.org/event/board-meeting-2025-04-01/
LOCATION:Westchester Municipal Building 7166 Manchester Avenue\, Westchester\, CA 90045\, 7166 Manchester Avenue\, Westchester\, CA\, 90045\, United States
CATEGORIES:Meetings
ATTACH;FMTTYPE=image/png:https://ncwpdr.org/wp-content/uploads/2024/12/Meeting-Graphic-27.png
END:VEVENT
BEGIN:VEVENT
DTSTART;TZID=America/Los_Angeles:20250403T180000
DTEND;TZID=America/Los_Angeles:20250403T193000
DTSTAMP:20260425T035231
CREATED:20250331T193533Z
LAST-MODIFIED:20250331T193533Z
UID:14659-1743703200-1743708600@ncwpdr.org
SUMMARY:Venice Town Hall
DESCRIPTION:Venice Town Hall – Please confirm your RSVP for the Venice Virtual Town Hall\, happening on Thursday\, April 3rd from 6:00 PM – 7:30 PM. A link to the meeting will be provided in your response and will also be available during the week of the event. We look forward to your participation!
URL:https://ncwpdr.org/event/venice-town-hall/
LOCATION:CA
CATEGORIES:Events
ATTACH;FMTTYPE=image/jpeg:https://ncwpdr.org/wp-content/uploads/2025/03/2025-Venice-Town-Hall.jpeg
END:VEVENT
BEGIN:VEVENT
DTSTART;TZID=America/Los_Angeles:20250406T100000
DTEND;TZID=America/Los_Angeles:20250406T130000
DTSTAMP:20260425T035231
CREATED:20250331T191003Z
LAST-MODIFIED:20250331T191003Z
UID:14652-1743933600-1743944400@ncwpdr.org
SUMMARY:Rain Barrel Giveaway
DESCRIPTION:Councilmember Traci Park is giving away free rain barrels at her Westchester office (7166 Manchester Ave) — come grab one while supplies last! It’s a simple\, eco-friendly way to keep your plants healthy and conserve water in our dry climate. Let’s make sustainability easy and local.
URL:https://ncwpdr.org/event/rain-barrel-giveaway/
LOCATION:CD 11 Westchester District Office\, 7166 Manchester Ave\, Los Angeles\, 90045
CATEGORIES:Events
ATTACH;FMTTYPE=image/jpeg:https://ncwpdr.org/wp-content/uploads/2025/03/2025-0406-rain-barrel.jpg
END:VEVENT
BEGIN:VEVENT
DTSTART;TZID=America/Los_Angeles:20250408T183000
DTEND;TZID=America/Los_Angeles:20250408T200000
DTSTAMP:20260425T035231
CREATED:20250331T193327Z
LAST-MODIFIED:20250331T193819Z
UID:14655-1744137000-1744142400@ncwpdr.org
SUMMARY:Planning and Land Use Committee Meeting
DESCRIPTION:Join us for presentations regarding the 9210 South Sepulveda Blvd. 7-11’s request for a CUP to request approval for the off-site sale of beer and wine and a presentation by Building a Better Westchester regarding a proposed motion to request CD11 Staff to advocate with the Planning Dept. to support Westchester CDO enforcement. \nNCWP Planning and Land Use Committee Meeting April 8\, 6:30pm at the Westchester Municipal Building\, 7166 Manchester. \n  \n 
URL:https://ncwpdr.org/event/planning-and-land-use-committee-meeting-9/
LOCATION:Westchester Municipal Building 7166 Manchester Avenue\, Westchester\, CA 90045\, 7166 Manchester Avenue\, Westchester\, CA\, 90045\, United States
CATEGORIES:Meetings
ATTACH;FMTTYPE=image/png:https://ncwpdr.org/wp-content/uploads/2025/03/PLUM-Mar-6.png
END:VEVENT
BEGIN:VEVENT
DTSTART;TZID=America/Los_Angeles:20250412T080000
DTEND;TZID=America/Los_Angeles:20250412T140000
DTSTAMP:20260425T035231
CREATED:20250409T233116Z
LAST-MODIFIED:20250409T233116Z
UID:14684-1744444800-1744466400@ncwpdr.org
SUMMARY:Electronic Waste Drive
DESCRIPTION:
URL:https://ncwpdr.org/event/electronic-waste-drive/
LOCATION:LAPD Pacific Station\, 12312 Culver Blvd\, Los Angeles\, 90066
CATEGORIES:Events
ATTACH;FMTTYPE=image/jpeg:https://ncwpdr.org/wp-content/uploads/2025/04/E-waste-2025-pdf.jpg
END:VEVENT
BEGIN:VEVENT
DTSTART;TZID=America/Los_Angeles:20250412T090000
DTEND;TZID=America/Los_Angeles:20250412T120000
DTSTAMP:20260425T035231
CREATED:20250225T191920Z
LAST-MODIFIED:20250225T191920Z
UID:14487-1744448400-1744459200@ncwpdr.org
SUMMARY:Kids Beach Clean Up
DESCRIPTION:
URL:https://ncwpdr.org/event/kids-beach-clean-up-2/
LOCATION:Dockweiler Youth Center\, 12505 Vista Del Mar\, Playa Del Rey\, 90293
CATEGORIES:Events
ATTACH;FMTTYPE=image/jpeg:https://ncwpdr.org/wp-content/uploads/2025/02/Kids-Beach-Cleanup-English-scaled-2.jpg
END:VEVENT
BEGIN:VEVENT
DTSTART;TZID=America/Los_Angeles:20250419T110000
DTEND;TZID=America/Los_Angeles:20250419T140000
DTSTAMP:20260425T035231
CREATED:20250407T173709Z
LAST-MODIFIED:20250407T173709Z
UID:14673-1745060400-1745071200@ncwpdr.org
SUMMARY:Spring Festival & Egg Hunt
DESCRIPTION:
URL:https://ncwpdr.org/event/spring-festival-egg-hunt/
LOCATION:Westchester Recreation Center\, 7000 W. Manchester Ave\, 90045
CATEGORIES:Events
ATTACH;FMTTYPE=image/png:https://ncwpdr.org/wp-content/uploads/2025/04/2025-04-19-egg-hunt.png
END:VEVENT
BEGIN:VEVENT
DTSTART;TZID=America/Los_Angeles:20250428T183000
DTEND;TZID=America/Los_Angeles:20250428T200000
DTSTAMP:20260425T035231
CREATED:20250424T193436Z
LAST-MODIFIED:20250424T193436Z
UID:14699-1745865000-1745870400@ncwpdr.org
SUMMARY:Community Plan Update Ad Hoc Committee Meeting
DESCRIPTION:Join us for a meeting of the NCWP Community Plan Update Ad Hoc Committee on Monday\, April 28\, 6:30 at the Westchester Municipal Building\, 7166 Manchester. \nWe are developing a survey to engage the community about the Community Plan Update and we invite you to help us refine the information we are collecting and the questions we are asking.
URL:https://ncwpdr.org/event/community-plan-update-ad-hoc-committee-meeting-10/
LOCATION:Westchester Municipal Building 7166 Manchester Avenue\, Westchester\, CA 90045\, 7166 Manchester Avenue\, Westchester\, CA\, 90045\, United States
CATEGORIES:Meetings
ATTACH;FMTTYPE=image/png:https://ncwpdr.org/wp-content/uploads/2025/04/Update-8.png
END:VEVENT
BEGIN:VEVENT
DTSTART;TZID=America/Los_Angeles:20250429T183000
DTEND;TZID=America/Los_Angeles:20250429T200000
DTSTAMP:20260425T035231
CREATED:20250425T211832Z
LAST-MODIFIED:20250425T211832Z
UID:14709-1745951400-1745956800@ncwpdr.org
SUMMARY:Budget Webinar
DESCRIPTION:You are invited to join a webinar: NC Budget Advocates Town Hall: “Thoughts on the Mayor’s Proposed Budget for Fiscal Year 2025-2026”. After registering\, you will receive a confirmation email about joining the webinar.\n\n\nBelow is the Zoom registration link for the NC Budget Advocates Town Hall: “Thoughts on the Mayor’s Proposed Budget for Fiscal Year 2025-2026”\nExplanation of how we got to a billion dollar crisis
URL:https://ncwpdr.org/event/budget-webinar/
LOCATION:CA
CATEGORIES:Events
ATTACH;FMTTYPE=image/png:https://ncwpdr.org/wp-content/uploads/2025/04/2025-04-29-budget-advocates.png
END:VEVENT
END:VCALENDAR