BEGIN:VCALENDAR
VERSION:2.0
PRODID:-//Neighborhood Council of Westchester/Playa - ECPv6.15.18//NONSGML v1.0//EN
CALSCALE:GREGORIAN
METHOD:PUBLISH
X-WR-CALNAME:Neighborhood Council of Westchester/Playa
X-ORIGINAL-URL:https://ncwpdr.org
X-WR-CALDESC:Events for Neighborhood Council of Westchester/Playa
REFRESH-INTERVAL;VALUE=DURATION:PT1H
X-Robots-Tag:noindex
X-PUBLISHED-TTL:PT1H
BEGIN:VTIMEZONE
TZID:America/Los_Angeles
BEGIN:DAYLIGHT
TZOFFSETFROM:-0800
TZOFFSETTO:-0700
TZNAME:PDT
DTSTART:20210314T100000
END:DAYLIGHT
BEGIN:STANDARD
TZOFFSETFROM:-0700
TZOFFSETTO:-0800
TZNAME:PST
DTSTART:20211107T090000
END:STANDARD
BEGIN:DAYLIGHT
TZOFFSETFROM:-0800
TZOFFSETTO:-0700
TZNAME:PDT
DTSTART:20220313T100000
END:DAYLIGHT
BEGIN:STANDARD
TZOFFSETFROM:-0700
TZOFFSETTO:-0800
TZNAME:PST
DTSTART:20221106T090000
END:STANDARD
BEGIN:DAYLIGHT
TZOFFSETFROM:-0800
TZOFFSETTO:-0700
TZNAME:PDT
DTSTART:20230312T100000
END:DAYLIGHT
BEGIN:STANDARD
TZOFFSETFROM:-0700
TZOFFSETTO:-0800
TZNAME:PST
DTSTART:20231105T090000
END:STANDARD
END:VTIMEZONE
BEGIN:VEVENT
DTSTART;TZID=America/Los_Angeles:20220816T183000
DTEND;TZID=America/Los_Angeles:20220816T213000
DTSTAMP:20260425T184232
CREATED:20210814T043750Z
LAST-MODIFIED:20220812T220553Z
UID:7763-1660674600-1660685400@ncwpdr.org
SUMMARY:Planning and Land Use-Cancelled
DESCRIPTION:
URL:https://ncwpdr.org/event/planning-and-land-use-2-2021-10-19-2022-02-15-2022-08-16/
LOCATION:Zoom
CATEGORIES:Meetings
ATTACH;FMTTYPE=image/jpeg:https://ncwpdr.org/wp-content/uploads/2021/01/Playa-Vista-from-Bluff-Creek-Trail-Cord-Thomas-content-page-header-c-1.jpg
END:VEVENT
BEGIN:VEVENT
DTSTART;TZID=America/Los_Angeles:20220811T183000
DTEND;TZID=America/Los_Angeles:20220811T200000
DTSTAMP:20260425T184232
CREATED:20220731T234233Z
LAST-MODIFIED:20220810T180019Z
UID:10222-1660242600-1660248000@ncwpdr.org
SUMMARY:Community Services Meeting
DESCRIPTION:Please join us on August 11\, 2022 at 6:30 pm for our next Community Services Meeting. \nOn our agenda: \n\nWestchester Arts & Music Block Party\nEmerson Community Garden\n\nZoom Meeting/Webinar Online: https://us02web.zoom.us/j/97103151539 or By Telephone\nDial +1 (833) 548-0282 to Join the Meeting/Webinar\nThen Enter This Zoom Meeting/Webinar ID: 971 0315 1539 and Press #
URL:https://ncwpdr.org/event/community-services-meeting/
LOCATION:Zoom
CATEGORIES:Meetings
ATTACH;FMTTYPE=image/jpeg:https://ncwpdr.org/wp-content/uploads/2022/07/WAM-photo.jpg
END:VEVENT
BEGIN:VEVENT
DTSTART;TZID=America/Los_Angeles:20220809T183000
DTEND;TZID=America/Los_Angeles:20220809T210000
DTSTAMP:20260425T184232
CREATED:20220425T235058Z
LAST-MODIFIED:20220808T231411Z
UID:9507-1660069800-1660078800@ncwpdr.org
SUMMARY:Special Meeting-Cancelled
DESCRIPTION:Join us for the next NCWP Meeting specially scheduled on Tuesday\, August 9\, 6:30pm. \nOur topic will be RV & Dwelling Encampments. \nhttps://us02web.zoom.us/j/99993297439 \nTo Join the Zoom Meeting By Telephone Dial 1 (833) 548-0282 Next Enter This Zoom Meeting ID 999 9329 7439 and Press # Instructions on how to sign up for public comment will be given to listeners at the start of the meeting.
URL:https://ncwpdr.org/event/special-meeting-2022-0809/
CATEGORIES:Meetings
ATTACH;FMTTYPE=image/png:https://ncwpdr.org/wp-content/uploads/2022/04/NCWP-August-2022.png
END:VEVENT
BEGIN:VEVENT
DTSTART;TZID=America/Los_Angeles:20220806T090000
DTEND;TZID=America/Los_Angeles:20220806T120000
DTSTAMP:20260425T184232
CREATED:20220729T172846Z
LAST-MODIFIED:20220729T172846Z
UID:10218-1659776400-1659787200@ncwpdr.org
SUMMARY:Westchester CA Team Challenge
DESCRIPTION:Westchester CA Team Challenge is gearing up for a half day of good old-fashioned fun on Saturday\, August 6 to raise funds for a local cause. We are asking neighbors to put together a group/team of 6-10 people to play 5 games on Drollinger Field at LMU – the recreation field above the parking lot. Cost to register a team is $300. Sponsorships are also available for $500. \nMore: https://www.westchestercateamchallenge.com/
URL:https://ncwpdr.org/event/westchester-ca-team-challenge/
LOCATION:LMU Drollinger Field
CATEGORIES:Events
ATTACH;FMTTYPE=image/jpeg:https://ncwpdr.org/wp-content/uploads/2022/07/westchester-team-challenge.jpg
END:VEVENT
BEGIN:VEVENT
DTSTART;TZID=America/Los_Angeles:20220802T183000
DTEND;TZID=America/Los_Angeles:20220802T183000
DTSTAMP:20260425T184232
CREATED:20220425T234736Z
LAST-MODIFIED:20220705T173726Z
UID:9503-1659465000-1659465000@ncwpdr.org
SUMMARY:Canceled Board Meeting
DESCRIPTION:The Neighborhood Council of Westchester / Playa will be participating in National Night Out in Playa Vista  – Come say hello and meeting Board Members and other Stakeholders.
URL:https://ncwpdr.org/event/board-meeting-19/
CATEGORIES:Meetings
ATTACH;FMTTYPE=image/png:https://ncwpdr.org/wp-content/uploads/2021/01/zoom-meeting.png
END:VEVENT
BEGIN:VEVENT
DTSTART;TZID=America/Los_Angeles:20220802T170000
DTEND;TZID=America/Los_Angeles:20220802T200000
DTSTAMP:20260425T184232
CREATED:20220705T191608Z
LAST-MODIFIED:20220705T191608Z
UID:10108-1659459600-1659470400@ncwpdr.org
SUMMARY:National Night Out
DESCRIPTION:
URL:https://ncwpdr.org/event/national-night-out-3/
CATEGORIES:Events
ATTACH;FMTTYPE=image/jpeg:https://ncwpdr.org/wp-content/uploads/2022/07/NCWP-NNO-2022.jpg
END:VEVENT
BEGIN:VEVENT
DTSTART;TZID=America/Los_Angeles:20220802T160000
DTEND;TZID=America/Los_Angeles:20220802T183000
DTSTAMP:20260425T184232
CREATED:20220715T213153Z
LAST-MODIFIED:20220715T213153Z
UID:10169-1659456000-1659465000@ncwpdr.org
SUMMARY:Transportation Demand Management Open House & Hearing
DESCRIPTION:LA City Planning and LA Department of Transportation are pleased to announce the release of revised drafts for the proposed Transportation Demand Management (TDM) Program update for public review and comment. A virtual Open House & Public Hearing is scheduled for Tuesday\, August 2\, 2022 at 4:00 p.m. \nThe proposed TDM Program update aims to reduce the need for drive-alone vehicle trips by increasing transportation options and accessibility throughout the City\, providing benefits to the environment and public health. It would require new development projects over a certain size to implement strategies such as supporting transit\, telecommuting\, walking\, carshare\, and other sustainable travel options that reduce vehicle trips. \nThe revised drafts of the TDM Ordinance and TDM Program Guidelines incorporate feedback gathered over the last several years\, including through public workshops and office hours held in 2021. Among changes to the revised ordinance are adjusted project size thresholds and modified monitoring and enforcement procedures. \nPlease visit City Planning’s mobility website planning4la.org/mobility to view the revised draft TDM Ordinance\, draft TDM Program Guidelines\, a new fact sheet\, informational videos\, and to sign up for updates. \nA public hearing is a means to collect comments from stakeholders before the proposed TDM Program update is presented to the City Planning Commission for recommendation\, and ultimately the City Council for adoption. A presentation will be followed by an opportunity to provide oral comments. The virtual Open House and Public Hearing is open to everyone who would like to participate. No decisions will be made at the Public Hearing. \nOpen House & Public Hearing (Virtual)\nTuesday\, August 2\, 2022\n4:00 – 4:45 p.m. Presentation\n4:45 – 6:30 p.m. Public Hearing \nZoom Meeting\nhttps://planning-lacity-org.zoom.us/j/81067836037 \nWebinar ID: 810 6783 6037\nPassword: 694094\n\nDial by your location:\nUS: +1 669 900 9128 or +1 213 338 8477
URL:https://ncwpdr.org/event/transportation-demand-management-open-house-hearing/
CATEGORIES:Events
ATTACH;FMTTYPE=image/png:https://ncwpdr.org/wp-content/uploads/2022/07/transportation-demand-management.png
END:VEVENT
BEGIN:VEVENT
DTSTART;TZID=America/Los_Angeles:20220727T183000
DTEND;TZID=America/Los_Angeles:20220727T200000
DTSTAMP:20260425T184232
CREATED:20220718T210536Z
LAST-MODIFIED:20220722T200942Z
UID:10173-1658946600-1658952000@ncwpdr.org
SUMMARY:Education Committee Meeting
DESCRIPTION:Please join us for this month’s Education Committee Meeting where we’ll host LMU Dean of Education\, hear updates from community resources and learn more about ongoing committee work. Please join us! \n\n\n\nJoin Zoom Meeting \nhttps://us02web.zoom.us/j/85349860692 \nMeeting ID: 853 4986 0692\nOne tap mobile\n+16699006833\, 85349860692# US (San Jose)
URL:https://ncwpdr.org/event/education-committee-meeting-11/
LOCATION:Zoom
CATEGORIES:Meetings
ATTACH;FMTTYPE=image/png:https://ncwpdr.org/wp-content/uploads/2022/07/july-27-ncwp-ed.png
END:VEVENT
BEGIN:VEVENT
DTSTART;TZID=America/Los_Angeles:20220725T183000
DTEND;TZID=America/Los_Angeles:20220725T200000
DTSTAMP:20260425T184232
CREATED:20220719T024839Z
LAST-MODIFIED:20220721T220022Z
UID:10182-1658773800-1658779200@ncwpdr.org
SUMMARY:Government Affairs Committee Meeting
DESCRIPTION:Join us for the NCWP Government Affairs Committee Meeting on July 25\, 6:30pm \nZoom Meeting/Webinar Online: https://us02web.zoom.us/j/84507734166 or By Telephone\nDial +1 (833) 548-0282 to Join the Meeting/Webinar\nThen Enter This Zoom Meeting/Webinar ID: 845 0773 4166 and Press #
URL:https://ncwpdr.org/event/july-25-2022-government-affairs-committee/
LOCATION:Zoom
CATEGORIES:Meetings
ATTACH;FMTTYPE=image/png:https://ncwpdr.org/wp-content/uploads/2022/07/NCWP-Gov-City-Hall-July.png
END:VEVENT
BEGIN:VEVENT
DTSTART;TZID=America/Los_Angeles:20220719T183000
DTEND;TZID=America/Los_Angeles:20220719T213000
DTSTAMP:20260425T184232
CREATED:20210814T043750Z
LAST-MODIFIED:20220715T211924Z
UID:7762-1658255400-1658266200@ncwpdr.org
SUMMARY:Planning and Land Use
DESCRIPTION:Join us for the Planning and Land Use Committee Meeting on July 19\, 6:30pm. \n\nOn our agenda 7346 S. Rindge\nCity Enforcement of Short Term Rentals\n\nZoom Meeting/Webinar Online: https://us02web.zoom.us/j/92562414437 or By Telephone\nDial +1 (833) 548-0282 to Join the Meeting/Webinar\nThen Enter This Zoom Meeting/Webinar ID:925 6241 4437 and Press #
URL:https://ncwpdr.org/event/planning-and-land-use-2-2021-10-19-2022-02-15-2022-07-19/
LOCATION:Zoom
CATEGORIES:Meetings
ATTACH;FMTTYPE=image/png:https://ncwpdr.org/wp-content/uploads/2021/08/PLUM-July.png
END:VEVENT
BEGIN:VEVENT
DTSTART;TZID=America/Los_Angeles:20220705T183000
DTEND;TZID=America/Los_Angeles:20220705T210000
DTSTAMP:20260425T184232
CREATED:20220425T234542Z
LAST-MODIFIED:20220705T174728Z
UID:9501-1657045800-1657054800@ncwpdr.org
SUMMARY:Board Meeting
DESCRIPTION:Join us for our NWCP Meeting on Tuesday\, July 5\, 6:30pm. \nOn our agenda: \n\n\n\nUpdate on Westchester Park\nNational Night Out\, August 2\nWestchester Arts & Music Block Party\n\n\n\nhttps://us02web.zoom.us/j/99993297439 \nTo Join the Zoom Meeting By Telephone Dial 1 (833) 548-0282 Next Enter This Zoom Meeting ID 999 9329 7439 and Press # Instructions on how to sign up for public comment will be given to listeners at the start of the meeting.
URL:https://ncwpdr.org/event/board-meeting-18/
CATEGORIES:Meetings
ATTACH;FMTTYPE=image/png:https://ncwpdr.org/wp-content/uploads/2022/04/NCWP-Meeting-with-July-5.png
END:VEVENT
BEGIN:VEVENT
DTSTART;TZID=America/Los_Angeles:20220704T210000
DTEND;TZID=America/Los_Angeles:20220704T213000
DTSTAMP:20260425T184232
CREATED:20220629T003200Z
LAST-MODIFIED:20220629T003200Z
UID:10037-1656968400-1656970200@ncwpdr.org
SUMMARY:Fireworks Show
DESCRIPTION:
URL:https://ncwpdr.org/event/fireworks-show/
CATEGORIES:Events
ATTACH;FMTTYPE=image/jpeg:https://ncwpdr.org/wp-content/uploads/2022/06/2022-4th-of-july-event-final-scaled_original.jpg
END:VEVENT
BEGIN:VEVENT
DTSTART;TZID=America/Los_Angeles:20220704T110000
DTEND;TZID=America/Los_Angeles:20220704T130000
DTSTAMP:20260425T184232
CREATED:20220616T221851Z
LAST-MODIFIED:20220616T221910Z
UID:9982-1656932400-1656939600@ncwpdr.org
SUMMARY:22nd Annual Fourth of July Parade
DESCRIPTION:The chamber is excited to present this event on Monday\, July 4th at 11 AM down Loyola Blvd. from Westchester Park to LMU. Our 2022 parade theme is “Yours for a Better Community: Celebrating the Best of America\,” in honor of Howard Drollinger’s 100th birthday. Howard was an entrepreneur and philanthropist\, who would sign all of his letters with “Yours for a Better Westchester.” He was also one of the chamber’s founders\, as well as a past chairman. His legacy continues in the LAX Coastal area through his daughter\, Karen Dial\, who is President of Drollinger Properties and the Drollinger Charitable Foundation. Karen will serve as this year’s Grand Marshal.
URL:https://ncwpdr.org/event/22nd-annual-fourth-of-july-parade/
CATEGORIES:Events
ATTACH;FMTTYPE=image/png:https://ncwpdr.org/wp-content/uploads/2022/06/2022-06-4th-of-july-parade.png
END:VEVENT
BEGIN:VEVENT
DTSTART;TZID=America/Los_Angeles:20220629T183000
DTEND;TZID=America/Los_Angeles:20220629T193000
DTSTAMP:20260425T184232
CREATED:20220628T224549Z
LAST-MODIFIED:20230823T001612Z
UID:10019-1656527400-1656531000@ncwpdr.org
SUMMARY:Special Board Meeting
DESCRIPTION:Join us for a specially scheduled meeting of the NCWP on Wednesday\, June 29\, 6:30pm. \nhttps://us02web.zoom.us/j/99993297439 \nTo Join the Zoom Meeting By Telephone Dial 1 (833) 548-0282 and Then Enter This Zoom Meeting ID 999 9329 7439 and Press #  Instructions on how to sign up for public comment will be given to listeners at the start of the meeting. \n 
URL:https://ncwpdr.org/event/special-board-meeting-7/
CATEGORIES:Meetings
ATTACH;FMTTYPE=image/png:https://ncwpdr.org/wp-content/uploads/2022/06/NCWP-Meeting-June-29.png
END:VEVENT
BEGIN:VEVENT
DTSTART;TZID=America/Los_Angeles:20220622T183000
DTEND;TZID=America/Los_Angeles:20220622T200000
DTSTAMP:20260425T184232
CREATED:20220523T125827Z
LAST-MODIFIED:20220620T210531Z
UID:9750-1655922600-1655928000@ncwpdr.org
SUMMARY:Education Committee Meeting
DESCRIPTION:Please join us for our Education Committee Meeting  to honor our local High School Graduates. We will also receive updates from community organizations and our Westchester Community of Schools\, provide updates on ongoing committee work\, and discuss possible meeting schedules for the 2022-23 school year. \nJoin Zoom Webinar \nZoom Webinar Online: https://us02web.zoom.us/j/85349860692 \nBy TelephoneDial +1 (833) 548-0282 to Join the WebinarThen Enter This Zoom Webinar ID: 853 4986 0692 and Press # \n  \nMeeting ID: 853 4986 0692One tap mobile \n+16699006833\, 85349860692# US (San Jose)
URL:https://ncwpdr.org/event/june-15-2022-education-committee-special-meeting/
LOCATION:Zoom
CATEGORIES:Meetings
ATTACH;FMTTYPE=image/png:https://ncwpdr.org/wp-content/uploads/2022/05/Ribbon-education-committee-meeting-june.png
END:VEVENT
BEGIN:VEVENT
DTSTART;TZID=America/Los_Angeles:20220621T183000
DTEND;TZID=America/Los_Angeles:20220621T213000
DTSTAMP:20260425T184232
CREATED:20210814T043750Z
LAST-MODIFIED:20220617T192540Z
UID:7761-1655836200-1655847000@ncwpdr.org
SUMMARY:Planning and Land Use
DESCRIPTION:Join us for our next NCWP Planning and Land Use Committee on Tuesday\, June 21\, 6:30pm. \nOn our agenda: \n\nLMU Master Plan Update\nAddition to 403 E. Manchester Ave.\, Playa del Rey\n\nZoom Meeting/Webinar Online: https://us02web.zoom.us/j/92562414437 or By Telephone\nDial +1 (833) 548-0282 to Join the Meeting/Webinar\nThen Enter This Zoom Meeting/Webinar ID:925 6241 4437 and Press #
URL:https://ncwpdr.org/event/planning-and-land-use-2022-06-21/
LOCATION:Zoom
CATEGORIES:Meetings
ATTACH;FMTTYPE=image/png:https://ncwpdr.org/wp-content/uploads/2021/08/PLUM-June-2022.png
END:VEVENT
BEGIN:VEVENT
DTSTART;VALUE=DATE:20220619
DTEND;VALUE=DATE:20220620
DTSTAMP:20260425T184232
CREATED:20220613T190642Z
LAST-MODIFIED:20220613T190642Z
UID:9900-1655596800-1655683199@ncwpdr.org
SUMMARY:Father's Day
DESCRIPTION:
URL:https://ncwpdr.org/event/fathers-day/
CATEGORIES:Events
ATTACH;FMTTYPE=image/png:https://ncwpdr.org/wp-content/uploads/2022/06/NCWP-Fathers-Day.png
END:VEVENT
BEGIN:VEVENT
DTSTART;TZID=America/Los_Angeles:20220618T093000
DTEND;TZID=America/Los_Angeles:20220618T123000
DTSTAMP:20260425T184232
CREATED:20220613T190811Z
LAST-MODIFIED:20220613T190811Z
UID:9903-1655544600-1655555400@ncwpdr.org
SUMMARY:Budget Day
DESCRIPTION:You are invited to participate in learning more about the Los Angeles City Budget. All City services and issues come down to budget. \nThe theme is\, “Which Way L.A?” Budget Day will be held via Zoom with a Plenary Session running from 9:30 a.m. to 11:30 a.m. and Regional Breakout Sessions running from 11:30 a.m. to 12:30 p.m. The Plenary Session will include speakers and a panel discussion on the theme including participation from our elected officials. \nREGISTER
URL:https://ncwpdr.org/event/budget-day-4/
CATEGORIES:Events
ATTACH;FMTTYPE=image/png:https://ncwpdr.org/wp-content/uploads/2022/06/2022-budget-day.png
END:VEVENT
BEGIN:VEVENT
DTSTART;TZID=America/Los_Angeles:20220617T100000
DTEND;TZID=America/Los_Angeles:20220617T140000
DTSTAMP:20260425T184232
CREATED:20220610T184043Z
LAST-MODIFIED:20220610T184043Z
UID:9852-1655460000-1655474400@ncwpdr.org
SUMMARY:LAUSD Job Fair
DESCRIPTION:REGISTER
URL:https://ncwpdr.org/event/lausd-job-fair/
CATEGORIES:Events
ATTACH;FMTTYPE=image/jpeg:https://ncwpdr.org/wp-content/uploads/2022/06/lausd-job-fair.jpg
END:VEVENT
BEGIN:VEVENT
DTSTART;TZID=America/Los_Angeles:20220616T180000
DTEND;TZID=America/Los_Angeles:20220616T200000
DTSTAMP:20260425T184232
CREATED:20220616T220930Z
LAST-MODIFIED:20220616T221156Z
UID:9977-1655402400-1655409600@ncwpdr.org
SUMMARY:Sepulveda Transit Corridor Project
DESCRIPTION:Metro invites you to attend a virtual community meeting where we’ll provide an update on the recently completed public scoping period\, which was the first step in the environmental review process. We have finalized the Scoping Summary Report and will discuss its findings during the meeting. We will also provide an update on the status of the environmental study\, next steps\, and respond to questions. \nRead more in the Source post or access the Scoping Summary Report here. \nNote: The Zoom webinar will open at 5:45pm and we will show the project video through twice as an overview/refresher of the project before the meeting begins at 6pm. \nThursday\, June 16\, 2022\n6:00pm-8:00pm \nWebinar Link: https://bit.ly/SepulvedaTransitUpdate\nTelephone: (213) 338-8477\nWebinar ID: 870 2914 9139\nPasscode: 039512 \nREGISTER
URL:https://ncwpdr.org/event/sepulveda-transit-corridor-project/
CATEGORIES:Events
ATTACH;FMTTYPE=image/jpeg:https://ncwpdr.org/wp-content/uploads/2022/06/sepulveda-transit-corridor-header.jpg
END:VEVENT
BEGIN:VEVENT
DTSTART;TZID=America/Los_Angeles:20220615T100000
DTEND;TZID=America/Los_Angeles:20220615T120000
DTSTAMP:20260425T184232
CREATED:20220614T200011Z
LAST-MODIFIED:20220614T200011Z
UID:9933-1655287200-1655294400@ncwpdr.org
SUMMARY:LMU Master Plan at Los Angeles City Council
DESCRIPTION:This is a courtesy email to let you know that the LMU amendment to its Master Plan was agendized for the June 15th meeting of the Los Angeles City Council. You can find the agenda here: https://lacity.primegov.com/Portal/MeetingPreview?compiledMeetingDocumentFileId=36614
URL:https://ncwpdr.org/event/lmu-master-plan-at-los-angeles-city-council/
CATEGORIES:Events
ATTACH;FMTTYPE=image/jpeg:https://ncwpdr.org/wp-content/uploads/2022/05/campus-library2.jpg
END:VEVENT
BEGIN:VEVENT
DTSTART;TZID=America/Los_Angeles:20220614T183000
DTEND;TZID=America/Los_Angeles:20220614T210000
DTSTAMP:20260425T184232
CREATED:20220610T183710Z
LAST-MODIFIED:20220613T185602Z
UID:9850-1655231400-1655240400@ncwpdr.org
SUMMARY:Board Meeting
DESCRIPTION:Join us Tuesday\, June 14\, 6:30pm for our next SPECIAL NCWP Meeting. \nWe will hear a presentation on the Northside Open Space Development. \nJoin online: \nhttps://us02web.zoom.us/j/99993297439To Join the Zoom Meeting By Telephone Dial 1 (833) 548-0282 and Then Enter This Zoom Meeting ID 999 9329 7439 and Press #. Instructions on how to sign up for public comment will be given to listeners at the start of the meeting.
URL:https://ncwpdr.org/event/board-meeting-june-14-2022/
CATEGORIES:Meetings
ATTACH;FMTTYPE=image/png:https://ncwpdr.org/wp-content/uploads/2022/06/NCWP-Meeting-with-beach-overlay-June.png
END:VEVENT
BEGIN:VEVENT
DTSTART;TZID=America/Los_Angeles:20220611T070000
DTEND;TZID=America/Los_Angeles:20220611T130000
DTSTAMP:20260425T184232
CREATED:20220610T184258Z
LAST-MODIFIED:20220610T184258Z
UID:9855-1654930800-1654952400@ncwpdr.org
SUMMARY:HireLAX Apprenticeship Readiness Program
DESCRIPTION:The HireLAX Apprenticeship Readiness Program is accepting applications for its latest cohort\, which is scheduled to begin in July. The required orientation to be considered for the program is on Saturday\, June 11\, 2022\, 7:00 am – 1:00 pm. This eight-week course introduces its local students to construction concepts and helps them develop skills that make them ready for union apprenticeships. \nWhy apply for HireLAX? \n\nHireLAX has the 2nd highest placement rate in the county (steadily moving closer to first) out of approximately 18 pre-apprenticeship programs.\nHireLAX has placed 190 people into union construction jobs\, with graduates collectively earning more than $10 million to support their families and our local communities. An additional 6 graduates went to work in non-union construction (including 2 who went straight into management overseeing union craft workers)\, and 4 were assisted into non-construction jobs.\nHireLAX is a nationally recognized program by multiple trade organizations\, including Construction Users RoundTable (CURT) because of the level of support provided to students. As a result of the ongoing success of the graduates\, the HireLAX team has been invited to speak in front of numerous audiences around the country (and virtually) to discuss their program model.\n\nhttps://hirelax-2022-06-11.eventbrite.com/
URL:https://ncwpdr.org/event/hirelax-apprenticeship-readiness-program/
CATEGORIES:Events
ATTACH;FMTTYPE=image/jpeg:https://ncwpdr.org/wp-content/uploads/2022/06/lax-apprenticeship.jpg
END:VEVENT
BEGIN:VEVENT
DTSTART;TZID=America/Los_Angeles:20220609T183000
DTEND;TZID=America/Los_Angeles:20220609T203000
DTSTAMP:20260425T184232
CREATED:20220530T210906Z
LAST-MODIFIED:20220604T011140Z
UID:9799-1654799400-1654806600@ncwpdr.org
SUMMARY:Community Services Meeting
DESCRIPTION:Please join us for our next Community Services Meeting June 9\, 6:30pm on Zoom where we’ll be focusing on services and programs supporting the youth in our community. \nZoom Meeting/Webinar Online: https://us02web.zoom.us/j/97103151539 \nor By TelephoneDial +1 (833) 548-0282 to Join the Meeting/Webinar
URL:https://ncwpdr.org/event/june-9-2022-community-services-meeting/
LOCATION:Zoom
CATEGORIES:Meetings
ATTACH;FMTTYPE=image/png:https://ncwpdr.org/wp-content/uploads/2022/05/mural-community-services.png
END:VEVENT
BEGIN:VEVENT
DTSTART;TZID=America/Los_Angeles:20220607T183000
DTEND;TZID=America/Los_Angeles:20220607T210000
DTSTAMP:20260425T184232
CREATED:20220425T234521Z
LAST-MODIFIED:20220608T001003Z
UID:9499-1654626600-1654635600@ncwpdr.org
SUMMARY:CANCELED Board Agenda: June 7\, 2022
DESCRIPTION:CANCELED
URL:https://ncwpdr.org/event/board-agenda-june-7-2022/
CATEGORIES:Meetings
ATTACH;FMTTYPE=image/png:https://ncwpdr.org/wp-content/uploads/2021/01/zoom-meeting.png
END:VEVENT
BEGIN:VEVENT
DTSTART;TZID=America/Los_Angeles:20220607T173000
DTEND;TZID=America/Los_Angeles:20220607T183000
DTSTAMP:20260425T184232
CREATED:20211026T172904Z
LAST-MODIFIED:20230605T184859Z
UID:8408-1654623000-1654626600@ncwpdr.org
SUMMARY:Budget & Finance Committee
DESCRIPTION:Please join us to discuss Neighborhood Council financial matters.
URL:https://ncwpdr.org/event/budget-finance-comm-2022-03-01-2022-06-07/2022-06-07/
END:VEVENT
BEGIN:VEVENT
DTSTART;TZID=America/Los_Angeles:20220607T070000
DTEND;TZID=America/Los_Angeles:20220607T200000
DTSTAMP:20260425T184232
CREATED:20220531T222206Z
LAST-MODIFIED:20220531T222206Z
UID:9809-1654585200-1654632000@ncwpdr.org
SUMMARY:Elections
DESCRIPTION:Remember to vote on election day. Get more polling information: https://www.lavote.gov/
URL:https://ncwpdr.org/event/elections/
CATEGORIES:Events
ATTACH;FMTTYPE=image/png:https://ncwpdr.org/wp-content/uploads/2022/05/remember-to-vote.png
END:VEVENT
BEGIN:VEVENT
DTSTART;TZID=America/Los_Angeles:20220531T140000
DTEND;TZID=America/Los_Angeles:20220531T160000
DTSTAMP:20260425T184232
CREATED:20220528T003426Z
LAST-MODIFIED:20220528T003426Z
UID:9783-1654005600-1654012800@ncwpdr.org
SUMMARY:LA Planning and Land Use Committee Meeting
DESCRIPTION:We received a notice from LMU: This is a courtesy email to let you know that the City of Los Angeles Planning and Land Use Management Committee’s rescheduled their meeting to Tuesday\, May 31\, at 2p.m. \nLMU is no. 1 on the agenda. You can find out more information at https://clerk.lacity.org/calendar. Although public notification is not required for this meeting\, we wanted to make sure we notified you as part of our continued efforts to communicate more effectively with the community.
URL:https://ncwpdr.org/event/la-planning-and-land-use-committee-meeting/
CATEGORIES:Events
ATTACH;FMTTYPE=image/jpeg:https://ncwpdr.org/wp-content/uploads/2022/05/campus-library2.jpg
END:VEVENT
BEGIN:VEVENT
DTSTART;TZID=America/Los_Angeles:20220526T090000
DTEND;TZID=America/Los_Angeles:20220531T190000
DTSTAMP:20260425T184232
CREATED:20220526T185806Z
LAST-MODIFIED:20220526T185806Z
UID:9777-1653555600-1654023600@ncwpdr.org
SUMMARY:Rotary Book Sale
DESCRIPTION:
URL:https://ncwpdr.org/event/rotary-book-sale/
CATEGORIES:Events
ATTACH;FMTTYPE=image/jpeg:https://ncwpdr.org/wp-content/uploads/2022/05/westchester-rotary-books.jpg
END:VEVENT
BEGIN:VEVENT
DTSTART;TZID=America/Los_Angeles:20220524T180000
DTEND;TZID=America/Los_Angeles:20220524T203000
DTSTAMP:20260425T184232
CREATED:20220523T200546Z
LAST-MODIFIED:20220524T203335Z
UID:9754-1653415200-1653424200@ncwpdr.org
SUMMARY:Special Meeting – NCWP CD 11 Candidate Forum
DESCRIPTION:Join us for our CD 11 Candidate Forum as we get to hear about their candidacy as well as positions and thoughts on Public Safety (Crime\, Homeless\, Environmental Issues\, Disasters and Protecting Citizens\, Business and Organizations). \nJoin us by phone: \nCall: (833) 548-0282Zoom: 824 5814 2257 \nOr online: https://us02web.zoom.us/j/82458142257
URL:https://ncwpdr.org/event/board-agenda-may-24-2022/
CATEGORIES:Meetings
ATTACH;FMTTYPE=image/png:https://ncwpdr.org/wp-content/uploads/2022/05/ncwp-candidate-forum.png
END:VEVENT
END:VCALENDAR