BEGIN:VCALENDAR
VERSION:2.0
PRODID:-//Neighborhood Council of Westchester/Playa - ECPv6.15.18//NONSGML v1.0//EN
CALSCALE:GREGORIAN
METHOD:PUBLISH
X-WR-CALNAME:Neighborhood Council of Westchester/Playa
X-ORIGINAL-URL:https://ncwpdr.org
X-WR-CALDESC:Events for Neighborhood Council of Westchester/Playa
REFRESH-INTERVAL;VALUE=DURATION:PT1H
X-Robots-Tag:noindex
X-PUBLISHED-TTL:PT1H
BEGIN:VTIMEZONE
TZID:America/Los_Angeles
BEGIN:DAYLIGHT
TZOFFSETFROM:-0800
TZOFFSETTO:-0700
TZNAME:PDT
DTSTART:20210314T100000
END:DAYLIGHT
BEGIN:STANDARD
TZOFFSETFROM:-0700
TZOFFSETTO:-0800
TZNAME:PST
DTSTART:20211107T090000
END:STANDARD
BEGIN:DAYLIGHT
TZOFFSETFROM:-0800
TZOFFSETTO:-0700
TZNAME:PDT
DTSTART:20220313T100000
END:DAYLIGHT
BEGIN:STANDARD
TZOFFSETFROM:-0700
TZOFFSETTO:-0800
TZNAME:PST
DTSTART:20221106T090000
END:STANDARD
BEGIN:DAYLIGHT
TZOFFSETFROM:-0800
TZOFFSETTO:-0700
TZNAME:PDT
DTSTART:20230312T100000
END:DAYLIGHT
BEGIN:STANDARD
TZOFFSETFROM:-0700
TZOFFSETTO:-0800
TZNAME:PST
DTSTART:20231105T090000
END:STANDARD
BEGIN:DAYLIGHT
TZOFFSETFROM:-0800
TZOFFSETTO:-0700
TZNAME:PDT
DTSTART:20240310T100000
END:DAYLIGHT
BEGIN:STANDARD
TZOFFSETFROM:-0700
TZOFFSETTO:-0800
TZNAME:PST
DTSTART:20241103T090000
END:STANDARD
END:VTIMEZONE
BEGIN:VEVENT
DTSTART;TZID=America/Los_Angeles:20230207T183000
DTEND;TZID=America/Los_Angeles:20230207T200000
DTSTAMP:20260425T091809
CREATED:20221231T211037Z
LAST-MODIFIED:20230209T184527Z
UID:11161-1675794600-1675800000@ncwpdr.org
SUMMARY:Board Meeting - CANCELED
DESCRIPTION:Cancellation Notice \nJoin us for the next NCWP meeting on February 7\, 6:30pm. \nhttps://us02web.zoom.us/j/83690318128 \nTo Join the Zoom Meeting By Telephone Dial 1 (833) 548-0282 Next Enter This Zoom Meeting ID 8369 031 8128 and Press #
URL:https://ncwpdr.org/event/board-meeting-22/
LOCATION:CA
CATEGORIES:Meetings
ATTACH;FMTTYPE=image/png:https://ncwpdr.org/wp-content/uploads/2021/01/zoom-meeting.png
END:VEVENT
BEGIN:VEVENT
DTSTART;TZID=America/Los_Angeles:20230207T140000
DTEND;TZID=America/Los_Angeles:20230207T170000
DTSTAMP:20260425T091809
CREATED:20230203T205536Z
LAST-MODIFIED:20230207T013701Z
UID:11373-1675778400-1675789200@ncwpdr.org
SUMMARY:Public Hearing on Lulu's
DESCRIPTION:The City Council’s Trade\, Travel\, and Tourism Committee (chaired by CD11’s Traci Park) is planning to hold a virtual hearing on Lulu’s Place this Tuesday\, Feb. 7 at 2pm. Lulu’s is item 1 on the agenda. \nRevised Agenda \nMembers of the public who would like to offer public comment on the items listed on the agenda should call 1 669 254 5252 and use Meeting ID No. 161 769 6039 and then press #. Press # again when prompted for participant ID. Once admitted into the meeting\, press *9 to request to speak. \nPlease note the City Clerk will identify speakers by the last four digits of your phone number when it’s your turn to speak. \nThe meeting will likely also be broadcast live on CH 35 in Los Angeles and YouTube if you want to\nwatch the hearing and not just listen to the livestream of the audio. \nTo send comment\, https://cityclerk.lacity.org/lacityclerkconnect/index.cfm?fa=ccfi.viewrecord&cfnumber=23-0040 \nPlease let your voices be heard councilmember.park@lacity.org ; councilmember.mcosker@lacity.org ; councilmember.soto-martinez@lacity.org \nThere are more details here: https://lulusplace.org
URL:https://ncwpdr.org/event/public-hearing-on-lulus/
LOCATION:CA
CATEGORIES:Events
ATTACH;FMTTYPE=image/png:https://ncwpdr.org/wp-content/uploads/2023/01/Lulus-place-rendering.png
END:VEVENT
BEGIN:VEVENT
DTSTART;TZID=America/Los_Angeles:20230206T183000
DTEND;TZID=America/Los_Angeles:20230206T200000
DTSTAMP:20260425T091809
CREATED:20230205T212604Z
LAST-MODIFIED:20230206T205117Z
UID:11405-1675708200-1675713600@ncwpdr.org
SUMMARY:SPECIAL Board Meeting
DESCRIPTION:Join us for the next NCWP meeting on February 7\, 6:30pm. \nhttps://us02web.zoom.us/j/83690318128 \nTo Join the Zoom Meeting By Telephone Dial 1 (833) 548-0282 Next Enter This Zoom Meeting ID 8369 031 8128 and Press #
URL:https://ncwpdr.org/event/board-meeting-23/
LOCATION:CA
CATEGORIES:Meetings
ATTACH;FMTTYPE=image/png:https://ncwpdr.org/wp-content/uploads/2021/01/zoom-meeting.png
END:VEVENT
BEGIN:VEVENT
DTSTART;TZID=America/Los_Angeles:20230128T130000
DTEND;TZID=America/Los_Angeles:20230128T160000
DTSTAMP:20260425T091809
CREATED:20230112T190520Z
LAST-MODIFIED:20230112T190520Z
UID:11226-1674910800-1674921600@ncwpdr.org
SUMMARY:Service Academy Day
DESCRIPTION:Students\, parents\, and educators are welcome!\nWe invite you to listen to speakers from the U.S. Air Force Academy\, U.S. Military Academy\, U.S. Naval Academy\, U.S. Coast Guard Academy\, U.S. Merchant Marie Academy\, parents\, diversity representatives\, current attendees and alumni from the Service Academies. In addition to a wonderful speaking program\, representatives from Southern California Congressional Offices will be available to answer all of your Academy related questions! \nQuestions? Contact Aurelia Friedman and Karen Calderon (323) 651-1040\nServiceAcademyNOM.Lieu@mail.house.gov\nMore info: https://lieu.house.gov/services/military-academy-nominations
URL:https://ncwpdr.org/event/service-academy-day/
LOCATION:DaVinci Schools\, 201 N. Douglas St.\, El Segundo\, 90245
CATEGORIES:Events
ATTACH;FMTTYPE=image/jpeg:https://ncwpdr.org/wp-content/uploads/2023/01/service-academy-day.jpg
END:VEVENT
BEGIN:VEVENT
DTSTART;TZID=America/Los_Angeles:20230126T183000
DTEND;TZID=America/Los_Angeles:20230126T200000
DTSTAMP:20260425T091809
CREATED:20230113T191354Z
LAST-MODIFIED:20230120T174125Z
UID:11262-1674757800-1674763200@ncwpdr.org
SUMMARY:Airport Relations Committee Meeting-Cancelled
DESCRIPTION:This meeting has been cancelled so that you may attend the Building a Better LAX Town Hall with the CEO of LAX. \n \nRegister: https://us06web.zoom.us/webinar/register/WN_8vWBjVmIQyik_lAN53oUow \nJoin us as Justin Erbacci\, CEO of Los Angeles World Airports\, presents a community update on the state of Los Angeles International Airport (LAX). From an update on the transformation of LAX\, including the new Automated People Mover train\, to the latest on how we are engaging and including our communities in these efforts\, CEO Erbacci will share a special look at what has been accomplished in the past few years\, and the exciting work still to come as we near the 2028 Olympic and Paralympic Games in Los Angeles.
URL:https://ncwpdr.org/event/airport-relations-committee-meeting-4/
LOCATION:CA
CATEGORIES:Meetings
ATTACH;FMTTYPE=image/jpeg:https://ncwpdr.org/wp-content/uploads/2021/01/The-Theme-Building-Los-Angeles-World-Airports-committee-page-header-airport600.jpg
END:VEVENT
BEGIN:VEVENT
DTSTART;TZID=America/Los_Angeles:20230126T183000
DTEND;TZID=America/Los_Angeles:20230126T200000
DTSTAMP:20260425T091809
CREATED:20230112T195729Z
LAST-MODIFIED:20230127T001129Z
UID:11236-1674757800-1674763200@ncwpdr.org
SUMMARY:Education Committee Special Meeting-Cancelled
DESCRIPTION:Due to the Homeless Count on 1/25\, we will move our regular 4th Wed. of the Month meeting to the following day\, Thursday\, Jan. 26 at 6:30pm. Please join us for our monthly meeting on Zoom. \nJoin Zoom Meeting \nhttps://us02web.zoom.us/j/85349860692 \nMeeting ID: 853 4986 0692\nOne tap mobile\n+16699006833\, 85349860692# US (San Jose)
URL:https://ncwpdr.org/event/education-committee-special-meeting-2/
LOCATION:CA
CATEGORIES:Meetings
ATTACH;FMTTYPE=image/jpeg:https://ncwpdr.org/wp-content/uploads/2021/01/Campus-beautification-2020-Wright-Middle-School-for-the-Martin-Luther-King-Jr-Day-of-Service-The-Hometown-News-content-page-header600.jpg
END:VEVENT
BEGIN:VEVENT
DTSTART;TZID=America/Los_Angeles:20230126T180000
DTEND;TZID=America/Los_Angeles:20230126T190000
DTSTAMP:20260425T091809
CREATED:20230120T174338Z
LAST-MODIFIED:20230120T174338Z
UID:11311-1674756000-1674759600@ncwpdr.org
SUMMARY:Building a Better LAX Town Hall with LAX CEO
DESCRIPTION:Register: https://us06web.zoom.us/webinar/register/WN_8vWBjVmIQyik_lAN53oUow \nJoin us as Justin Erbacci\, CEO of Los Angeles World Airports\, presents a community update on the state of Los Angeles International Airport (LAX). From an update on the transformation of LAX\, including the new Automated People Mover train\, to the latest on how we are engaging and including our communities in these efforts\, CEO Erbacci will share a special look at what has been accomplished in the past few years\, and the exciting work still to come as we near the 2028 Olympic and Paralympic Games in Los Angeles.
URL:https://ncwpdr.org/event/building-a-better-lax-town-hall-with-lax-ceo/
LOCATION:CA
CATEGORIES:Events
ATTACH;FMTTYPE=image/png:https://ncwpdr.org/wp-content/uploads/2023/01/LAX-CEO-Update.png
END:VEVENT
BEGIN:VEVENT
DTSTART;TZID=America/Los_Angeles:20230125T200000
DTEND;TZID=America/Los_Angeles:20230125T230000
DTSTAMP:20260425T091809
CREATED:20230110T000337Z
LAST-MODIFIED:20230114T012225Z
UID:11213-1674676800-1674687600@ncwpdr.org
SUMMARY:Homeless Count
DESCRIPTION:We encourage you to register to volunteer for the 2023 Greater Los Angeles Homeless Count. \nIn our area\, the 2023 Homeless Count is planned for Wednesday\, January 25\, from 8PM to 11PM. \nThe data collected is an essential component in understanding the scope and nature of homelessness in Los Angeles County and helps Los Angeles Homeless Services Authority (LAHSA) and its partners deliver services where they are needed most to support the needs of our unhoused neighbors. \nTo register or for additional information\, visit http://theycountwillyou.org
URL:https://ncwpdr.org/event/homeless-count-3/
LOCATION:CA
CATEGORIES:Events
ATTACH;FMTTYPE=image/jpeg:https://ncwpdr.org/wp-content/uploads/2023/01/2023-homeless-count-info.jpg
END:VEVENT
BEGIN:VEVENT
DTSTART;TZID=America/Los_Angeles:20230123T183000
DTEND;TZID=America/Los_Angeles:20230123T200000
DTSTAMP:20260425T091809
CREATED:20230113T191147Z
LAST-MODIFIED:20230524T232231Z
UID:11250-1674498600-1674504000@ncwpdr.org
SUMMARY:Community Plan Update Ad Hoc Committee Meeting
DESCRIPTION:Join us for the next NCWP Community Plan Update Ad Hoc Committee Meeting January 23\, 6:30pm. \n\nWe will discuss the Los Angeles World Airports Environmental Impact Reports Traffic study\, its potential impacts on the community\, how that interfaces with the Community Plan Update.\nWe will also hear a tutorial overview on the General Plan Land Use Element and Details on State Land Use laws.\n\nZoom Meeting/Webinar Online: https://us02web.zoom.us/j/87652566910 or By Telephone\nDial +1 (833) 548-0282 to Join the Meeting/Webinar\nThen Enter This Zoom Meeting/Webinar ID: 876 5256 6910 and Press #
URL:https://ncwpdr.org/event/community-plan-update-ad-hoc-committee-meeting-2/
LOCATION:CA
CATEGORIES:Meetings
ATTACH;FMTTYPE=image/jpeg:https://ncwpdr.org/wp-content/uploads/2022/11/community-plan-map.jpg
END:VEVENT
BEGIN:VEVENT
DTSTART;TZID=America/Los_Angeles:20230119T180000
DTEND;TZID=America/Los_Angeles:20230119T190000
DTSTAMP:20260425T091809
CREATED:20230110T000702Z
LAST-MODIFIED:20230110T000702Z
UID:11216-1674151200-1674154800@ncwpdr.org
SUMMARY:Hyperion Citizens Forum Meeting
DESCRIPTION:The next meeting will be held virtually via Zoom on Thursday\, January 19\, 2023\, from 6:00pm to 7:00pm. A link will be provided on the day of the meeting. \nTopics will include the following: \nUpcoming Construction at Hyperion \nMaintenance Update \nOperations Report \nAir Quality Projects \nBiosolids and Environmental Management Update \nInformation and RSVP: LASAN.CleanWater.Outreach@lacity.org
URL:https://ncwpdr.org/event/hyperion-citizens-forum-meeting/
LOCATION:CA
CATEGORIES:Events
ATTACH;FMTTYPE=image/png:https://ncwpdr.org/wp-content/uploads/2023/01/Hyperion-meeting-Jan.png
END:VEVENT
BEGIN:VEVENT
DTSTART;TZID=America/Los_Angeles:20230118T190000
DTEND;TZID=America/Los_Angeles:20230118T210000
DTSTAMP:20260425T091809
CREATED:20230109T220747Z
LAST-MODIFIED:20230115T224113Z
UID:11209-1674068400-1674075600@ncwpdr.org
SUMMARY:Public Safety Committee Meeting
DESCRIPTION:Join us for our 1st Public Safety Committee meeting of 2023.  We will have the Senior Lead Officers (SLO) of the LAPD at the meeting.  The meeting will be via Zoom.
URL:https://ncwpdr.org/event/public-safety-committee-meeting-7/
LOCATION:CA
CATEGORIES:Meetings
ATTACH;FMTTYPE=image/jpeg:https://ncwpdr.org/wp-content/uploads/2021/01/LA-Fire-outreach-Los-Angeles-World-Airports-committee-event-page-haeder-community-services600.jpg
END:VEVENT
BEGIN:VEVENT
DTSTART;TZID=America/Los_Angeles:20230117T183000
DTEND;TZID=America/Los_Angeles:20230117T213000
DTSTAMP:20260425T091809
CREATED:20210814T043750Z
LAST-MODIFIED:20230113T190511Z
UID:7768-1673980200-1673991000@ncwpdr.org
SUMMARY:Planning and Land Use-Cancelled
DESCRIPTION:
URL:https://ncwpdr.org/event/planning-and-land-use-2-2021-10-19-2022-02-15-2023-01-17/
LOCATION:Zoom
CATEGORIES:Meetings
ATTACH;FMTTYPE=image/jpeg:https://ncwpdr.org/wp-content/uploads/2021/01/Playa-Vista-from-Bluff-Creek-Trail-Cord-Thomas-content-page-header-c-1.jpg
END:VEVENT
BEGIN:VEVENT
DTSTART;TZID=America/Los_Angeles:20230116T100000
DTEND;TZID=America/Los_Angeles:20230116T110000
DTSTAMP:20260425T091809
CREATED:20230112T195303Z
LAST-MODIFIED:20230112T201135Z
UID:11233-1673863200-1673866800@ncwpdr.org
SUMMARY:Kids' March For Equality
DESCRIPTION:Gather your friends and family and meet on the NW corner of La Tiger and Sepulveda on Monday Jan. 16 to celebrate MLK Day and the importance of living in a community that spreads love\, kindness\, and acceptance.
URL:https://ncwpdr.org/event/kids-march-for-equality-2/
LOCATION:CA
CATEGORIES:Events
ATTACH;FMTTYPE=image/jpeg:https://ncwpdr.org/wp-content/uploads/2023/01/IMG_4355.jpg
END:VEVENT
BEGIN:VEVENT
DTSTART;TZID=America/Los_Angeles:20230112T183000
DTEND;TZID=America/Los_Angeles:20230112T193000
DTSTAMP:20260425T091809
CREATED:20230104T032732Z
LAST-MODIFIED:20230113T014314Z
UID:11177-1673548200-1673551800@ncwpdr.org
SUMMARY:January 12\, 2023 Community Services Committee Meeting Agenda
DESCRIPTION:Please find the PDF version of the agenda here: January 12\, 2023 Community Services Agenda \nPlease join us for our next Community Services Committee Meeting on January 12\, 2023 at 6:30 pm online. \nZoom Meeting/Webinar Online: https://us02web.zoom.us/j/97103151539 or By Telephone\nDial +1 (833) 548-0282 to Join the Meeting/Webinar\nThen Enter This Zoom Meeting/Webinar ID: 971 0315 1539 and Press #
URL:https://ncwpdr.org/event/january-12-2023-community-services-committee-meeting/
LOCATION:Zoom
CATEGORIES:Meetings
ATTACH;FMTTYPE=image/png:https://ncwpdr.org/wp-content/uploads/2023/01/2023-community-services.png
END:VEVENT
BEGIN:VEVENT
DTSTART;TZID=America/Los_Angeles:20230110T183000
DTEND;TZID=America/Los_Angeles:20230110T200000
DTSTAMP:20260425T091809
CREATED:20221231T204609Z
LAST-MODIFIED:20230110T002815Z
UID:11150-1673375400-1673380800@ncwpdr.org
SUMMARY:Special Board Meeting
DESCRIPTION:Join us for the next NCWP Meeting on January 10\, 6:30pm \nWe will have an update on the SoCal Gas Playa Del Rey Plant Update and Gas Prices \nhttps://us02web.zoom.us/j/83690318128\n\nTo Join the Zoom Webinar By Telephone Dial 1 (833) 548-0282 Next Enter This Zoom Webinar ID 836 9031 8128 and Press # Instructions on how to sign up for public comment will be given to listeners at the start of the meeting.
URL:https://ncwpdr.org/event/board-meeting-21/
LOCATION:CA
CATEGORIES:Meetings
ATTACH;FMTTYPE=image/png:https://ncwpdr.org/wp-content/uploads/2022/12/NCWP-Meeting-Jan-10.png
END:VEVENT
BEGIN:VEVENT
DTSTART;TZID=America/Los_Angeles:20230109T183000
DTEND;TZID=America/Los_Angeles:20230109T193000
DTSTAMP:20260425T091809
CREATED:20221220T015414Z
LAST-MODIFIED:20230110T003815Z
UID:11126-1673289000-1673292600@ncwpdr.org
SUMMARY:Government Affairs Meeting - January 9\, 2023
DESCRIPTION:
URL:https://ncwpdr.org/event/government-affairs-meeting-january-9-2023/
LOCATION:CA
CATEGORIES:Meetings
ATTACH;FMTTYPE=image/png:https://ncwpdr.org/wp-content/uploads/2022/12/NCWP-Gov-City-Hall-Jan-9.png
END:VEVENT
BEGIN:VEVENT
DTSTART;TZID=America/Los_Angeles:20230103T183000
DTEND;TZID=America/Los_Angeles:20230103T183000
DTSTAMP:20260425T091809
CREATED:20221231T210726Z
LAST-MODIFIED:20221231T210819Z
UID:11158-1672770600-1672770600@ncwpdr.org
SUMMARY:Canceled Board Meeting
DESCRIPTION:Special Board Meeting on Tuesday\, January 10\, 2022
URL:https://ncwpdr.org/event/canceled-board-meeting/
LOCATION:CA
CATEGORIES:Meetings
END:VEVENT
BEGIN:VEVENT
DTSTART;TZID=America/Los_Angeles:20230103T173000
DTEND;TZID=America/Los_Angeles:20230103T183000
DTSTAMP:20260425T091809
CREATED:20211026T172904Z
LAST-MODIFIED:20230304T041959Z
UID:8415-1672767000-1672770600@ncwpdr.org
SUMMARY:Budget & Finance Committee - Canceled
DESCRIPTION:Please join us to discuss Neighborhood Council financial matters.
URL:https://ncwpdr.org/event/budget-finance-comm-2022-03-01-2022-06-07-2023-01-03/
LOCATION:CA
END:VEVENT
BEGIN:VEVENT
DTSTART;VALUE=DATE:20221225
DTEND;VALUE=DATE:20221226
DTSTAMP:20260425T091809
CREATED:20221213T025221Z
LAST-MODIFIED:20221213T025221Z
UID:11119-1671926400-1672012799@ncwpdr.org
SUMMARY:Merry Christmas
DESCRIPTION:
URL:https://ncwpdr.org/event/merry-christmas/
LOCATION:CA
CATEGORIES:Events
ATTACH;FMTTYPE=image/png:https://ncwpdr.org/wp-content/uploads/2022/12/playa-holiday.png
END:VEVENT
BEGIN:VEVENT
DTSTART;TZID=America/Los_Angeles:20221220T183000
DTEND;TZID=America/Los_Angeles:20221220T213000
DTSTAMP:20260425T091809
CREATED:20210814T043750Z
LAST-MODIFIED:20221217T001240Z
UID:7767-1671561000-1671571800@ncwpdr.org
SUMMARY:Planning and Land Use-Cancelled
DESCRIPTION:
URL:https://ncwpdr.org/event/planning-and-land-use-2-2021-10-19-2022-02-15-2022-12-20/
LOCATION:Zoom
CATEGORIES:Meetings
ATTACH;FMTTYPE=image/jpeg:https://ncwpdr.org/wp-content/uploads/2021/01/Playa-Vista-from-Bluff-Creek-Trail-Cord-Thomas-content-page-header-c-1.jpg
END:VEVENT
BEGIN:VEVENT
DTSTART;VALUE=DATE:20221218
DTEND;VALUE=DATE:20221219
DTSTAMP:20260425T091809
CREATED:20221213T025119Z
LAST-MODIFIED:20221213T025119Z
UID:11116-1671321600-1671407999@ncwpdr.org
SUMMARY:Happy Hanukkah
DESCRIPTION:
URL:https://ncwpdr.org/event/happy-hanukkah/
LOCATION:CA
CATEGORIES:Events
ATTACH;FMTTYPE=image/png:https://ncwpdr.org/wp-content/uploads/2022/12/Your-Neighborhood-Council-Westchester-Playa.png
END:VEVENT
BEGIN:VEVENT
DTSTART;TZID=America/Los_Angeles:20221215T180000
DTEND;TZID=America/Los_Angeles:20221215T193000
DTSTAMP:20260425T091809
CREATED:20221129T191123Z
LAST-MODIFIED:20221129T191123Z
UID:10971-1671127200-1671132600@ncwpdr.org
SUMMARY:Fair Housing Meeting
DESCRIPTION:Join the Los Angeles Housing Department at a virtual community meeting as they present City’s 2023-2028 Assessment of Fair Housing (AFH) process and to receive feedback from the public regarding their fair housing concerns and experiences to shape future programming and goals. A total of seven meetings will be held starting on Thursday\, December 1\, 2022 through Thursday\, December 15\, 2022. All meetings will take place from 6:00pm to 7:30pm. \nJoin the meeting: http://bit.ly/LosAngelesAFH_WestLA \nMore about this effort: https://housing.lacity.org/residents/assessment-of-fair-housing \nTake the Fair Housing Survey: https://www.surveymonkey.com/r/LA-FairHousing-PublicSurvey
URL:https://ncwpdr.org/event/fair-housing-meeting/
LOCATION:CA
CATEGORIES:Events
ATTACH;FMTTYPE=image/jpeg:https://ncwpdr.org/wp-content/uploads/2022/11/Fair-housing-meetings1200.jpg
END:VEVENT
BEGIN:VEVENT
DTSTART;TZID=America/Los_Angeles:20221213T183000
DTEND;TZID=America/Los_Angeles:20221213T200000
DTSTAMP:20260425T091809
CREATED:20221206T204313Z
LAST-MODIFIED:20221213T024125Z
UID:11022-1670956200-1670961600@ncwpdr.org
SUMMARY:Special Board Meeting
DESCRIPTION:Join us for a specially scheduled meeting of NCWP December 12\, 6:30pm. \nWe will discuss our upcoming elections for which you can file your candidacy now. \nhttps://us02web.zoom.us/j/99993297439 \nTo Join the Zoom Meeting By Telephone Dial 1 (833) 548-0282 Next Enter This Zoom Meeting ID 999 9329 7439 and Press #
URL:https://ncwpdr.org/event/special-board-meeting-8/
LOCATION:CA
CATEGORIES:Meetings
ATTACH;FMTTYPE=image/png:https://ncwpdr.org/wp-content/uploads/2022/12/ncwp-dec-13.png
END:VEVENT
BEGIN:VEVENT
DTSTART;TZID=America/Los_Angeles:20221213T173000
DTEND;TZID=America/Los_Angeles:20221213T183000
DTSTAMP:20260425T091809
CREATED:20221211T220856Z
LAST-MODIFIED:20221214T013255Z
UID:11083-1670952600-1670956200@ncwpdr.org
SUMMARY:Budget & Finance Committee Meeting - Canceled
DESCRIPTION:Unfortunately we were not able to establish a connection to Zoom and there was some doubt about quorum.   Come join the 6:30 Board meeting tonight instead for updates on Budget & Finance.
URL:https://ncwpdr.org/event/budget-finance-committee-meeting-special/
LOCATION:CA
CATEGORIES:Meetings
ATTACH;FMTTYPE=image/png:https://ncwpdr.org/wp-content/uploads/2022/12/K-Line-Metro.png
END:VEVENT
BEGIN:VEVENT
DTSTART;TZID=America/Los_Angeles:20221212T183000
DTEND;TZID=America/Los_Angeles:20221212T200000
DTSTAMP:20260425T091809
CREATED:20221201T023335Z
LAST-MODIFIED:20221209T222816Z
UID:10983-1670869800-1670875200@ncwpdr.org
SUMMARY:Government Affairs Committee meeting
DESCRIPTION:Join us for the NCWP Government Affairs Committee Meeting December 12\, 6:30pm. \nOn our agenda: \n\nLitter campaign\nRestoration/improvements of the Ballona Creek Bridge\n\nZoom Meeting/Webinar Online: https://us02web.zoom.us/j/84507734166 or By Telephone\nDial +1 (833) 548-0282 to Join the Meeting/Webinar\nThen Enter This Zoom Meeting/Webinar ID: 845 0773 4166 and Press # \n  \n 
URL:https://ncwpdr.org/event/december-12-2022-government-affairs-committee-meeting/
LOCATION:CA
CATEGORIES:Meetings
ATTACH;FMTTYPE=image/png:https://ncwpdr.org/wp-content/uploads/2022/11/NCWP-Gov-City-Hall-dec.png
END:VEVENT
BEGIN:VEVENT
DTSTART;TZID=America/Los_Angeles:20221210T160000
DTEND;TZID=America/Los_Angeles:20221210T200000
DTSTAMP:20260425T091809
CREATED:20221130T184402Z
LAST-MODIFIED:20221130T184402Z
UID:10979-1670688000-1670702400@ncwpdr.org
SUMMARY:Holiday Boat Parade
DESCRIPTION:Burton Chace Park\n13650 Mindanao Way\, Marina Del Rey\, 90292 \nJoin Supervisor Holly J. Mitchell for a Holiday Boat Parade at Burton Chace Park. There will be activities\, including Can the Trash Kids Craft Corner\, Strolling Carolers\, food trucks\, photo booth fun\, a fireworks show\, and a holiday boat parade. \nFor more information\, visit marinadelrey.lacounty.gov or call 424-526-7900.
URL:https://ncwpdr.org/event/holiday-boat-parade/
LOCATION:CA
CATEGORIES:Events
ATTACH;FMTTYPE=image/png:https://ncwpdr.org/wp-content/uploads/2022/11/holiday-boat-parade-v2-002_crop.png
END:VEVENT
BEGIN:VEVENT
DTSTART;TZID=America/Los_Angeles:20221210T140000
DTEND;TZID=America/Los_Angeles:20221210T160000
DTSTAMP:20260425T091809
CREATED:20221209T223151Z
LAST-MODIFIED:20221209T223151Z
UID:11045-1670680800-1670688000@ncwpdr.org
SUMMARY:Councilmember Traci Park Swearing In
DESCRIPTION:You are cordially invited to attend the official swearing in ceremony of Los Angeles City Council Member Traci Park. \nLoyola Marymount University\, University Hall 1 LMU Drive Los Angeles\, CA 90045 \nRSVP: https://www.eventbrite.com/e/official-swearing-in-of-la-city-council-member-traci-park-district-11-tickets-478613966257
URL:https://ncwpdr.org/event/councilmember-traci-park-swearing-in/
LOCATION:CA
CATEGORIES:Events
ATTACH;FMTTYPE=image/png:https://ncwpdr.org/wp-content/uploads/2022/12/Traci-Park.png
END:VEVENT
BEGIN:VEVENT
DTSTART;TZID=America/Los_Angeles:20221210T100000
DTEND;TZID=America/Los_Angeles:20221210T120000
DTSTAMP:20260425T091809
CREATED:20221208T233802Z
LAST-MODIFIED:20221208T233845Z
UID:11033-1670666400-1670673600@ncwpdr.org
SUMMARY:Candidate Info Sessions
DESCRIPTION:Run for local office! Candidate Info Sessions start Saturday 12/10. Attend a Candidate Info Session and learn how you can run for local office on your LA Neighborhood Council! \nLearn how to create a successful campaign using free and low-cost outreach strategies and how to fill out your candidate application\, with the City of Los Angeles Department of Neighborhood Empowerment and the LA City Clerk’s Elections Division. \n*** \nWHAT YOU’LL LEARN \nHow to connect with voters\nHow to advocate for issues you’re passionate about\nTips for writing your personal statement + talking points\nHow & when to file as a candidate \n*** \nRSVP NOW \nAll sessions are on Zoom. Details to join online or by phone will be in your confirmation email. Presentation materials will be mobile-friendly. \nRSVP at http://tiny.cc/CandidateInfoSessions \n*** \nSCHEDULE \nSaturday December 10 (10am – 12pm)\nWeekday evening week of January 9 (date/time TBA)\nSaturday January 21 (10am – 12pm)\nWeekday evening week of January 31 (date/time TBA)\nSaturday February 4 (10am – 12pm)\nSaturday February 18 (10am – 12pm)\nSaturday March 4 (10am – 12pm)\nSaturday March 18 (10am – 12pm) \nTranslation in Spanish and Korean will be provided. Please indicate any additional languages or other accommodations needed when you RSVP.\nAfter attending\, you will receive candidate support resources via email to the address you used for RSVP. You may unsubscribe at any time.
URL:https://ncwpdr.org/event/candidate-info-sessions/2022-12-10/
LOCATION:CA
CATEGORIES:Events
ATTACH;FMTTYPE=image/jpeg:https://ncwpdr.org/wp-content/uploads/2022/12/candidate-info-sessions.jpg
END:VEVENT
BEGIN:VEVENT
DTSTART;TZID=America/Los_Angeles:20221206T183000
DTEND;TZID=America/Los_Angeles:20221206T210000
DTSTAMP:20260425T091809
CREATED:20221129T184209Z
LAST-MODIFIED:20221206T204825Z
UID:10969-1670351400-1670360400@ncwpdr.org
SUMMARY:NCWP Board Meeting-Canceled
DESCRIPTION:
URL:https://ncwpdr.org/event/ncwp-board-meeting-2/
LOCATION:CA
CATEGORIES:Meetings
ATTACH;FMTTYPE=image/png:https://ncwpdr.org/wp-content/uploads/2021/01/zoom-meeting.png
END:VEVENT
BEGIN:VEVENT
DTSTART;TZID=America/Los_Angeles:20221201T090000
DTEND;TZID=America/Los_Angeles:20221201T160000
DTSTAMP:20260425T091809
CREATED:20221129T183944Z
LAST-MODIFIED:20221129T183944Z
UID:10966-1669885200-1669910400@ncwpdr.org
SUMMARY:Public Works Career Fair
DESCRIPTION:The Department of Public Works is partnering with the Personnel Department to hold our first department-wide Career Fair to help us fill positions throughout the city. Those who attend will learn about the various careers in Public Works\, how to apply and gain insight information on City employment opportunities. \nBring copies of your resume\, contact information\, certificates\, diplomas\, licenses\, California Drivers License\, copy of clean driving record\, etc. \nThursday\, December 1\, 2022 | 9AM – 4PM \nLos Angeles Trade Tech College* \n*FREE PARKING LOCATED AT THREE SCHOOL LOTS: Grand Ave and 23rd St. | Olive St. and Grand Ave | Flower St. and Washington Blvd
URL:https://ncwpdr.org/event/public-works-career-fair/
LOCATION:CA
CATEGORIES:Events
ATTACH;FMTTYPE=image/jpeg:https://ncwpdr.org/wp-content/uploads/2022/11/public-works-career-fair.jpg
END:VEVENT
END:VCALENDAR