BEGIN:VCALENDAR
VERSION:2.0
PRODID:-//Neighborhood Council of Westchester/Playa - ECPv6.15.18//NONSGML v1.0//EN
CALSCALE:GREGORIAN
METHOD:PUBLISH
X-WR-CALNAME:Neighborhood Council of Westchester/Playa
X-ORIGINAL-URL:https://ncwpdr.org
X-WR-CALDESC:Events for Neighborhood Council of Westchester/Playa
REFRESH-INTERVAL;VALUE=DURATION:PT1H
X-Robots-Tag:noindex
X-PUBLISHED-TTL:PT1H
BEGIN:VTIMEZONE
TZID:America/Los_Angeles
BEGIN:DAYLIGHT
TZOFFSETFROM:-0800
TZOFFSETTO:-0700
TZNAME:PDT
DTSTART:20220313T100000
END:DAYLIGHT
BEGIN:STANDARD
TZOFFSETFROM:-0700
TZOFFSETTO:-0800
TZNAME:PST
DTSTART:20221106T090000
END:STANDARD
BEGIN:DAYLIGHT
TZOFFSETFROM:-0800
TZOFFSETTO:-0700
TZNAME:PDT
DTSTART:20230312T100000
END:DAYLIGHT
BEGIN:STANDARD
TZOFFSETFROM:-0700
TZOFFSETTO:-0800
TZNAME:PST
DTSTART:20231105T090000
END:STANDARD
BEGIN:DAYLIGHT
TZOFFSETFROM:-0800
TZOFFSETTO:-0700
TZNAME:PDT
DTSTART:20240310T100000
END:DAYLIGHT
BEGIN:STANDARD
TZOFFSETFROM:-0700
TZOFFSETTO:-0800
TZNAME:PST
DTSTART:20241103T090000
END:STANDARD
END:VTIMEZONE
BEGIN:VEVENT
DTSTART;TZID=America/Los_Angeles:20230618T090000
DTEND;TZID=America/Los_Angeles:20230618T160000
DTSTAMP:20260425T074827
CREATED:20230614T181843Z
LAST-MODIFIED:20230614T181843Z
UID:12064-1687078800-1687104000@ncwpdr.org
SUMMARY:CicLAvia Juneteenth
DESCRIPTION:On Sunday\, June 18\, we’re opening up streets in South Los Angeles so you can jog\, ride\, bike\, skate\, run\, walk\, skateboard\, spectate\, and enjoy the route however you want. Our routes are welcoming to people of all ages and abilities! \nCicLAvia—South LA is presented by Metro. This event will feature the 3rd annual Juneteenth Celebration and Resource Fair brought to you by Los Angeles County Supervisor Holly J. Mitchell.
URL:https://ncwpdr.org/event/ciclavia-juneteenth/
LOCATION:CA
CATEGORIES:Events
ATTACH;FMTTYPE=image/jpeg:https://ncwpdr.org/wp-content/uploads/2023/06/updated-juneteenth-2023.jpg
END:VEVENT
BEGIN:VEVENT
DTSTART;VALUE=DATE:20230618
DTEND;VALUE=DATE:20230619
DTSTAMP:20260425T074827
CREATED:20230614T182938Z
LAST-MODIFIED:20230614T182938Z
UID:12071-1687046400-1687132799@ncwpdr.org
SUMMARY:Happy Father's Day
DESCRIPTION:
URL:https://ncwpdr.org/event/happy-fathers-day/
LOCATION:CA
CATEGORIES:Events
ATTACH;FMTTYPE=image/png:https://ncwpdr.org/wp-content/uploads/2023/06/ncwpdr-fathers-day.png
END:VEVENT
BEGIN:VEVENT
DTSTART;TZID=America/Los_Angeles:20230617T093000
DTEND;TZID=America/Los_Angeles:20230617T120000
DTSTAMP:20260425T074827
CREATED:20230201T200406Z
LAST-MODIFIED:20230614T184638Z
UID:11351-1686994200-1687003200@ncwpdr.org
SUMMARY:Budget Day
DESCRIPTION:Budget Day is June 17 from 9:30 a.m. to 1:00 p.m. There will be a keynote address from Mayor Bass. Please register now at tiny.cc/budgetday23.
URL:https://ncwpdr.org/event/budget-day-5/
LOCATION:CA
CATEGORIES:Events
ATTACH;FMTTYPE=image/png:https://ncwpdr.org/wp-content/uploads/2023/02/Budget-Day-2023.png
END:VEVENT
BEGIN:VEVENT
DTSTART;TZID=America/Los_Angeles:20230612T100000
DTEND;TZID=America/Los_Angeles:20230612T120000
DTSTAMP:20260425T074827
CREATED:20230421T210322Z
LAST-MODIFIED:20230421T210322Z
UID:11872-1686564000-1686571200@ncwpdr.org
SUMMARY:Reform LA: Commission Support Systems
DESCRIPTION:The Ad Hoc Committee on Governance Reform has begun its listening sessions on potential reforms to our city’s redistricting process. This is a historic effort which is being led by the Council President and the more public participation the better\, as reforms recommended by the committee will need to go to the full City Council and the voters for adoption\, as many reforms would require changes to the City Charter. \nListening sessions will take place over the next few weeks and into the summer. The committee will make its recommendations to the full City Council in late summer and\, if approved\, will head to voters for their consideration in either March or November of 2024. \nRegister your thoughts on redistricting reform: https://cityclerk.lacity.org/publiccomment/ Council File #22-1196-S1
URL:https://ncwpdr.org/event/reform-la-commission-support-systems/
LOCATION:City Hall
CATEGORIES:Events
ATTACH;FMTTYPE=image/jpeg:https://ncwpdr.org/wp-content/uploads/2023/04/listen-june-12.jpg
END:VEVENT
BEGIN:VEVENT
DTSTART;TZID=America/Los_Angeles:20230607T060000
DTEND;TZID=America/Los_Angeles:20230607T180000
DTSTAMP:20260425T074827
CREATED:20230605T190825Z
LAST-MODIFIED:20230605T190825Z
UID:12034-1686117600-1686160800@ncwpdr.org
SUMMARY:Lane Closure
DESCRIPTION:Cedars-Sinai will be undertaking another concrete pour this Wednesday\, June 7. This will be of a smaller scope than a few weeks ago\, but lanes will still be closed for the duration of the project.
URL:https://ncwpdr.org/event/lane-closure/
LOCATION:CA
CATEGORIES:Events
ATTACH;FMTTYPE=image/jpeg:https://ncwpdr.org/wp-content/uploads/2023/06/2023-06-07-1.jpg
END:VEVENT
BEGIN:VEVENT
DTSTART;TZID=America/Los_Angeles:20230606T184000
DTEND;TZID=America/Los_Angeles:20230606T200000
DTSTAMP:20260425T074827
CREATED:20221231T211037Z
LAST-MODIFIED:20230908T184014Z
UID:11166-1686076800-1686081600@ncwpdr.org
SUMMARY:Board Meeting
DESCRIPTION:Join us for a specially scheduled meeting of the NCWP Tuesday\, June 6\, 6:40pm at the LAWA Police Station Community Room\, 9160 Loyola Blvd.
URL:https://ncwpdr.org/event/board-meeting-22-2023-06-06/
LOCATION:LAWA Police Station\, 9160 Loyola Blvd\, 90045
CATEGORIES:Meetings
ATTACH;FMTTYPE=image/png:https://ncwpdr.org/wp-content/uploads/2022/12/Meeting-Graphic-7.png
END:VEVENT
BEGIN:VEVENT
DTSTART;TZID=America/Los_Angeles:20230606T173000
DTEND;TZID=America/Los_Angeles:20230606T183000
DTSTAMP:20260425T074827
CREATED:20230526T200244Z
LAST-MODIFIED:20230605T185621Z
UID:12006-1686072600-1686076200@ncwpdr.org
SUMMARY:Budget & Finance Committee Meeting
DESCRIPTION:Join us for the next Budget & Finance Committee Meeting June 6\, 5:30pm at Community Room at the LAWA Police Station\, 9160 Loyola Blvd.\, Los Angeles\, CA 90045
URL:https://ncwpdr.org/event/budget-finance-committee-meeting/
LOCATION:LAWA Police Station\, 9160 Loyola Blvd\, 90045
CATEGORIES:Meetings
ATTACH;FMTTYPE=image/png:https://ncwpdr.org/wp-content/uploads/2023/05/budget-meeting-3.png
END:VEVENT
BEGIN:VEVENT
DTSTART;TZID=America/Los_Angeles:20230602T180000
DTEND;TZID=America/Los_Angeles:20230602T210000
DTSTAMP:20260425T074827
CREATED:20230602T203754Z
LAST-MODIFIED:20230602T203754Z
UID:12015-1685728800-1685739600@ncwpdr.org
SUMMARY:Movie Night
DESCRIPTION:
URL:https://ncwpdr.org/event/movie-night/
LOCATION:CA
CATEGORIES:Events
ATTACH;FMTTYPE=image/jpeg:https://ncwpdr.org/wp-content/uploads/2023/06/summer-westchester-Y.jpeg
END:VEVENT
BEGIN:VEVENT
DTSTART;TZID=America/Los_Angeles:20230601T100000
DTEND;TZID=America/Los_Angeles:20230601T120000
DTSTAMP:20260425T074827
CREATED:20230421T210137Z
LAST-MODIFIED:20230421T210137Z
UID:11868-1685613600-1685620800@ncwpdr.org
SUMMARY:Reform LA: Commission Instructions
DESCRIPTION:The Ad Hoc Committee on Governance Reform has begun its listening sessions on potential reforms to our city’s redistricting process. This is a historic effort which is being led by the Council President and the more public participation the better\, as reforms recommended by the committee will need to go to the full City Council and the voters for adoption\, as many reforms would require changes to the City Charter. \nListening sessions will take place over the next few weeks and into the summer. The committee will make its recommendations to the full City Council in late summer and\, if approved\, will head to voters for their consideration in either March or November of 2024. \nRegister your thoughts on redistricting reform: https://cityclerk.lacity.org/publiccomment/ Council File #22-1196-S1
URL:https://ncwpdr.org/event/reform-la-commission-instructions/
LOCATION:Cheviot Hills Recreation Center\, 2551 Motor Ave\, Los Angeles\, 90064
CATEGORIES:Events
ATTACH;FMTTYPE=image/jpeg:https://ncwpdr.org/wp-content/uploads/2023/04/listen-june-1.jpg
END:VEVENT
BEGIN:VEVENT
DTSTART;TZID=America/Los_Angeles:20230528T113000
DTEND;TZID=America/Los_Angeles:20230528T143000
DTSTAMP:20260425T074827
CREATED:20230519T194745Z
LAST-MODIFIED:20230519T194745Z
UID:11938-1685273400-1685284200@ncwpdr.org
SUMMARY:Marina Culture Jam
DESCRIPTION:
URL:https://ncwpdr.org/event/marina-culture-jam/2023-05-28/
LOCATION:Burton Chace Park\, 13650 Mindanao Way\, Marina Del Rey\, 90292
CATEGORIES:Events
ATTACH;FMTTYPE=image/jpeg:https://ncwpdr.org/wp-content/uploads/2023/05/Marina-Culture-Jam-2023-768x1024-1.jpg
END:VEVENT
BEGIN:VEVENT
DTSTART;TZID=America/Los_Angeles:20230523T183000
DTEND;TZID=America/Los_Angeles:20230523T200000
DTSTAMP:20260425T074827
CREATED:20230502T185826Z
LAST-MODIFIED:20230522T171453Z
UID:11897-1684866600-1684872000@ncwpdr.org
SUMMARY:Public Safety Committee Meeting
DESCRIPTION:Join us for our bi-monthly “Public Safety” meeting.  We will have the Senior Lead Officers of the LAPD\, a spokesperson from LA County Department of Beaches and Harbors and an update from CD11. \nWe will meet May 23\, 6:30pm at LAWA Police Headquarters (Community Room) 9160 South Loyola Blvd.
URL:https://ncwpdr.org/event/public-safety-committee-meeting-8/
LOCATION:Airport Police Community Room\, 9160 South Loyola Blvd\, Westchester\, CA\, 90045\, United States
CATEGORIES:Meetings
ATTACH;FMTTYPE=image/png:https://ncwpdr.org/wp-content/uploads/2023/05/NCWP-Public-Safety-May-beach.png
END:VEVENT
BEGIN:VEVENT
DTSTART;TZID=America/Los_Angeles:20230522T183000
DTEND;TZID=America/Los_Angeles:20230522T200000
DTSTAMP:20260425T074827
CREATED:20230113T191147Z
LAST-MODIFIED:20230519T194105Z
UID:11255-1684780200-1684785600@ncwpdr.org
SUMMARY:Community Plan Update Ad Hoc Committee Meeting
DESCRIPTION:Join us for the next Community Plan Update Ad Hoc Committee Meeting May 22\, 6:30pm at the Community Room in Municipal Building- 7166 Manchester \, Westchester\, CA 90045.
URL:https://ncwpdr.org/event/community-plan-update-ad-hoc-committee-meeting-2023-05-22/
LOCATION:Westchester Municipal Building 7166 Manchester Avenue\, Westchester\, CA 90045\, 7166 Manchester Avenue\, Westchester\, CA\, 90045\, United States
CATEGORIES:Meetings
ATTACH;FMTTYPE=image/png:https://ncwpdr.org/wp-content/uploads/2023/01/Community-Plan-3.png
END:VEVENT
BEGIN:VEVENT
DTSTART;TZID=America/Los_Angeles:20230522T100000
DTEND;TZID=America/Los_Angeles:20230522T120000
DTSTAMP:20260425T074827
CREATED:20230421T205932Z
LAST-MODIFIED:20230421T205932Z
UID:11862-1684749600-1684756800@ncwpdr.org
SUMMARY:Reform LA: Commission Selection
DESCRIPTION:The Ad Hoc Committee on Governance Reform has begun its listening sessions on potential reforms to our city’s redistricting process. This is a historic effort which is being led by the Council President and the more public participation the better\, as reforms recommended by the committee will need to go to the full City Council and the voters for adoption\, as many reforms would require changes to the City Charter. \nListening sessions will take place over the next few weeks and into the summer. The committee will make its recommendations to the full City Council in late summer and\, if approved\, will head to voters for their consideration in either March or November of 2024. \nRegister your thoughts on redistricting reform: https://cityclerk.lacity.org/publiccomment/ Council File #22-1196-S1
URL:https://ncwpdr.org/event/reform-la-commission-selection/
LOCATION:Van Nuys City Hall\, 14410 Sylvan St.\, Van Nuys\, 91401
CATEGORIES:Events
ATTACH;FMTTYPE=image/jpeg:https://ncwpdr.org/wp-content/uploads/2023/04/listen-may-22.jpg
END:VEVENT
BEGIN:VEVENT
DTSTART;TZID=America/Los_Angeles:20230518T173000
DTEND;TZID=America/Los_Angeles:20230518T190000
DTSTAMP:20260425T074827
CREATED:20230517T010209Z
LAST-MODIFIED:20230517T010209Z
UID:11929-1684431000-1684436400@ncwpdr.org
SUMMARY:Outreach Committee Meeting
DESCRIPTION:Join us for the next NCWP Outreach Committee Meeting May 18\, 5:30pm at the Municipal Building Community Room\, 7166 Manchester. \nWe will discuss the 4th of July Parade.
URL:https://ncwpdr.org/event/outreach-committee-meeting-4/
LOCATION:CA
CATEGORIES:Meetings
ATTACH;FMTTYPE=image/png:https://ncwpdr.org/wp-content/uploads/2023/05/NCWP-Outreach-Beach.png
END:VEVENT
BEGIN:VEVENT
DTSTART;TZID=America/Los_Angeles:20230516T183000
DTEND;TZID=America/Los_Angeles:20230516T213000
DTSTAMP:20260425T074827
CREATED:20210814T043750Z
LAST-MODIFIED:20230512T000419Z
UID:7986-1684261800-1684272600@ncwpdr.org
SUMMARY:Planning and Land Use
DESCRIPTION:Join us for the next NCWP Planning and Land Use Committee Meeting on May 16\, 6:30pm at the Westchester Municipal Building. \nOn our agenda: \n\nEnterprise Car Rental\n5201-5309 W. Knowlton St: 145 units
URL:https://ncwpdr.org/event/planning-and-land-use-2023-05-16/
LOCATION:Westchester Municipal Building 7166 Manchester Avenue\, Westchester\, CA 90045\, 7166 Manchester Avenue\, Westchester\, CA\, 90045\, United States
CATEGORIES:Meetings
ATTACH;FMTTYPE=image/png:https://ncwpdr.org/wp-content/uploads/2021/08/May-PLUM.png
END:VEVENT
BEGIN:VEVENT
DTSTART;TZID=America/Los_Angeles:20230502T183000
DTEND;TZID=America/Los_Angeles:20230502T200000
DTSTAMP:20260425T074827
CREATED:20221231T211037Z
LAST-MODIFIED:20230501T181423Z
UID:11165-1683052200-1683057600@ncwpdr.org
SUMMARY:Board Meeting
DESCRIPTION:Join us Tuesday\, May 2\, 6:30pm for our in person NCWP Meeting at LAWA Police Headquarters 9160 South Loyola Blvd. \nWe will have an update on Westchester Park\, Municipal Lot\, Senior Center\, Camping\, RV’s\, 41.18\, Vehicle Dwellers\, RAP\, and BOS.
URL:https://ncwpdr.org/event/board-meeting-22-2023-05-02/
LOCATION:Airport Police Community Room\, 9160 South Loyola Blvd\, Westchester\, CA\, 90045\, United States
CATEGORIES:Meetings
ATTACH;FMTTYPE=image/png:https://ncwpdr.org/wp-content/uploads/2022/12/Meeting-Graphic-5.png
END:VEVENT
BEGIN:VEVENT
DTSTART;TZID=America/Los_Angeles:20230427T183000
DTEND;TZID=America/Los_Angeles:20230427T200000
DTSTAMP:20260425T074827
CREATED:20230113T191354Z
LAST-MODIFIED:20230424T225901Z
UID:11266-1682620200-1682625600@ncwpdr.org
SUMMARY:Airport Relations Committee Meeting
DESCRIPTION:Join us for the NCWP Airport Relations Committee Meeting April 27\, 2023\, 6:30pm. We will meet in the Municipal Building Community Room\, 7166 Manchester. \nWe will have a presentation on the Midfield Satellite Concourse.
URL:https://ncwpdr.org/event/airport-relations-committee-meeting-2023-04-27/
LOCATION:Westchester Municipal Building 7166 Manchester Avenue\, Westchester\, CA 90045\, 7166 Manchester Avenue\, Westchester\, CA\, 90045\, United States
CATEGORIES:Meetings
ATTACH;FMTTYPE=image/png:https://ncwpdr.org/wp-content/uploads/2023/01/NCWP-Airport-Relations-Meeting-4.png
END:VEVENT
BEGIN:VEVENT
DTSTART;TZID=America/Los_Angeles:20230424T183000
DTEND;TZID=America/Los_Angeles:20230424T200000
DTSTAMP:20260425T074827
CREATED:20230113T191147Z
LAST-MODIFIED:20230424T230048Z
UID:11254-1682361000-1682366400@ncwpdr.org
SUMMARY:Community Plan Update Ad Hoc Committee Meeting-Cancelled
DESCRIPTION:Join us for the next Community Plan Update Ad Hoc Committee Meeting on April 24\, 6:30pm. The meeting will be held at Community Room in Municipal Building- 7166 Manchester \, Westchester\, CA 90045. \nWe will have a report from the first meeting of Westside Community Planning Advisory Group\, a group within the Planning Department. Learn more about the Planning Department’s Road Map for the Community Plan Update.
URL:https://ncwpdr.org/event/community-plan-update-ad-hoc-committee-meeting-2-2023-04-24/
LOCATION:Westchester Municipal Building 7166 Manchester Avenue\, Westchester\, CA 90045\, 7166 Manchester Avenue\, Westchester\, CA\, 90045\, United States
CATEGORIES:Meetings
ATTACH;FMTTYPE=image/png:https://ncwpdr.org/wp-content/uploads/2023/01/Community-Plan-2.png
END:VEVENT
BEGIN:VEVENT
DTSTART;TZID=America/Los_Angeles:20230422T090000
DTEND;TZID=America/Los_Angeles:20230422T120000
DTSTAMP:20260425T074827
CREATED:20230421T210708Z
LAST-MODIFIED:20230421T210708Z
UID:11876-1682154000-1682164800@ncwpdr.org
SUMMARY:Earth Day Creek Clean Up
DESCRIPTION:Meet at 4995 S. Centinela Ave. \nWear close toed shoes \nBring a hat and reusable water bottle
URL:https://ncwpdr.org/event/earth-day-creek-clean-up/
LOCATION:CA
CATEGORIES:Events
ATTACH;FMTTYPE=image/png:https://ncwpdr.org/wp-content/uploads/2023/04/Ballon-Creek-Earth-Day.png
END:VEVENT
BEGIN:VEVENT
DTSTART;TZID=America/Los_Angeles:20230418T183000
DTEND;TZID=America/Los_Angeles:20230418T213000
DTSTAMP:20260425T074827
CREATED:20210814T043750Z
LAST-MODIFIED:20230419T001438Z
UID:7771-1681842600-1681853400@ncwpdr.org
SUMMARY:Planning and Land Use- Cancelled
DESCRIPTION:Join us April 18\, 6:30pm at the Community Room in Municipal Building- 7166 Manchester\, Westchester\, CA 90045 for our next Planning and Land Use Committee Meeting. \nOn our agenda: \n5201-5309 W. Knowlton St./6865 La Cinema Blvd \nApplicant is seeking to demolish existing buildings for the construction of a new multi-family housing project with two buildings totaling 145 units 33 of which will be affordable. All 50 existing units are RSO. \nApplicant is requesting Site Plan review for more than 50 dwelling units\, 35% density increase\, parking reduction\, 11 ft. height increase\, 20% decrease in required north side yard. \nEnterprise Car Rental \nApplicant is requesting a Conditional Use Permit to allow Automotive Repair within 500 ft. of an R3 zone: 8800\, 8810\, 8734\, 8710\, S. Bellanca Ave.\, 8801\, 8811\, 8735\, S. Portal Ave.
URL:https://ncwpdr.org/event/planning-and-land-use-2-2021-10-19-2022-02-15-2023-04-18/
LOCATION:Zoom
CATEGORIES:Meetings
ATTACH;FMTTYPE=image/png:https://ncwpdr.org/wp-content/uploads/2021/08/March-planning-4.png
END:VEVENT
BEGIN:VEVENT
DTSTART;TZID=America/Los_Angeles:20230413T183000
DTEND;TZID=America/Los_Angeles:20230413T200000
DTSTAMP:20260425T074827
CREATED:20230409T200711Z
LAST-MODIFIED:20230411T045136Z
UID:11792-1681410600-1681416000@ncwpdr.org
SUMMARY:Community Services Meeting
DESCRIPTION:Please join us at our next Community Services Meeting on April 13\, 2023 at 6:30 pm in the Westchester Municipal Building’s Community Room.
URL:https://ncwpdr.org/event/community-services-meeting-0413/
LOCATION:Westchester Municipal Building 7166 Manchester Avenue\, Westchester\, CA 90045\, 7166 Manchester Avenue\, Westchester\, CA\, 90045\, United States
CATEGORIES:Meetings
ATTACH;FMTTYPE=image/png:https://ncwpdr.org/wp-content/uploads/2023/04/community-services-3.png
END:VEVENT
BEGIN:VEVENT
DTSTART;TZID=America/Los_Angeles:20230408T120000
DTEND;TZID=America/Los_Angeles:20230408T160000
DTSTAMP:20260425T074827
CREATED:20230311T010534Z
LAST-MODIFIED:20230311T010534Z
UID:11563-1680955200-1680969600@ncwpdr.org
SUMMARY:Battle of the Bands
DESCRIPTION:It’s a free event to raise funds for youth as to their recreation and mental health services support at the new Teen Center opening in June.
URL:https://ncwpdr.org/event/battle-of-the-bands/
LOCATION:CA
CATEGORIES:Events
ATTACH;FMTTYPE=image/jpeg:https://ncwpdr.org/wp-content/uploads/2023/03/image0.jpeg
END:VEVENT
BEGIN:VEVENT
DTSTART;TZID=America/Los_Angeles:20230406T170000
DTEND;TZID=America/Los_Angeles:20230406T190000
DTSTAMP:20260425T074827
CREATED:20230404T214304Z
LAST-MODIFIED:20230404T214304Z
UID:11783-1680800400-1680807600@ncwpdr.org
SUMMARY:Venice Bridge Home Town Hall
DESCRIPTION:📣Please Join Councilwoman TRACI PARK for our second virtual community town hall meeting\, Thursday\, April 6th at 5pm\, and share your thoughts on the Venice Bridge Home.\n🔹There will be a virtual Overview & Presentation with a Q&A and Public Comment. This is another opportunity for Venice stakeholders to give their input and continue the conversation.\n🔹Please email any questions to: councilmember.park@lacity.org if you are unable to attend.\n🔹Please click the link below to join the webinar: ➡️https://www.zoomgov.com/j/1606497604\nWebinar ID: 1606497604\nPassword: 552065 \n🔹Please go to ➡️www.VeniceNC.org for more information.
URL:https://ncwpdr.org/event/venice-bridge-home-town-hall/
LOCATION:CA
CATEGORIES:Events
ATTACH;FMTTYPE=image/jpeg:https://ncwpdr.org/wp-content/uploads/2023/04/venice-bridge-home.jpeg
END:VEVENT
BEGIN:VEVENT
DTSTART;TZID=America/Los_Angeles:20230404T183000
DTEND;TZID=America/Los_Angeles:20230404T200000
DTSTAMP:20260425T074827
CREATED:20221231T211037Z
LAST-MODIFIED:20230404T214409Z
UID:11164-1680633000-1680638400@ncwpdr.org
SUMMARY:Board Meeting-Cancelled
DESCRIPTION:Canceled meeting… \nJoin us for our next NCWP Meeting. We will meet in person for the first time in three years! \nWe will meet April 4\, 6:30pm \nWestchester Municipal Building \n7166 Manchester Ave.
URL:https://ncwpdr.org/event/board-meeting-22-2023-04-04/
LOCATION:CA
CATEGORIES:Meetings
ATTACH;FMTTYPE=image/png:https://ncwpdr.org/wp-content/uploads/2022/12/Meeting-Graphic-2.png
END:VEVENT
BEGIN:VEVENT
DTSTART;TZID=America/Los_Angeles:20230404T180000
DTEND;TZID=America/Los_Angeles:20230404T183000
DTSTAMP:20260425T074828
CREATED:20211026T172904Z
LAST-MODIFIED:20230403T181822Z
UID:8418-1680631200-1680633000@ncwpdr.org
SUMMARY:Budget & Finance Committee
DESCRIPTION:Please join us to discuss Neighborhood Council financial matters. We will meet April 4\, 6pm in the Community Room in Municipal Building-7166 Manchester Ave.\, Westchester\, CA 90045.
URL:https://ncwpdr.org/event/budget-finance-comm-2022-03-01-2022-06-07-2023-04-04/
LOCATION:Westchester Municipal Building 7166 Manchester Avenue\, Westchester\, CA 90045\, 7166 Manchester Avenue\, Westchester\, CA\, 90045\, United States
CATEGORIES:Meetings
ATTACH;FMTTYPE=image/png:https://ncwpdr.org/wp-content/uploads/2021/10/budget-meeting-2.png
END:VEVENT
BEGIN:VEVENT
DTSTART;TZID=America/Los_Angeles:20230330T183000
DTEND;TZID=America/Los_Angeles:20230330T200000
DTSTAMP:20260425T074828
CREATED:20230113T191354Z
LAST-MODIFIED:20230329T022223Z
UID:11265-1680201000-1680206400@ncwpdr.org
SUMMARY:Special Airport Relations Committee Meeting-Cancelled
DESCRIPTION:Join us for the Special NCWP Airport Relations Committee Meeting March 30\, 2023\, 6:30pm. \nOn our agenda: \n\nHans Thilenius\, Deputy Executive Director Terminal Development and Improvement Program will give a presentation on  the Midfield Satellite Concourse (MSC)\n\nZoom Meeting/Webinar Online: http://us02web.zoom.us/j/89361220632 or By Telephone\nDial +1 (833) 548-0282 to Join the Meeting/Webinar\nThen Enter This Zoom Meeting/Webinar ID: 893 6122 0632 and Press # \n \n 
URL:https://ncwpdr.org/event/airport-relations-committee-meeting-4-2023-02-23-2023-03-23/
LOCATION:CA
CATEGORIES:Meetings
ATTACH;FMTTYPE=image/jpeg:https://ncwpdr.org/wp-content/uploads/2021/01/lax-pylons-1.jpg
END:VEVENT
BEGIN:VEVENT
DTSTART;TZID=America/Los_Angeles:20230329T184500
DTEND;TZID=America/Los_Angeles:20230329T193000
DTSTAMP:20260425T074828
CREATED:20230329T014134Z
LAST-MODIFIED:20230329T021927Z
UID:11712-1680115500-1680118200@ncwpdr.org
SUMMARY:Special Board Meeting
DESCRIPTION:Returning to in person meetings at the Municipal Building in the Community Room located at 7166 Manchester Avenue\, Westchester\, CA 90045 and the Los Angeles Airport Police Station in the Multi-Purpose Room located at 9160 Loyola Blvd\, Los Angeles\, CA 90045.
URL:https://ncwpdr.org/event/special-board-meeting-11/
LOCATION:CA
CATEGORIES:Meetings
ATTACH;FMTTYPE=image/png:https://ncwpdr.org/wp-content/uploads/2023/03/Meeting-Graphic-1.png
END:VEVENT
BEGIN:VEVENT
DTSTART;TZID=America/Los_Angeles:20230328T183000
DTEND;TZID=America/Los_Angeles:20230328T203000
DTSTAMP:20260425T074828
CREATED:20230320T231325Z
LAST-MODIFIED:20230328T183120Z
UID:11663-1680028200-1680035400@ncwpdr.org
SUMMARY:Public Safety Committee Meeting
DESCRIPTION:Join us on Tuesday 3/28/23 at 6:30pm as we hear updates from the Senior Lead Officers of the LAPD as well as updates from the LA Council District 11 representative. \nZoom Meeting/Webinar Online: https://us02web.zoom.us/j/82496331039 or By Telephone\nDial +1 (833) 548-0282 to Join the Meeting/Webinar\nThen Enter This Zoom Meeting/Webinar ID: 824 9633 1039 and Press #
URL:https://ncwpdr.org/event/public-safety-meeting-3/
LOCATION:Zoom
CATEGORIES:Meetings
ATTACH;FMTTYPE=image/png:https://ncwpdr.org/wp-content/uploads/2023/03/NCWP-Public-Safety-Cop-Car-2.png
END:VEVENT
BEGIN:VEVENT
DTSTART;TZID=America/Los_Angeles:20230327T183000
DTEND;TZID=America/Los_Angeles:20230327T200000
DTSTAMP:20260425T074828
CREATED:20230113T191147Z
LAST-MODIFIED:20230606T001817Z
UID:11253-1679941800-1679947200@ncwpdr.org
SUMMARY:Community Plan Update Ad Hoc Committee Meeting
DESCRIPTION:Join us for the NCWP Community Plan Update Ad Hoc Committee Meeting March 27\, 6:30pm. \nJenny Hontz of Livable Communities will make a presentation on “Solving our housing crisis while delivering the beauty and convenience of a 15-minute city” and how it relates to the Community Plan Update. \nZoom Meeting/Webinar Online: https://us02web.zoom.us/j/87652566910 or By Telephone\nDial +1 (833) 548-0282 to Join the Meeting/Webinar\nThen Enter This Zoom Meeting/Webinar ID: 876 5256 6910 and Press #
URL:https://ncwpdr.org/event/community-plan-update-ad-hoc-committee-meeting-2-2023-03-27/
LOCATION:CA
CATEGORIES:Meetings
ATTACH;FMTTYPE=image/png:https://ncwpdr.org/wp-content/uploads/2023/01/Community-Plan-1.png
END:VEVENT
BEGIN:VEVENT
DTSTART;TZID=America/Los_Angeles:20230321T183000
DTEND;TZID=America/Los_Angeles:20230321T213000
DTSTAMP:20260425T074828
CREATED:20210814T043750Z
LAST-MODIFIED:20230320T155315Z
UID:7770-1679423400-1679434200@ncwpdr.org
SUMMARY:Planning and Land Use
DESCRIPTION:Join us for the next NCWP Planning and Land Use Committee Meeting March 21\, 6:30pm. \nOn our agenda: \n\n237 & 239 East Montreal St.\, Playa del Rey: 3 level\, 3\,034 sq. ft. lot in the dual jurisdiction Coastal Zone and Sub Area 3 of the Coastal Bluffs Specific Plan.\nLMU ongoing and new projects and student housing\n8136 W. Manchester Ave. & 8651 S. La Tijera Blvd: 96 ft. 8 story mixed use building containing 441 units and approximately 16\,120 sq. ft. of commercial space.\nLulu’s Place: environmental clearances & community outreach\n\nZoom Meeting/Webinar Online: https://us02web.zoom.us/j/92562414437 or By Telephone\nDial +1 (833) 548-0282 to Join the Meeting/Webinar\nThen Enter This Zoom Meeting/Webinar ID:925 6241 4437 and Press #
URL:https://ncwpdr.org/event/planning-and-land-use-2023-03-21/
LOCATION:Zoom
CATEGORIES:Meetings
ATTACH;FMTTYPE=image/png:https://ncwpdr.org/wp-content/uploads/2021/08/March-planning-3.png
END:VEVENT
END:VCALENDAR