BEGIN:VCALENDAR
VERSION:2.0
PRODID:-//Neighborhood Council of Westchester/Playa - ECPv6.15.18//NONSGML v1.0//EN
CALSCALE:GREGORIAN
METHOD:PUBLISH
X-ORIGINAL-URL:https://ncwpdr.org
X-WR-CALDESC:Events for Neighborhood Council of Westchester/Playa
REFRESH-INTERVAL;VALUE=DURATION:PT1H
X-Robots-Tag:noindex
X-PUBLISHED-TTL:PT1H
BEGIN:VTIMEZONE
TZID:America/Los_Angeles
BEGIN:DAYLIGHT
TZOFFSETFROM:-0800
TZOFFSETTO:-0700
TZNAME:PDT
DTSTART:20250309T100000
END:DAYLIGHT
BEGIN:STANDARD
TZOFFSETFROM:-0700
TZOFFSETTO:-0800
TZNAME:PST
DTSTART:20251102T090000
END:STANDARD
BEGIN:DAYLIGHT
TZOFFSETFROM:-0800
TZOFFSETTO:-0700
TZNAME:PDT
DTSTART:20260308T100000
END:DAYLIGHT
BEGIN:STANDARD
TZOFFSETFROM:-0700
TZOFFSETTO:-0800
TZNAME:PST
DTSTART:20261101T090000
END:STANDARD
BEGIN:DAYLIGHT
TZOFFSETFROM:-0800
TZOFFSETTO:-0700
TZNAME:PDT
DTSTART:20270314T100000
END:DAYLIGHT
BEGIN:STANDARD
TZOFFSETFROM:-0700
TZOFFSETTO:-0800
TZNAME:PST
DTSTART:20271107T090000
END:STANDARD
END:VTIMEZONE
BEGIN:VEVENT
DTSTART;TZID=America/Los_Angeles:20260321T100000
DTEND;TZID=America/Los_Angeles:20260321T120000
DTSTAMP:20260423T130255
CREATED:20260317T172150Z
LAST-MODIFIED:20260317T172150Z
UID:15854-1774087200-1774094400@ncwpdr.org
SUMMARY:Venice Oceanview Playground Opening
DESCRIPTION:Windward Playground Opening – Come join us for the opening of the new playground on Windward Plaza Saturday March 21st\, from 10:00am – 12:00pm noon. We are excited to have the playground ready for the summer!
URL:https://ncwpdr.org/event/venice-oceanview-playground-opening/
LOCATION:Venice Beach Oceanview Playground\, 1701 Oceanfront Walk\, Venice\, 90291
CATEGORIES:Events
ATTACH;FMTTYPE=image/jpeg:https://ncwpdr.org/wp-content/uploads/2026/03/2026-03-21-venice-playground-opening-scaled.jpg
END:VEVENT
BEGIN:VEVENT
DTSTART;TZID=America/Los_Angeles:20260321T110000
DTEND;TZID=America/Los_Angeles:20260321T190000
DTSTAMP:20260423T130255
CREATED:20260317T172457Z
LAST-MODIFIED:20260317T172515Z
UID:15859-1774090800-1774119600@ncwpdr.org
SUMMARY:Venice Love Fest
DESCRIPTION:Venice Love Fest – Spend the day in Venice enjoying the amazing Love Fest\, happening on Saturday March 21st! For the first time\, the Venice Fest is happening not just on Venice Boulevard (in Mar Vista) but actually IN Venice. With a full day of activations and fun for the whole family\, it’s a big day for Venice!
URL:https://ncwpdr.org/event/venice-love-fest/
LOCATION:CA
CATEGORIES:Events
ATTACH;FMTTYPE=image/jpeg:https://ncwpdr.org/wp-content/uploads/2026/03/2026-03-21-love-fest.jpg
END:VEVENT
BEGIN:VEVENT
DTSTART;TZID=America/Los_Angeles:20260323T183000
DTEND;TZID=America/Los_Angeles:20260323T200000
DTSTAMP:20260423T130255
CREATED:20260320T220353Z
LAST-MODIFIED:20260320T221410Z
UID:15874-1774290600-1774296000@ncwpdr.org
SUMMARY:Community Plan Update Committee Meeting
DESCRIPTION:Join us for the NCWP Community Plan Update Committee Meeting on Monday\, March 23\, 6:30pm at the Westchester Municipal Building\, 7166 Manchester Ave. \nThe Planning Department recently released the EIR for the Community Plan Update. We will discuss the potential impacts on our community. \nJoin the discussion!
URL:https://ncwpdr.org/event/community-plan-update-committee-meeting-7/
LOCATION:Westchester Municipal Building 7166 Manchester Avenue\, Westchester\, CA 90045\, 7166 Manchester Avenue\, Westchester\, CA\, 90045\, United States
CATEGORIES:Meetings
ATTACH;FMTTYPE=image/png:https://ncwpdr.org/wp-content/uploads/2026/03/Update-3.png
END:VEVENT
BEGIN:VEVENT
DTSTART;TZID=America/Los_Angeles:20260324T183000
DTEND;TZID=America/Los_Angeles:20260324T203000
DTSTAMP:20260423T130255
CREATED:20260319T123718Z
LAST-MODIFIED:20260319T140927Z
UID:15868-1774377000-1774384200@ncwpdr.org
SUMMARY:Public Safety Committee Meeting
DESCRIPTION:Please join us for an informative meeting on Public Safety in our Neighborhood Council footprint of Westchester\, Playa Del Rey\, Playa Vista and Lower Ladera.  The meeting will dive into updates on crime\, homeless\, LAPD staffing and other topics that cover Public Safety.  Our Senior Lead Officers will be the focus of the meeting as they highlight issues in our area and beyond.
URL:https://ncwpdr.org/event/public-safety-committee-meeting-17/
LOCATION:Airport Police Community Room\, 9160 South Loyola Blvd\, Westchester\, CA\, 90045\, United States
CATEGORIES:Meetings
ATTACH;FMTTYPE=image/jpeg:https://ncwpdr.org/wp-content/uploads/2021/01/LA-Fire-outreach-Los-Angeles-World-Airports-committee-event-page-haeder-community-services600.jpg
END:VEVENT
BEGIN:VEVENT
DTSTART;TZID=America/Los_Angeles:20260328T090000
DTEND;TZID=America/Los_Angeles:20260328T150000
DTSTAMP:20260423T130255
CREATED:20260317T171300Z
LAST-MODIFIED:20260317T171300Z
UID:15851-1774688400-1774710000@ncwpdr.org
SUMMARY:Household Hazardous & Electronic Waste Drive-Thru Collection Event
DESCRIPTION:Dock 52 Parking Lot\nFiji Way\nMarina del Rey\, CA 90292 \nBring your household hazardous and electronic waste to this free drive-thru collection event. \nOpen to LA County residents. No business waste accepted. Limit of 15 gallons of 125 pounds or hazardous waste per trip. \nFor more information on other Household Hazardous & Electronic Waste collection events\, visit https://www.lacsd.org/services/solid-waste/household-hazardous-waste-collection
URL:https://ncwpdr.org/event/household-hazardous-electronic-waste-drive-thru-collection-event/
LOCATION:CA
CATEGORIES:Events
ATTACH;FMTTYPE=image/jpeg:https://ncwpdr.org/wp-content/uploads/2026/03/haz-waste-mdr.jpg
END:VEVENT
BEGIN:VEVENT
DTSTART;TZID=America/Los_Angeles:20260328T100000
DTEND;TZID=America/Los_Angeles:20260328T140000
DTSTAMP:20260423T130255
CREATED:20260320T222904Z
LAST-MODIFIED:20260320T222904Z
UID:15879-1774692000-1774706400@ncwpdr.org
SUMMARY:Women's Wellness Day
DESCRIPTION:We’re celebrating International Women’s Month! Come together for a day of Wellness while we celebrate you! Join us for a series of workshops\, informational booths\, and get your self-care on as we celebrate the strength\, resilience and passion of women around the world.
URL:https://ncwpdr.org/event/womens-wellness-day/
LOCATION:Westchester Senior Center\, 8740 Lincoln Blvd.\, Westchester\, 90045
CATEGORIES:Events
ATTACH;FMTTYPE=image/jpeg:https://ncwpdr.org/wp-content/uploads/2026/03/westchester-womens-wellness.jpg
END:VEVENT
BEGIN:VEVENT
DTSTART;TZID=America/Los_Angeles:20260404T100000
DTEND;TZID=America/Los_Angeles:20260404T140000
DTSTAMP:20260423T130255
CREATED:20260311T215011Z
LAST-MODIFIED:20260311T215011Z
UID:15841-1775296800-1775311200@ncwpdr.org
SUMMARY:Egg Hunt
DESCRIPTION:Egg Hunt\, photos with Easter Bunny\, arts and crafts\, face painting\, carnival games\, jumper\, music\, food and more! \nSpring Events – 2026 \nImage source
URL:https://ncwpdr.org/event/egg-hunt/
LOCATION:CA
CATEGORIES:Events
ATTACH;FMTTYPE=image/jpeg:https://ncwpdr.org/wp-content/uploads/2026/03/miro-vrlik-JdMvviYHBVE-unsplash-scaled.jpg
END:VEVENT
BEGIN:VEVENT
DTSTART;TZID=America/Los_Angeles:20260407T183000
DTEND;TZID=America/Los_Angeles:20260407T210000
DTSTAMP:20260423T130255
CREATED:20251112T214048Z
LAST-MODIFIED:20260407T225357Z
UID:15500-1775586600-1775595600@ncwpdr.org
SUMMARY:Board Meeting-Cancelled
DESCRIPTION:We have cancelled this meeting and are rescheduling for April 14. Join us then!
URL:https://ncwpdr.org/event/board-meeting-31-2026-04-07/
LOCATION:Westchester Municipal Building 7166 Manchester Avenue\, Westchester\, CA 90045\, 7166 Manchester Avenue\, Westchester\, CA\, 90045\, United States
CATEGORIES:Meetings
ATTACH;FMTTYPE=image/png:https://ncwpdr.org/wp-content/uploads/2023/12/Meeting-Graphic-5.png
END:VEVENT
BEGIN:VEVENT
DTSTART;TZID=America/Los_Angeles:20260408T173000
DTEND;TZID=America/Los_Angeles:20260408T193000
DTSTAMP:20260423T130255
CREATED:20260406T175324Z
LAST-MODIFIED:20260406T175324Z
UID:15907-1775669400-1775676600@ncwpdr.org
SUMMARY:Intro to Business & Job Opportunities at LAX
DESCRIPTION:Contact businessandjobs@lawa.org
URL:https://ncwpdr.org/event/intro-to-business-job-opportunities-at-lax/
LOCATION:CA
CATEGORIES:Events
ATTACH;FMTTYPE=image/jpeg:https://ncwpdr.org/wp-content/uploads/2026/04/biz-at-lawa.jpg
END:VEVENT
BEGIN:VEVENT
DTSTART;TZID=America/Los_Angeles:20260414T183000
DTEND;TZID=America/Los_Angeles:20260414T203000
DTSTAMP:20260423T130255
CREATED:20260401T175626Z
LAST-MODIFIED:20260413T170609Z
UID:15898-1776191400-1776198600@ncwpdr.org
SUMMARY:Special Meeting
DESCRIPTION:Join us for a Special NCWP Meeting on Tuesday\, April 14\, 6:30pm at the Westchester Municipal Building\, 7166 Manchester Avenue. \nWe will heare a presentation for a proposed In-N-Out Burger located at 5430 W. Century Blvd.\, 5425 W. 102nd Street.
URL:https://ncwpdr.org/event/special-meeting-8/
LOCATION:Westchester Municipal Building 7166 Manchester Avenue\, Westchester\, CA 90045\, 7166 Manchester Avenue\, Westchester\, CA\, 90045\, United States
CATEGORIES:Meetings
ATTACH;FMTTYPE=image/png:https://ncwpdr.org/wp-content/uploads/2026/04/Meeting-Graphic-11.png
END:VEVENT
BEGIN:VEVENT
DTSTART;TZID=America/Los_Angeles:20260421T183000
DTEND;TZID=America/Los_Angeles:20260421T193000
DTSTAMP:20260423T130255
CREATED:20260416T150139Z
LAST-MODIFIED:20260417T002756Z
UID:15986-1776796200-1776799800@ncwpdr.org
SUMMARY:Community Outreach Meeting
DESCRIPTION:Outreach
URL:https://ncwpdr.org/event/community-outreach-meeting/
LOCATION:CD 11 Westchester District Office\, 7166 Manchester Ave\, Los Angeles\, 90045
CATEGORIES:Meetings
END:VEVENT
BEGIN:VEVENT
DTSTART;TZID=America/Los_Angeles:20260425T080000
DTEND;TZID=America/Los_Angeles:20260425T110000
DTSTAMP:20260423T130255
CREATED:20260401T174539Z
LAST-MODIFIED:20260401T174539Z
UID:15894-1777104000-1777114800@ncwpdr.org
SUMMARY:Pancake Breakfast
DESCRIPTION:
URL:https://ncwpdr.org/event/pancake-breakfast/
LOCATION:LAPD Pacific Station\, 12312 Culver Blvd\, Los Angeles\, 90066
CATEGORIES:Events
ATTACH;FMTTYPE=image/jpeg:https://ncwpdr.org/wp-content/uploads/2026/04/NCWP-Pancake-Breakfast.jpeg
END:VEVENT
BEGIN:VEVENT
DTSTART;TZID=America/Los_Angeles:20260505T183000
DTEND;TZID=America/Los_Angeles:20260505T210000
DTSTAMP:20260423T130255
CREATED:20251112T214048Z
LAST-MODIFIED:20260401T174838Z
UID:15501-1778005800-1778014800@ncwpdr.org
SUMMARY:Board Meeting
DESCRIPTION:
URL:https://ncwpdr.org/event/board-meeting-31-2026-05-05/2026-05-05/
LOCATION:Westchester Municipal Building 7166 Manchester Avenue\, Westchester\, CA 90045\, 7166 Manchester Avenue\, Westchester\, CA\, 90045\, United States
CATEGORIES:Meetings
ATTACH;FMTTYPE=image/png:https://ncwpdr.org/wp-content/uploads/2023/12/Meeting-Graphic-5.png
END:VEVENT
BEGIN:VEVENT
DTSTART;TZID=America/Los_Angeles:20260509T160000
DTEND;TZID=America/Los_Angeles:20260509T190000
DTSTAMP:20260423T130255
CREATED:20260413T172459Z
LAST-MODIFIED:20260413T172459Z
UID:15965-1778342400-1778353200@ncwpdr.org
SUMMARY:Westchester Saturday Stroll
DESCRIPTION:Save the Dates for the 2026 Westchester Saturday Stroll Series!\nLocated on 87th Street in the Westchester Triangle \nMAY 9\nAUGUST 15\nOCTOBER 10\nDECEMBER 5
URL:https://ncwpdr.org/event/westchester-saturday-stroll/2026-05-09/
LOCATION:CA
CATEGORIES:Events
ATTACH;FMTTYPE=image/png:https://ncwpdr.org/wp-content/uploads/2026/04/2026-westchester-saturday-stroll.png
END:VEVENT
BEGIN:VEVENT
DTSTART;TZID=America/Los_Angeles:20260602T183000
DTEND;TZID=America/Los_Angeles:20260602T210000
DTSTAMP:20260423T130255
CREATED:20251112T214048Z
LAST-MODIFIED:20260401T174838Z
UID:15502-1780425000-1780434000@ncwpdr.org
SUMMARY:Board Meeting
DESCRIPTION:
URL:https://ncwpdr.org/event/board-meeting-31-2026-05-05/2026-06-02/
LOCATION:Westchester Municipal Building 7166 Manchester Avenue\, Westchester\, CA 90045\, 7166 Manchester Avenue\, Westchester\, CA\, 90045\, United States
CATEGORIES:Meetings
ATTACH;FMTTYPE=image/png:https://ncwpdr.org/wp-content/uploads/2023/12/Meeting-Graphic-5.png
END:VEVENT
BEGIN:VEVENT
DTSTART;TZID=America/Los_Angeles:20260606T080000
DTEND;TZID=America/Los_Angeles:20260606T160000
DTSTAMP:20260423T130255
CREATED:20260311T215231Z
LAST-MODIFIED:20260311T215231Z
UID:15846-1780732800-1780761600@ncwpdr.org
SUMMARY:2026 EmpowerLA Youth Conference
DESCRIPTION:EmpowerLA is excited to announce that registration for the 2026 EmpowerLA Youth Conference is now open!\n\n\nOn Saturday\, June 6\, 2026\, from 8:00 a.m. to 4:00 p.m.\, EmpowerLA will host 100 young people between the ages of 14 and 17 from across Los Angeles at Los Angeles City Hall to participate in a one-day event focused on civic engagement\, leadership development\, and local government. \nConference attendees will dive into the role the Neighborhood Council system plays in grassroots local democracy\, attend learning sessions on ways to be civically engaged in the community\, network with like-minded young leaders\, engage with City leaders\, and so much more! \nThis year’s conference attendees will be selected through a random lottery – registration does not guarantee admission. Registration closes on Friday\, April 24\, 2026.
URL:https://ncwpdr.org/event/2026-empowerla-youth-conference/
LOCATION:City Hall
CATEGORIES:Events
ATTACH;FMTTYPE=image/jpeg:https://ncwpdr.org/wp-content/uploads/2026/03/2026-empowerla-youth-conference.jpg
END:VEVENT
BEGIN:VEVENT
DTSTART;TZID=America/Los_Angeles:20260627T073000
DTEND;TZID=America/Los_Angeles:20260627T123000
DTSTAMP:20260423T130255
CREATED:20260317T173107Z
LAST-MODIFIED:20260317T173107Z
UID:15865-1782545400-1782563400@ncwpdr.org
SUMMARY:Budget Day
DESCRIPTION:Save the date! The Neighborhood Council Budget Advocates’ 2026 Budget Day is taking place on Saturday\, June 27\, 2026! Neighborhood Council leaders and community members are invited to attend to learn about the City’s budgeting process and share their neighborhood’s priorities for this upcoming fiscal year. Breakfast and parking is provided for all attendees. Stay tuned for more information and registration details!
URL:https://ncwpdr.org/event/budget-day-8/
LOCATION:City Hall
CATEGORIES:Events
ATTACH;FMTTYPE=image/jpeg:https://ncwpdr.org/wp-content/uploads/2026/03/budget-day-2026-2.jpg
END:VEVENT
BEGIN:VEVENT
DTSTART;TZID=America/Los_Angeles:20260707T183000
DTEND;TZID=America/Los_Angeles:20260707T210000
DTSTAMP:20260423T130255
CREATED:20251112T214048Z
LAST-MODIFIED:20260401T174838Z
UID:15503-1783449000-1783458000@ncwpdr.org
SUMMARY:Board Meeting
DESCRIPTION:
URL:https://ncwpdr.org/event/board-meeting-31-2026-05-05/2026-07-07/
LOCATION:Westchester Municipal Building 7166 Manchester Avenue\, Westchester\, CA 90045\, 7166 Manchester Avenue\, Westchester\, CA\, 90045\, United States
CATEGORIES:Meetings
ATTACH;FMTTYPE=image/png:https://ncwpdr.org/wp-content/uploads/2023/12/Meeting-Graphic-5.png
END:VEVENT
BEGIN:VEVENT
DTSTART;TZID=America/Los_Angeles:20260804T183000
DTEND;TZID=America/Los_Angeles:20260804T210000
DTSTAMP:20260423T130255
CREATED:20251112T214048Z
LAST-MODIFIED:20260401T174838Z
UID:15504-1785868200-1785877200@ncwpdr.org
SUMMARY:Board Meeting
DESCRIPTION:
URL:https://ncwpdr.org/event/board-meeting-31-2026-05-05/2026-08-04/
LOCATION:Westchester Municipal Building 7166 Manchester Avenue\, Westchester\, CA 90045\, 7166 Manchester Avenue\, Westchester\, CA\, 90045\, United States
CATEGORIES:Meetings
ATTACH;FMTTYPE=image/png:https://ncwpdr.org/wp-content/uploads/2023/12/Meeting-Graphic-5.png
END:VEVENT
BEGIN:VEVENT
DTSTART;TZID=America/Los_Angeles:20260815T160000
DTEND;TZID=America/Los_Angeles:20260815T190000
DTSTAMP:20260423T130255
CREATED:20260413T172459Z
LAST-MODIFIED:20260413T172459Z
UID:15967-1786809600-1786820400@ncwpdr.org
SUMMARY:Westchester Saturday Stroll
DESCRIPTION:Save the Dates for the 2026 Westchester Saturday Stroll Series!\nLocated on 87th Street in the Westchester Triangle \nMAY 9\nAUGUST 15\nOCTOBER 10\nDECEMBER 5
URL:https://ncwpdr.org/event/westchester-saturday-stroll/2026-08-15/
LOCATION:CA
CATEGORIES:Events
ATTACH;FMTTYPE=image/png:https://ncwpdr.org/wp-content/uploads/2026/04/2026-westchester-saturday-stroll.png
END:VEVENT
BEGIN:VEVENT
DTSTART;TZID=America/Los_Angeles:20260901T183000
DTEND;TZID=America/Los_Angeles:20260901T210000
DTSTAMP:20260423T130255
CREATED:20251112T214048Z
LAST-MODIFIED:20260401T174838Z
UID:15505-1788287400-1788296400@ncwpdr.org
SUMMARY:Board Meeting
DESCRIPTION:
URL:https://ncwpdr.org/event/board-meeting-31-2026-05-05/2026-09-01/
LOCATION:Westchester Municipal Building 7166 Manchester Avenue\, Westchester\, CA 90045\, 7166 Manchester Avenue\, Westchester\, CA\, 90045\, United States
CATEGORIES:Meetings
ATTACH;FMTTYPE=image/png:https://ncwpdr.org/wp-content/uploads/2023/12/Meeting-Graphic-5.png
END:VEVENT
BEGIN:VEVENT
DTSTART;TZID=America/Los_Angeles:20261006T183000
DTEND;TZID=America/Los_Angeles:20261006T210000
DTSTAMP:20260423T130255
CREATED:20251112T214048Z
LAST-MODIFIED:20260401T174838Z
UID:15506-1791311400-1791320400@ncwpdr.org
SUMMARY:Board Meeting
DESCRIPTION:
URL:https://ncwpdr.org/event/board-meeting-31-2026-05-05/2026-10-06/
LOCATION:Westchester Municipal Building 7166 Manchester Avenue\, Westchester\, CA 90045\, 7166 Manchester Avenue\, Westchester\, CA\, 90045\, United States
CATEGORIES:Meetings
ATTACH;FMTTYPE=image/png:https://ncwpdr.org/wp-content/uploads/2023/12/Meeting-Graphic-5.png
END:VEVENT
BEGIN:VEVENT
DTSTART;TZID=America/Los_Angeles:20261010T160000
DTEND;TZID=America/Los_Angeles:20261010T190000
DTSTAMP:20260423T130255
CREATED:20260413T172459Z
LAST-MODIFIED:20260413T172459Z
UID:15968-1791648000-1791658800@ncwpdr.org
SUMMARY:Westchester Saturday Stroll
DESCRIPTION:Save the Dates for the 2026 Westchester Saturday Stroll Series!\nLocated on 87th Street in the Westchester Triangle \nMAY 9\nAUGUST 15\nOCTOBER 10\nDECEMBER 5
URL:https://ncwpdr.org/event/westchester-saturday-stroll/2026-10-10/
LOCATION:CA
CATEGORIES:Events
ATTACH;FMTTYPE=image/png:https://ncwpdr.org/wp-content/uploads/2026/04/2026-westchester-saturday-stroll.png
END:VEVENT
BEGIN:VEVENT
DTSTART;TZID=America/Los_Angeles:20261103T183000
DTEND;TZID=America/Los_Angeles:20261103T210000
DTSTAMP:20260423T130255
CREATED:20251112T214048Z
LAST-MODIFIED:20260401T174838Z
UID:15507-1793730600-1793739600@ncwpdr.org
SUMMARY:Board Meeting
DESCRIPTION:
URL:https://ncwpdr.org/event/board-meeting-31-2026-05-05/2026-11-03/
LOCATION:Westchester Municipal Building 7166 Manchester Avenue\, Westchester\, CA 90045\, 7166 Manchester Avenue\, Westchester\, CA\, 90045\, United States
CATEGORIES:Meetings
ATTACH;FMTTYPE=image/png:https://ncwpdr.org/wp-content/uploads/2023/12/Meeting-Graphic-5.png
END:VEVENT
BEGIN:VEVENT
DTSTART;TZID=America/Los_Angeles:20261201T183000
DTEND;TZID=America/Los_Angeles:20261201T210000
DTSTAMP:20260423T130255
CREATED:20251112T214048Z
LAST-MODIFIED:20260401T174838Z
UID:15509-1796149800-1796158800@ncwpdr.org
SUMMARY:Board Meeting
DESCRIPTION:
URL:https://ncwpdr.org/event/board-meeting-31-2026-05-05/2026-12-01/
LOCATION:Westchester Municipal Building 7166 Manchester Avenue\, Westchester\, CA 90045\, 7166 Manchester Avenue\, Westchester\, CA\, 90045\, United States
CATEGORIES:Meetings
ATTACH;FMTTYPE=image/png:https://ncwpdr.org/wp-content/uploads/2023/12/Meeting-Graphic-5.png
END:VEVENT
BEGIN:VEVENT
DTSTART;TZID=America/Los_Angeles:20261205T160000
DTEND;TZID=America/Los_Angeles:20261205T190000
DTSTAMP:20260423T130255
CREATED:20260413T172459Z
LAST-MODIFIED:20260413T172459Z
UID:15969-1796486400-1796497200@ncwpdr.org
SUMMARY:Westchester Saturday Stroll
DESCRIPTION:Save the Dates for the 2026 Westchester Saturday Stroll Series!\nLocated on 87th Street in the Westchester Triangle \nMAY 9\nAUGUST 15\nOCTOBER 10\nDECEMBER 5
URL:https://ncwpdr.org/event/westchester-saturday-stroll/2026-12-05/
LOCATION:CA
CATEGORIES:Events
ATTACH;FMTTYPE=image/png:https://ncwpdr.org/wp-content/uploads/2026/04/2026-westchester-saturday-stroll.png
END:VEVENT
END:VCALENDAR