BEGIN:VCALENDAR
VERSION:2.0
PRODID:-//Neighborhood Council of Westchester/Playa - ECPv6.15.18//NONSGML v1.0//EN
CALSCALE:GREGORIAN
METHOD:PUBLISH
X-WR-CALNAME:Neighborhood Council of Westchester/Playa
X-ORIGINAL-URL:https://ncwpdr.org
X-WR-CALDESC:Events for Neighborhood Council of Westchester/Playa
REFRESH-INTERVAL;VALUE=DURATION:PT1H
X-Robots-Tag:noindex
X-PUBLISHED-TTL:PT1H
BEGIN:VTIMEZONE
TZID:America/Los_Angeles
BEGIN:DAYLIGHT
TZOFFSETFROM:-0800
TZOFFSETTO:-0700
TZNAME:PDT
DTSTART:20230312T100000
END:DAYLIGHT
BEGIN:STANDARD
TZOFFSETFROM:-0700
TZOFFSETTO:-0800
TZNAME:PST
DTSTART:20231105T090000
END:STANDARD
BEGIN:DAYLIGHT
TZOFFSETFROM:-0800
TZOFFSETTO:-0700
TZNAME:PDT
DTSTART:20240310T100000
END:DAYLIGHT
BEGIN:STANDARD
TZOFFSETFROM:-0700
TZOFFSETTO:-0800
TZNAME:PST
DTSTART:20241103T090000
END:STANDARD
BEGIN:DAYLIGHT
TZOFFSETFROM:-0800
TZOFFSETTO:-0700
TZNAME:PDT
DTSTART:20250309T100000
END:DAYLIGHT
BEGIN:STANDARD
TZOFFSETFROM:-0700
TZOFFSETTO:-0800
TZNAME:PST
DTSTART:20251102T090000
END:STANDARD
END:VTIMEZONE
BEGIN:VEVENT
DTSTART;TZID=America/Los_Angeles:20240319T183000
DTEND;TZID=America/Los_Angeles:20240319T203000
DTSTAMP:20260425T055554
CREATED:20240222T190028Z
LAST-MODIFIED:20240222T190102Z
UID:13277-1710873000-1710880200@ncwpdr.org
SUMMARY:PLUC Meeting
DESCRIPTION:
URL:https://ncwpdr.org/event/pluc-meeting/
LOCATION:Westchester Municipal Building 7166 Manchester Avenue\, Westchester\, CA 90045\, 7166 Manchester Avenue\, Westchester\, CA\, 90045\, United States
END:VEVENT
BEGIN:VEVENT
DTSTART;TZID=America/Los_Angeles:20240319T183000
DTEND;TZID=America/Los_Angeles:20240319T203000
DTSTAMP:20260425T055554
CREATED:20240304T204321Z
LAST-MODIFIED:20240315T140822Z
UID:13300-1710873000-1710880200@ncwpdr.org
SUMMARY:Public Safety Committee Meeting
DESCRIPTION:Join us as we get an in-depth overview of the LAX Police Department.  The LAX PD will give a tour of their facilities and an overview of how they operate within the airport and their different departments and community engagement.  We will also get an update on crime from our Senior Lead Officers of the LAPD as well as updates from Council District 11.  It will be an informative evening.
URL:https://ncwpdr.org/event/public-safety-committee-meeting-12/
LOCATION:Airport Police Community Room\, 9160 South Loyola Blvd\, Westchester\, CA\, 90045\, United States
CATEGORIES:Meetings
ATTACH;FMTTYPE=image/jpeg:https://ncwpdr.org/wp-content/uploads/2021/01/LA-Fire-outreach-Los-Angeles-World-Airports-committee-event-page-haeder-community-services600.jpg
END:VEVENT
BEGIN:VEVENT
DTSTART;TZID=America/Los_Angeles:20240325T183000
DTEND;TZID=America/Los_Angeles:20240325T203000
DTSTAMP:20260425T055554
CREATED:20240228T004235Z
LAST-MODIFIED:20240325T165755Z
UID:13291-1711391400-1711398600@ncwpdr.org
SUMMARY:Community Plan Ad Hoc Committee Meeting-Cancelled
DESCRIPTION:
URL:https://ncwpdr.org/event/community-plan-ad-hoc-committee-meeting/
LOCATION:CA
CATEGORIES:Meetings
ATTACH;FMTTYPE=image/png:https://ncwpdr.org/wp-content/uploads/2024/02/Community-Plan.png
END:VEVENT
BEGIN:VEVENT
DTSTART;TZID=America/Los_Angeles:20240327T183000
DTEND;TZID=America/Los_Angeles:20240327T203000
DTSTAMP:20260425T055554
CREATED:20240325T170255Z
LAST-MODIFIED:20240326T183252Z
UID:13422-1711564200-1711571400@ncwpdr.org
SUMMARY:Special Community Plan Ad Hoc Committee Meeting
DESCRIPTION:Join us for a special meeting of the Community Plan Ad Hoc Committee on March 27\, 6:30m at the Westchester Municipal Building\, 7166 Manchester Ave. \nThe Community Plan Update Story Maps have been released and we will discuss them. \n \n \n 
URL:https://ncwpdr.org/event/special-community-plan-ad-hoc-committee-meeting/
LOCATION:CA
CATEGORIES:Meetings
ATTACH;FMTTYPE=image/png:https://ncwpdr.org/wp-content/uploads/2024/03/Update-2.png
END:VEVENT
BEGIN:VEVENT
DTSTART;TZID=America/Los_Angeles:20240328T183000
DTEND;TZID=America/Los_Angeles:20240328T203000
DTSTAMP:20260425T055554
CREATED:20240325T170530Z
LAST-MODIFIED:20240325T184257Z
UID:13425-1711650600-1711657800@ncwpdr.org
SUMMARY:Airport Relations Committee Meeting
DESCRIPTION:Join us for the next Airport Relations Committee Thursday March 28\, 2024. \nWe will have an open conversation with CD 11’s new Airport Liaison Trey Grogan.
URL:https://ncwpdr.org/event/airport-relations-committee-meeting-5/
LOCATION:Westchester Municipal Building 7166 Manchester Avenue\, Westchester\, CA 90045\, 7166 Manchester Avenue\, Westchester\, CA\, 90045\, United States
CATEGORIES:Meetings
ATTACH;FMTTYPE=image/png:https://ncwpdr.org/wp-content/uploads/2024/03/NCWP-Airport-Relations-Meeting-2.png
END:VEVENT
BEGIN:VEVENT
DTSTART;TZID=America/Los_Angeles:20240402T183000
DTEND;TZID=America/Los_Angeles:20240402T210000
DTSTAMP:20260425T055554
CREATED:20240326T185556Z
LAST-MODIFIED:20240329T234705Z
UID:13452-1712082600-1712091600@ncwpdr.org
SUMMARY:Board Meeting
DESCRIPTION:Join us for the next NCWP Meeting on Tuesday\, April 2\, 6:30pm at the Westchester Municipal Building\, 7166 Manchester Ave. \nWe will hear a presentation regarding 206 Montreal.
URL:https://ncwpdr.org/event/board-meeting-27/
LOCATION:Westchester Municipal Building 7166 Manchester Avenue\, Westchester\, CA 90045\, 7166 Manchester Avenue\, Westchester\, CA\, 90045\, United States
CATEGORIES:Meetings
ATTACH;FMTTYPE=image/png:https://ncwpdr.org/wp-content/uploads/2024/03/Meeting-Graphic-12.png
END:VEVENT
BEGIN:VEVENT
DTSTART;TZID=America/Los_Angeles:20240413T090000
DTEND;TZID=America/Los_Angeles:20240413T120000
DTSTAMP:20260425T055554
CREATED:20240312T211132Z
LAST-MODIFIED:20240312T211132Z
UID:13340-1712998800-1713009600@ncwpdr.org
SUMMARY:Kids Beach Clean Up
DESCRIPTION:Sat\, April 13 | 9:00 a.m. – 12:00 p.m. \nDockweiler Youth Center\n12505 Vista Del Mar\nPlaya del Rey\, CA 90293 \nIn Celebration of Earth Day\, the LA County Department of Beaches and Harbors is partnering with Heal the Bay to host a Kids Beach Cleanup. This FREE event will feature a traveling tidepool\, arts & crafts\, and a cultural environmental music performance by 3rd Rock Hip Hop. Check-in and cleanup supplies will be at the Dockweiler Youth Center. All cleanup volunteers must print\, complete\, and submit a signed beach cleanup waiver form to join the cleanup.
URL:https://ncwpdr.org/event/kids-beach-clean-up/
LOCATION:CA
CATEGORIES:Events
ATTACH;FMTTYPE=image/jpeg:https://ncwpdr.org/wp-content/uploads/2024/03/kids-beach-cleanup-2024_crop.jpg
END:VEVENT
BEGIN:VEVENT
DTSTART;TZID=America/Los_Angeles:20240417T170000
DTEND;TZID=America/Los_Angeles:20240417T183000
DTSTAMP:20260425T055554
CREATED:20240417T193630Z
LAST-MODIFIED:20240417T193630Z
UID:13511-1713373200-1713378600@ncwpdr.org
SUMMARY:County Budget Town Hall
DESCRIPTION:From County Supervisor Holly Mitchell:\nJoin us for a Virtual 2nd District Town Hall: The LA County Budget and Office Budget Priorities on Zoom (the first of three) to learn more about the County budget process and to share your feedback on Second Supervisorial District community priorities for the upcoming 2024-25 County budget cycle. \nSpanish\, Korean\, and ASL translations will be available. \nTo dial in call 1-669-444-9171\nMeeting ID: 818 1514 5454
URL:https://ncwpdr.org/event/county-budget-town-hall-2/
LOCATION:CA
CATEGORIES:Events
ATTACH;FMTTYPE=image/png:https://ncwpdr.org/wp-content/uploads/2024/04/4-17-24-budget-town-hall-final_crop.png
END:VEVENT
BEGIN:VEVENT
DTSTART;TZID=America/Los_Angeles:20240418T183000
DTEND;TZID=America/Los_Angeles:20240418T200000
DTSTAMP:20260425T055554
CREATED:20240415T172949Z
LAST-MODIFIED:20240416T205149Z
UID:13499-1713465000-1713470400@ncwpdr.org
SUMMARY:Community Services Committee Meeting
DESCRIPTION:Join us for the specially scheduled NCWP Community Services Committee Meeting on April 18\, 6:30pm at the Westchester Municipal Building\, 7166 Manchester Ave. \nThis is your opportunity to join in as we are just getting this committee off the ground and considering our mission and future topics. We will have a security overview by Otis regarding vehicle dwellers surrounding Otis.
URL:https://ncwpdr.org/event/community-services-committee-meeting-8/
LOCATION:Westchester Municipal Building 7166 Manchester Avenue\, Westchester\, CA 90045\, 7166 Manchester Avenue\, Westchester\, CA\, 90045\, United States
CATEGORIES:Meetings
ATTACH;FMTTYPE=image/png:https://ncwpdr.org/wp-content/uploads/2024/04/mural-community-services-1.png
END:VEVENT
BEGIN:VEVENT
DTSTART;TZID=America/Los_Angeles:20240421T113000
DTEND;TZID=America/Los_Angeles:20240421T143000
DTSTAMP:20260425T055554
CREATED:20240312T211709Z
LAST-MODIFIED:20240312T211709Z
UID:13343-1713699000-1713709800@ncwpdr.org
SUMMARY:Marina Culture Jam
DESCRIPTION:Burton Chace Park\n13650 Mindanao Way\nMarina del Rey\, CA 90292 \nThe Marina Culture Jam is back! This FREE arts series features a diverse range of live performances\, plus cultural arts & crafts activities for the whole family. \nFor more information visit: beaches.lacounty.gov.
URL:https://ncwpdr.org/event/marina-culture-jam-2/
LOCATION:Burton Chace Park\, 13650 Mindanao Way\, Marina Del Rey\, 90292
CATEGORIES:Events
ATTACH;FMTTYPE=image/jpeg:https://ncwpdr.org/wp-content/uploads/2024/03/2024-marina-culture-jam_crop.jpg
END:VEVENT
BEGIN:VEVENT
DTSTART;TZID=America/Los_Angeles:20240422T183000
DTEND;TZID=America/Los_Angeles:20240422T203000
DTSTAMP:20260425T055554
CREATED:20240419T211924Z
LAST-MODIFIED:20240419T211924Z
UID:13528-1713810600-1713817800@ncwpdr.org
SUMMARY:Community Plan Update Ad Hoc Committee Meeting
DESCRIPTION:Join us for the next Community Plan Update Ad Hoc Committee Meeting on Monday\, April 22\, 6:30pm at the Westchester Municipal Building\, 7166 Manchester Avenue.
URL:https://ncwpdr.org/event/community-plan-update-ad-hoc-committee-meeting-5/
LOCATION:Westchester Municipal Building 7166 Manchester Avenue\, Westchester\, CA 90045\, 7166 Manchester Avenue\, Westchester\, CA\, 90045\, United States
CATEGORIES:Meetings
ATTACH;FMTTYPE=image/png:https://ncwpdr.org/wp-content/uploads/2024/04/Update-3.png
END:VEVENT
BEGIN:VEVENT
DTSTART;TZID=America/Los_Angeles:20240425T183000
DTEND;TZID=America/Los_Angeles:20240425T203000
DTSTAMP:20260425T055554
CREATED:20240422T182413Z
LAST-MODIFIED:20240422T184307Z
UID:13540-1714069800-1714077000@ncwpdr.org
SUMMARY:Airport Relations Committee Meeting
DESCRIPTION:Join us for the next NCWP Airport Relations Committee Meeting on April 25\, 6:30pm at the Westchester Municipal Building\, 7166 Manchester Ave. \nWe will discuss airport projects\, community issues and more with CD11 Airport Liaison Trey Grogan.
URL:https://ncwpdr.org/event/airport-relations-committee-meeting-6/
LOCATION:Westchester Municipal Building 7166 Manchester Avenue\, Westchester\, CA 90045\, 7166 Manchester Avenue\, Westchester\, CA\, 90045\, United States
CATEGORIES:Meetings
ATTACH;FMTTYPE=image/png:https://ncwpdr.org/wp-content/uploads/2024/04/NCWP-Airport-Relations-Meeting-3.png
END:VEVENT
BEGIN:VEVENT
DTSTART;TZID=America/Los_Angeles:20240427T080000
DTEND;TZID=America/Los_Angeles:20240427T140000
DTSTAMP:20260425T055554
CREATED:20240309T014732Z
LAST-MODIFIED:20240309T014732Z
UID:13317-1714204800-1714226400@ncwpdr.org
SUMMARY:Electronic Donation Drive
DESCRIPTION:
URL:https://ncwpdr.org/event/electronic-donation-drive/
LOCATION:CA
CATEGORIES:Events
ATTACH;FMTTYPE=image/jpeg:https://ncwpdr.org/wp-content/uploads/2024/03/LAPDEWASTE2024.jpg
END:VEVENT
BEGIN:VEVENT
DTSTART;TZID=America/Los_Angeles:20240427T100000
DTEND;TZID=America/Los_Angeles:20240427T140000
DTSTAMP:20260425T055554
CREATED:20240419T213911Z
LAST-MODIFIED:20240419T213911Z
UID:13532-1714212000-1714226400@ncwpdr.org
SUMMARY:National Prescription Drug Take Back Day
DESCRIPTION:Got Leftover Prescription Drugs? Clean them out; Keep them safe; and Take them back! \nDon’t be surprised by what medications are in your medicine cabinet. If you haven’t used them\, don’t need them\, or they’re expired\, drop them off at a FREE and anonymous collection site near you. \nThe 26th National Prescription Drug Take Back Day is Saturday\, April 27\, 2024 – 10AM to 2PM The National Prescription Drug Take Back Day aims to provide a safe\, convenient\, and responsible means of disposing of leftover PRESCRIPTION DRUGS\, while also educating the general public about the potential for abuse of medications. \nCheck https://www.dea.gov/takebackday for the locations closest to you.
URL:https://ncwpdr.org/event/national-prescription-drug-take-back-day/
LOCATION:CA
CATEGORIES:Events
ATTACH;FMTTYPE=image/png:https://ncwpdr.org/wp-content/uploads/2024/04/2024-04-27-take-back-drugs.png
END:VEVENT
BEGIN:VEVENT
DTSTART;TZID=America/Los_Angeles:20240427T130000
DTEND;TZID=America/Los_Angeles:20240427T150000
DTSTAMP:20260425T055554
CREATED:20240422T184634Z
LAST-MODIFIED:20240422T185613Z
UID:13548-1714222800-1714230000@ncwpdr.org
SUMMARY:Budget Town Hall
DESCRIPTION:The Neighborhood Council Budget Advocates are sponsoring a virtual Town Hall on the Mayor’s Proposed Budget for Fiscal Year 2024-2025\, which will be held on Saturday\, April 27\, 2024 at 1:00 p.m. via Zoom. \nThe Mayor is required by the City Charter to release her Proposed Budget for the next fiscal year by April 22 (extended from the 20th this year due to the weekend). The City Council must act on that Budget by the end of May. Before then\, the City Council Budget\, Finance and Innovative Committee will hold hearings with each of the City Departments and labor partners. The Neighborhood Council Budget Advocates are typically invited to make a presentation with our budget recommendations. \nThis April 27th Town Hall is an opportunity for you to get familiar with the Proposed Budget and related online resources so you are equipped to make your voice heard with the Budget\, Finance and Innovation Committee\, the City Council and the Mayor. New Council File 24-0600 has been opened and the proposed Budget and related documents will be posted there once they have been released. There is where your NC can file its budget-related Community Impact Statements and where public comments may be submitted. \nPlease register to receive the Town Hall Zoom link\, to submit any Budget-related questions you may have\, and to make a language interpretation request.
URL:https://ncwpdr.org/event/budget-town-hall-2/
LOCATION:CA
CATEGORIES:Events
ATTACH;FMTTYPE=image/jpeg:https://ncwpdr.org/wp-content/uploads/2024/04/budget-town-hall.jpeg
END:VEVENT
BEGIN:VEVENT
DTSTART;TZID=America/Los_Angeles:20240507T180000
DTEND;TZID=America/Los_Angeles:20240507T183000
DTSTAMP:20260425T055554
CREATED:20240504T201356Z
LAST-MODIFIED:20240506T190937Z
UID:13583-1715104800-1715106600@ncwpdr.org
SUMMARY:Budget and  Finance
DESCRIPTION:Join us for the Budget & Finance Committee Meeting May 7\, 6pm at the Westchester Municipal Building. \n 
URL:https://ncwpdr.org/event/budget-and-finance/
LOCATION:Westchester Municipal Building 7166 Manchester Avenue\, Westchester\, CA 90045\, 7166 Manchester Avenue\, Westchester\, CA\, 90045\, United States
CATEGORIES:Meetings
ATTACH;FMTTYPE=image/png:https://ncwpdr.org/wp-content/uploads/2023/12/budget-meeting-4.png
END:VEVENT
BEGIN:VEVENT
DTSTART;TZID=America/Los_Angeles:20240507T183000
DTEND;TZID=America/Los_Angeles:20240507T210000
DTSTAMP:20260425T055554
CREATED:20240419T211527Z
LAST-MODIFIED:20240506T191355Z
UID:13526-1715106600-1715115600@ncwpdr.org
SUMMARY:Board Meeting
DESCRIPTION:Join us for the next NCWP Meeting on Tuesday\, May 7\, 6:30pm at the Westchester Municipal Building\, 7166 Manchester.
URL:https://ncwpdr.org/event/board-meeting-28/
LOCATION:CA
CATEGORIES:Meetings
ATTACH;FMTTYPE=image/png:https://ncwpdr.org/wp-content/uploads/2024/04/Meeting-Graphic-13.png
END:VEVENT
BEGIN:VEVENT
DTSTART;TZID=America/Los_Angeles:20240509T160000
DTEND;TZID=America/Los_Angeles:20240509T170000
DTSTAMP:20260425T055554
CREATED:20240508T173908Z
LAST-MODIFIED:20240508T174828Z
UID:13610-1715270400-1715274000@ncwpdr.org
SUMMARY:LAPD Virtual Business Town Hall
DESCRIPTION:Business Town Hall With LAPD\nOwn or operate a local business? Don’t forget to register for our CD11/LAPD town hall discussion about how to address commercial burglaries\, retail theft\, and other crimes impacting our local business community. \nRSVP here\nhttps://rb.gy/wahoeh
URL:https://ncwpdr.org/event/lapd-virtual-business-town-hall/
LOCATION:CA
CATEGORIES:Events
ATTACH;FMTTYPE=image/jpeg:https://ncwpdr.org/wp-content/uploads/2024/05/traci-park-business-town-hall.jpg
END:VEVENT
BEGIN:VEVENT
DTSTART;TZID=America/Los_Angeles:20240511T080000
DTEND;TZID=America/Los_Angeles:20240511T130000
DTSTAMP:20260425T055554
CREATED:20240506T195237Z
LAST-MODIFIED:20240506T195255Z
UID:13601-1715414400-1715432400@ncwpdr.org
SUMMARY:Fire Service Day
DESCRIPTION:The men and women of your Los Angeles Fire Department warmly welcome you to visit an LAFD Fire Station on Saturday\, May 11\, 2024\, between 10:00 AM and 4:00 PM. \nThe second Saturday of each May is designated as “Fire Service Day” in the City of Los Angeles – a citywide open firehouse celebration\, when we plan and prepare for your visit to a Neighborhood Fire Station. \nThis year\, our theme is “Celebrating Community Resilience”\, with a focus on strengthening the connections that benefit our entire community in times of crisis. \nWe’re eager to have you spend part of you day with us on Saturday\, May 11\, to learn about our team\, tools and training – but more importantly\, for us to learn of your needs and concerns regarding emergency response and disaster preparedness. \nWhile all LAFD Neighborhood Fire Stations ** will be welcoming your visit between 10 AM and 4 PM on Saturday\, May 11\, 2024\, the following Focal Sites will also offer special LAFD displays and demonstrations\, as well as introduce this year’s four Honorary Fire Chiefs: \n\nCentral Bureau Focal Site: Fire Station 12 (Highland Park) MAP\nSouth Bureau Focal Site: Fire Station 112 (San Pedro Waterfront) MAP\nValley Bureau Focal Site: Fire Station 88 (Sherman Oaks) MAP\nWest Bureau Focal Site: Fire Station 69 (Pacific Palisades) MAP\n\n**NOTE: Because Fire Stations 51\, 80 and 114 are located on secure airport grounds\, they regretfully cannot be open to the public. \nSome LAFD Stations will be offering special food\, entertainment and more. View their Fire Service Day event flyers: \n\nFire Station 63 (Venice)
URL:https://ncwpdr.org/event/fire-service-day/
LOCATION:CA
CATEGORIES:Events
ATTACH;FMTTYPE=image/jpeg:https://ncwpdr.org/wp-content/uploads/2024/05/venice-fire-service-day-1200-rotated.jpg
END:VEVENT
BEGIN:VEVENT
DTSTART;TZID=America/Los_Angeles:20240521T100000
DTEND;TZID=America/Los_Angeles:20240521T123000
DTSTAMP:20260425T055554
CREATED:20240417T193836Z
LAST-MODIFIED:20240417T193836Z
UID:13514-1716285600-1716294600@ncwpdr.org
SUMMARY:Beautification Conference
DESCRIPTION:On behalf of the City of Los Angeles Board of Public Works\, the Office of Community Beautification\, and Keep Los Angeles Beautiful\, we are pleased to invite you to the Sixth Annual Beautification Conference held Tuesday\, May 21\, at Pan Pacific Park. The conference will be held inside the Recreation Center at 7600 Beverly Blvd.\, Los Angeles\, CA 90036. \nAbout the Conference: \nJoin us for an opportunity to network and collaborate with other Angelenos on topics focused around beautifying the City. More than 250 attendees and 30 exhibitors will gather to discuss current beautification efforts\, share resources available to LA residents\, and exchange valuable information through informative panels. \nLocal leaders\, speakers\, and attendees \nInspiring keynote speakers \nLearn about community beautification opportunities\, sustainable gardening\, and practices in the home \nEvent is free and open to all (registration required) \nInteractive Resource Exposition \nLive Sustainable Gardening Workshop \n100 shade trees available\, restrictions apply* \nRain barrel raffle\, restrictions apply* \nMore information about the conference and Registration link is available here: http://laocb.org/keep-la-beautiful/beautification-conference/\nYou can also call to ask any question at 213-978-0228 \nRegistration :Sessions are free and open to all\, but registration is required to participate.\n*To be considered for the shade trees and rain barrel giveaways you must be a City of L.A. resident and be present during the event to claim your prize.\nProof of residence will be required (driver’s license or photo ID and your DWP bill).
URL:https://ncwpdr.org/event/beautification-conference/
LOCATION:Pan Pacific Park\, 7600 Beverly Blvd\, Los Angeles\, 90036
CATEGORIES:Events
ATTACH;FMTTYPE=image/png:https://ncwpdr.org/wp-content/uploads/2024/04/beautification-conference-2024.png
END:VEVENT
BEGIN:VEVENT
DTSTART;TZID=America/Los_Angeles:20240521T183000
DTEND;TZID=America/Los_Angeles:20240521T200000
DTSTAMP:20260425T055554
CREATED:20240507T034140Z
LAST-MODIFIED:20240516T181355Z
UID:13607-1716316200-1716321600@ncwpdr.org
SUMMARY:PLUC Committee Meeting
DESCRIPTION:Join us regarding a follow-up presentation regarding the proposed development site located at 7027 Vista del Mar\, Playa del Rey Tuesday\, May 21\, 6:30 at 7166 W. Manchester Ave.
URL:https://ncwpdr.org/event/pluc-committee-meeting/
LOCATION:CD 11 Westchester District Office\, 7166 Manchester Ave\, Los Angeles\, 90045
CATEGORIES:Meetings
ATTACH;FMTTYPE=image/png:https://ncwpdr.org/wp-content/uploads/2024/05/PLUM-Mar-1.png
END:VEVENT
BEGIN:VEVENT
DTSTART;TZID=America/Los_Angeles:20240521T183000
DTEND;TZID=America/Los_Angeles:20240521T210000
DTSTAMP:20260425T055554
CREATED:20240506T170149Z
LAST-MODIFIED:20240516T204628Z
UID:13586-1716316200-1716325200@ncwpdr.org
SUMMARY:Public Safety Committee Meeting
DESCRIPTION:Please join us for our Public Safety Committee Meeting May 21\, 6:30pm at LAWA Police Headquarters\, 9160 S. Loyola Blvd.  We will have an update form the Senior Lead Officers of the LAPD Pacific Division\, A representative from LA Council District 11 and other special guests.
URL:https://ncwpdr.org/event/public-safety-committee-meeting-13/
LOCATION:Airport Police Community Room\, 9160 South Loyola Blvd\, Westchester\, CA\, 90045\, United States
CATEGORIES:Meetings
ATTACH;FMTTYPE=image/png:https://ncwpdr.org/wp-content/uploads/2024/05/NCWP-Public-Safety-2.png
END:VEVENT
BEGIN:VEVENT
DTSTART;TZID=America/Los_Angeles:20240526T113000
DTEND;TZID=America/Los_Angeles:20240526T143000
DTSTAMP:20260425T055554
CREATED:20240312T211709Z
LAST-MODIFIED:20240312T211709Z
UID:13345-1716723000-1716733800@ncwpdr.org
SUMMARY:Marina Culture Jam
DESCRIPTION:Burton Chace Park\n13650 Mindanao Way\nMarina del Rey\, CA 90292 \nThe Marina Culture Jam is back! This FREE arts series features a diverse range of live performances\, plus cultural arts & crafts activities for the whole family. \nFor more information visit: beaches.lacounty.gov.
URL:https://ncwpdr.org/event/marina-culture-jam-2/2024-05-26/
LOCATION:Burton Chace Park\, 13650 Mindanao Way\, Marina Del Rey\, 90292
CATEGORIES:Events
ATTACH;FMTTYPE=image/jpeg:https://ncwpdr.org/wp-content/uploads/2024/03/2024-marina-culture-jam_crop.jpg
END:VEVENT
BEGIN:VEVENT
DTSTART;TZID=America/Los_Angeles:20240604T183000
DTEND;TZID=America/Los_Angeles:20240604T203000
DTSTAMP:20260425T055554
CREATED:20240604T184549Z
LAST-MODIFIED:20240604T184549Z
UID:13637-1717525800-1717533000@ncwpdr.org
SUMMARY:Board Meeting-Cancelled
DESCRIPTION:
URL:https://ncwpdr.org/event/board-meeting-cancelled/
LOCATION:CA
CATEGORIES:Meetings
ATTACH;FMTTYPE=image/png:https://ncwpdr.org/wp-content/uploads/2024/06/Meeting-Graphic-14.png
END:VEVENT
BEGIN:VEVENT
DTSTART;TZID=America/Los_Angeles:20240609T113000
DTEND;TZID=America/Los_Angeles:20240609T143000
DTSTAMP:20260425T055554
CREATED:20240312T211709Z
LAST-MODIFIED:20240312T211709Z
UID:13346-1717932600-1717943400@ncwpdr.org
SUMMARY:Marina Culture Jam
DESCRIPTION:Burton Chace Park\n13650 Mindanao Way\nMarina del Rey\, CA 90292 \nThe Marina Culture Jam is back! This FREE arts series features a diverse range of live performances\, plus cultural arts & crafts activities for the whole family. \nFor more information visit: beaches.lacounty.gov.
URL:https://ncwpdr.org/event/marina-culture-jam-2/2024-06-09/
LOCATION:Burton Chace Park\, 13650 Mindanao Way\, Marina Del Rey\, 90292
CATEGORIES:Events
ATTACH;FMTTYPE=image/jpeg:https://ncwpdr.org/wp-content/uploads/2024/03/2024-marina-culture-jam_crop.jpg
END:VEVENT
BEGIN:VEVENT
DTSTART;TZID=America/Los_Angeles:20240615T090000
DTEND;TZID=America/Los_Angeles:20240615T123000
DTSTAMP:20260425T055554
CREATED:20240417T194017Z
LAST-MODIFIED:20240604T184705Z
UID:13518-1718442000-1718454600@ncwpdr.org
SUMMARY:Budget Day
DESCRIPTION:Budget Advocates Report to NCs 2024.04 April
URL:https://ncwpdr.org/event/budget-day-6/
LOCATION:City Hall
CATEGORIES:Events
ATTACH;FMTTYPE=image/jpeg:https://ncwpdr.org/wp-content/uploads/2024/04/Budget-Day-2024-Save-the-Date-smaller.jpg
END:VEVENT
BEGIN:VEVENT
DTSTART;TZID=America/Los_Angeles:20240618T183000
DTEND;TZID=America/Los_Angeles:20240618T203000
DTSTAMP:20260425T055554
CREATED:20240604T042304Z
LAST-MODIFIED:20240617T211054Z
UID:13634-1718735400-1718742600@ncwpdr.org
SUMMARY:Planning & Land Use Committee Meeting
DESCRIPTION:Join us for the PLUC Meeting Tuesday\, June 18\, 6:30pm at the Westchester Municipal Building\, 7166 Manchester Ave. We will have two presentations: \n\nWestside Neighborhood School Consolidation Plan\nDave & Busters – ABC License.\n\nThe Pep Boys Site Presentation will be rescheduled.
URL:https://ncwpdr.org/event/planning-land-use-committee-meeting-2/
LOCATION:CA
CATEGORIES:Meetings
ATTACH;FMTTYPE=image/png:https://ncwpdr.org/wp-content/uploads/2024/06/PLUM-june.png
END:VEVENT
BEGIN:VEVENT
DTSTART;TZID=America/Los_Angeles:20240620T173000
DTEND;TZID=America/Los_Angeles:20240620T183000
DTSTAMP:20260425T055554
CREATED:20240619T224457Z
LAST-MODIFIED:20240619T224457Z
UID:13681-1718904600-1718908200@ncwpdr.org
SUMMARY:Westchester Public Safety Discussion
DESCRIPTION:Following this week’s incident at Westchester Park\, Councilwoman Traci Park’s Office is holding a joint meeting with LAPD at 5:30pm on Thursday\, June 20 at the LAX Police Headquarters to discuss community safety concerns. The meeting will be held at 9160 Loyola Blvd\, Los Angeles\, CA 90045. \nPlease join us and make sure you’re signed up for CD11 emails at cd11.lacity.org for more details. Your safety is our top priority. See you there! \nTo view the Public Safety Update on YouTube\, please visit: https://www.youtube.com/watch?v=7qyIFqogZ3M
URL:https://ncwpdr.org/event/westchester-public-safety-discussion/
LOCATION:LAWA Police Station\, 9160 Loyola Blvd\, 90045
CATEGORIES:Events
ATTACH;FMTTYPE=image/jpeg:https://ncwpdr.org/wp-content/uploads/2024/06/public-safety-traci-park.jpg
END:VEVENT
BEGIN:VEVENT
DTSTART;TZID=America/Los_Angeles:20240622T080000
DTEND;TZID=America/Los_Angeles:20240622T120000
DTSTAMP:20260425T055554
CREATED:20240604T192002Z
LAST-MODIFIED:20240617T211142Z
UID:13641-1719043200-1719057600@ncwpdr.org
SUMMARY:Big Dog Walk For Life Postponed
DESCRIPTION:LA Animal Services has made the decision to postpone the large-scale Big Dog Walk for Life and Shelter Clean Up event that was scheduled on June 22 to ensure we maximize assistance to animals in our shelters while keeping our animals\, volunteers\, and staff safe. \nWe deeply appreciate the enthusiastic response to the Big Dog Walk for Life and Shelter Clean Up event\, and we look forward to reimagining it this Fall with all of you. We will keep you informed of new developments and look forward to coming together for an exciting and successful event. \nPlease remember that\, even without a large group event\, dog walking happens every day in the shelters\, and those who are new to this can still sign up to get trained on safe handling and taking dogs out for exercise. \n  \nLA Animal Services is calling on Angelenos to help make a BIG difference on Saturday\, June 22\, 2024. All six LA Animal Centers are participating in the first Big Dog Walk for Life & Shelter Clean Up event. From 8AM-12PM\, volunteers and the public can visit the Animal Services Center of their choice and take a big dog out for a walk\, or help by cleaning dog kennels while our canine friends are out on a walk. \nFor more information and to RSVP\, visit laanimalservices.com/bigdogwalk
URL:https://ncwpdr.org/event/big-dog-walk-for-life/
LOCATION:CA
CATEGORIES:Events
ATTACH;FMTTYPE=image/jpeg:https://ncwpdr.org/wp-content/uploads/2024/06/big-dog-walk.jpg
END:VEVENT
BEGIN:VEVENT
DTSTART;TZID=America/Los_Angeles:20240624T183000
DTEND;TZID=America/Los_Angeles:20240624T203000
DTSTAMP:20260425T055554
CREATED:20240621T201053Z
LAST-MODIFIED:20240621T201053Z
UID:13688-1719253800-1719261000@ncwpdr.org
SUMMARY:Community Plan Update Ad Hoc Committee Meeting
DESCRIPTION:Join us for the next NCWP Community Plan Update Ad Hoc Committee Meeting on Monday\, June 24\, 6:30pm at the Westchester Community Room\, 7166 Manchester Avenue.
URL:https://ncwpdr.org/event/community-plan-update-ad-hoc-committee-meeting-6/
LOCATION:Westchester Municipal Building 7166 Manchester Avenue\, Westchester\, CA 90045\, 7166 Manchester Avenue\, Westchester\, CA\, 90045\, United States
CATEGORIES:Meetings
ATTACH;FMTTYPE=image/png:https://ncwpdr.org/wp-content/uploads/2024/06/Update-4.png
END:VEVENT
END:VCALENDAR