BEGIN:VCALENDAR
VERSION:2.0
PRODID:-//Neighborhood Council of Westchester/Playa - ECPv6.15.18//NONSGML v1.0//EN
CALSCALE:GREGORIAN
METHOD:PUBLISH
X-WR-CALNAME:Neighborhood Council of Westchester/Playa
X-ORIGINAL-URL:https://ncwpdr.org
X-WR-CALDESC:Events for Neighborhood Council of Westchester/Playa
REFRESH-INTERVAL;VALUE=DURATION:PT1H
X-Robots-Tag:noindex
X-PUBLISHED-TTL:PT1H
BEGIN:VTIMEZONE
TZID:America/Los_Angeles
BEGIN:DAYLIGHT
TZOFFSETFROM:-0800
TZOFFSETTO:-0700
TZNAME:PDT
DTSTART:20220313T100000
END:DAYLIGHT
BEGIN:STANDARD
TZOFFSETFROM:-0700
TZOFFSETTO:-0800
TZNAME:PST
DTSTART:20221106T090000
END:STANDARD
BEGIN:DAYLIGHT
TZOFFSETFROM:-0800
TZOFFSETTO:-0700
TZNAME:PDT
DTSTART:20230312T100000
END:DAYLIGHT
BEGIN:STANDARD
TZOFFSETFROM:-0700
TZOFFSETTO:-0800
TZNAME:PST
DTSTART:20231105T090000
END:STANDARD
BEGIN:DAYLIGHT
TZOFFSETFROM:-0800
TZOFFSETTO:-0700
TZNAME:PDT
DTSTART:20240310T100000
END:DAYLIGHT
BEGIN:STANDARD
TZOFFSETFROM:-0700
TZOFFSETTO:-0800
TZNAME:PST
DTSTART:20241103T090000
END:STANDARD
BEGIN:DAYLIGHT
TZOFFSETFROM:-0800
TZOFFSETTO:-0700
TZNAME:PDT
DTSTART:20250309T100000
END:DAYLIGHT
BEGIN:STANDARD
TZOFFSETFROM:-0700
TZOFFSETTO:-0800
TZNAME:PST
DTSTART:20251102T090000
END:STANDARD
END:VTIMEZONE
BEGIN:VEVENT
DTSTART;TZID=America/Los_Angeles:20240127T103000
DTEND;TZID=America/Los_Angeles:20240127T120000
DTSTAMP:20260425T055613
CREATED:20240119T000315Z
LAST-MODIFIED:20240119T000315Z
UID:13152-1706351400-1706356800@ncwpdr.org
SUMMARY:Coffee with the Senator
DESCRIPTION:
URL:https://ncwpdr.org/event/coffee-with-the-senator/
LOCATION:Playa Vista Library\, 6400 Playa Vista Drive\, Playa Vista\, 90094
CATEGORIES:Events
ATTACH;FMTTYPE=image/jpeg:https://ncwpdr.org/wp-content/uploads/2024/01/Playa-Vista.Senator-LSC-Coffee.1200.jpg
END:VEVENT
BEGIN:VEVENT
DTSTART;TZID=America/Los_Angeles:20240127T090000
DTEND;TZID=America/Los_Angeles:20240127T160000
DTSTAMP:20260425T055613
CREATED:20231211T234532Z
LAST-MODIFIED:20231211T234532Z
UID:13030-1706346000-1706371200@ncwpdr.org
SUMMARY:EmpowerLA Youth Conference
DESCRIPTION:The Los Angeles Department of Neighborhood Empowerment (DONE) is proud to introduce the EmpowerLA Youth Conference\, inviting youth from each region throughout the Los Angeles City to participate in a one-day event with various workshops and presentations. The 2024 EmpowerLA Youth Conference will take place on Saturday January 27\, 2024 from 9am-4pm. \nTopics include history and purpose of the Neighborhood Council system\, Brown Act and Robert’s Rules of Order\, as well as Neighborhood Council 101s. The program will also include speeches by city officials or elected officials\, perhaps the Mayor. The program is executed in partnership with Departments such as Recreation & Parks and Sanitation. At the conclusion of the conference\, attendees will receive resources\, including a headshot photo\, to encourage their personal civic engagement and leadership in the community. \nApply by December 18\, 2023
URL:https://ncwpdr.org/event/empowerla-youth-conference/
LOCATION:City Hall
CATEGORIES:Events
ATTACH;FMTTYPE=image/jpeg:https://ncwpdr.org/wp-content/uploads/2023/12/youth-conference.jpg
END:VEVENT
BEGIN:VEVENT
DTSTART;TZID=America/Los_Angeles:20240124T200000
DTEND;TZID=America/Los_Angeles:20240124T233000
DTSTAMP:20260425T055613
CREATED:20231211T234755Z
LAST-MODIFIED:20231211T234755Z
UID:13033-1706126400-1706139000@ncwpdr.org
SUMMARY:Homeless Count
DESCRIPTION:LA County is once more excited to announce that registration is now open for the 2024 Greater Los Angeles Homeless Count\, and we invite you to join us in this crucial effort to make a difference in our community. \nThe annual Homeless Count is an important tool that helps us better understand and address homelessness across LA County. It provides valuable data that guides the deployment of resources\, identifies trends\, and informs strategies to combat homelessness effectively. Your participation as a volunteer is instrumental in ensuring the success of this initiative. \nSign Up for the Homeless Count in Westchester
URL:https://ncwpdr.org/event/homeless-count-4/
CATEGORIES:Events
ATTACH;FMTTYPE=image/png:https://ncwpdr.org/wp-content/uploads/2023/12/HC24-FB-Cover.png
END:VEVENT
BEGIN:VEVENT
DTSTART;TZID=America/Los_Angeles:20240124T160000
DTEND;TZID=America/Los_Angeles:20240124T180000
DTSTAMP:20260425T055613
CREATED:20240123T223958Z
LAST-MODIFIED:20240123T223958Z
UID:13180-1706112000-1706119200@ncwpdr.org
SUMMARY:Community Updates on DDT Contamination
DESCRIPTION:From Council Member Traci Park:\nOur friends over at USC Sea Grant and California Sea Grant in partnership with Heal the Bay are hosting a community meeting to provide an update on the latest findings on deep-ocean DDT: where it is\, and how it is affecting humans and wildlife. As Vice Chair of the Santa Monica Bay Restoration Commission and the representative of our Westside coastal communities\, I take our responsibility to protect and preserve our coastal habitats for future generations very seriously. Feel free to sign up to learn more by clicking here.
URL:https://ncwpdr.org/event/community-updates-on-ddt-contamination/
CATEGORIES:Meetings
ATTACH;FMTTYPE=image/jpeg:https://ncwpdr.org/wp-content/uploads/2024/01/ddt-contamination-meeting.jpg
END:VEVENT
BEGIN:VEVENT
DTSTART;TZID=America/Los_Angeles:20240124T090000
DTEND;TZID=America/Los_Angeles:20240124T160000
DTSTAMP:20260425T055613
CREATED:20240119T000436Z
LAST-MODIFIED:20240119T000529Z
UID:13156-1706086800-1706112000@ncwpdr.org
SUMMARY:Blood Drive
DESCRIPTION:
URL:https://ncwpdr.org/event/blood-drive-2/
CATEGORIES:Events
ATTACH;FMTTYPE=image/jpeg:https://ncwpdr.org/wp-content/uploads/2024/01/2024-blood-drive-flyer-pdf.jpg
END:VEVENT
BEGIN:VEVENT
DTSTART;TZID=America/Los_Angeles:20240123T183000
DTEND;TZID=America/Los_Angeles:20240123T203000
DTSTAMP:20260425T055613
CREATED:20240111T043151Z
LAST-MODIFIED:20240119T233944Z
UID:13080-1706034600-1706041800@ncwpdr.org
SUMMARY:Public Safety Committee Meeting
DESCRIPTION:Join us for our Public Safety meeting which will be attended by the Senior Lead Officers of the LAPD Pacific Division as well as Campus Security from Otis College of Art & Design.  We always discuss interesting topics and it’s a great way to get the pulse of what’s happening in our area.  We will meet January 23\, 6:30pm at LAWA Police Headquarters Community Room\, 9160 South Loyola Blvd.
URL:https://ncwpdr.org/event/public-safety-committee-meeting-11/
LOCATION:Airport Police Community Room\, 9160 South Loyola Blvd\, Westchester\, CA\, 90045\, United States
CATEGORIES:Meetings
ATTACH;FMTTYPE=image/png:https://ncwpdr.org/wp-content/uploads/2024/01/NCWP-Public-Safety-1.png
END:VEVENT
BEGIN:VEVENT
DTSTART;TZID=America/Los_Angeles:20240122T183000
DTEND;TZID=America/Los_Angeles:20240122T200000
DTSTAMP:20260425T055613
CREATED:20240119T232852Z
LAST-MODIFIED:20240119T233420Z
UID:13165-1705948200-1705953600@ncwpdr.org
SUMMARY:Community Plan Update Ad Hoc Committee Meeting
DESCRIPTION:Join us for the next NCWP Community Plan Update Ad Hoc Committee Meeting on Monday\, January 22\, 6:30pm at the Westchester Municipal Building Community Room\, 7166 Manchester. \nWe will hear from Don Duckworth the Executive Director of the Westchester Town Center/Business Improvement District on the vision for the Town Center Moving forward.
URL:https://ncwpdr.org/event/community-plan-update-ad-hoc-committee-meeting-3/
LOCATION:Westchester Municipal Building 7166 Manchester Avenue\, Westchester\, CA 90045\, 7166 Manchester Avenue\, Westchester\, CA\, 90045\, United States
CATEGORIES:Meetings
ATTACH;FMTTYPE=image/png:https://ncwpdr.org/wp-content/uploads/2024/01/Community-Plan-Update-Ad-Hoc-Committee-Meeting-2.png
END:VEVENT
BEGIN:VEVENT
DTSTART;TZID=America/Los_Angeles:20240109T183000
DTEND;TZID=America/Los_Angeles:20240109T210000
DTSTAMP:20260425T055613
CREATED:20231201T212055Z
LAST-MODIFIED:20240108T223814Z
UID:12909-1704825000-1704834000@ncwpdr.org
SUMMARY:Special Meeting
DESCRIPTION:Join us for a specially scheduled meeting of the Neighborhood Council Westchester / Playa on Tuesday\, January 9\, 6:30pm at the Westchester Municipal Building\, 7166 Manchester. \nWe will discuss supporting the LAX Coastal Education Foundation Rock Roll & Run for Education on the picturesque campus of Loyola Marymount University on March 2\, 2024!
URL:https://ncwpdr.org/event/special-meeting-2/
LOCATION:Westchester Municipal Building 7166 Manchester Avenue\, Westchester\, CA 90045\, 7166 Manchester Avenue\, Westchester\, CA\, 90045\, United States
CATEGORIES:Meetings
ATTACH;FMTTYPE=image/png:https://ncwpdr.org/wp-content/uploads/2023/12/Meeting-Graphic-6.png
END:VEVENT
BEGIN:VEVENT
DTSTART;TZID=America/Los_Angeles:20240109T180000
DTEND;TZID=America/Los_Angeles:20240109T183000
DTSTAMP:20260425T055613
CREATED:20231201T212800Z
LAST-MODIFIED:20240108T210629Z
UID:12935-1704823200-1704825000@ncwpdr.org
SUMMARY:Special Budget Committee Meeting
DESCRIPTION:Join us for a specially scheduled meeting of the NCWP Budget & Finance Committee on Tuesday\, January 9\, 6pm at the Community Room\, Westchester Municipal Building\, 7166 W. Manchester Ave. \n 
URL:https://ncwpdr.org/event/budget-committee-meeting-2/
LOCATION:Westchester Municipal Building 7166 Manchester Avenue\, Westchester\, CA 90045\, 7166 Manchester Avenue\, Westchester\, CA\, 90045\, United States
CATEGORIES:Meetings
ATTACH;FMTTYPE=image/png:https://ncwpdr.org/wp-content/uploads/2023/12/budget-meeting-4.png
END:VEVENT
BEGIN:VEVENT
DTSTART;TZID=America/Los_Angeles:20240102T183000
DTEND;TZID=America/Los_Angeles:20240102T210000
DTSTAMP:20260425T055613
CREATED:20231201T210615Z
LAST-MODIFIED:20231201T211906Z
UID:12889-1704220200-1704229200@ncwpdr.org
SUMMARY:Board Meeting-Cancelled
DESCRIPTION:1st Tuesday
URL:https://ncwpdr.org/event/board-meeting-24/
LOCATION:Westchester Municipal Building 7166 Manchester Avenue\, Westchester\, CA 90045\, 7166 Manchester Avenue\, Westchester\, CA\, 90045\, United States
CATEGORIES:Meetings
ATTACH;FMTTYPE=image/png:https://ncwpdr.org/wp-content/uploads/2023/12/Meeting-Graphic-5.png
END:VEVENT
BEGIN:VEVENT
DTSTART;TZID=America/Los_Angeles:20240102T180000
DTEND;TZID=America/Los_Angeles:20240102T183000
DTSTAMP:20260425T055613
CREATED:20231201T210843Z
LAST-MODIFIED:20231201T212700Z
UID:12902-1704218400-1704220200@ncwpdr.org
SUMMARY:Budget Committee Meeting-Cancelled
DESCRIPTION:
URL:https://ncwpdr.org/event/budget-committee-meeting/
LOCATION:Westchester Municipal Building 7166 Manchester Avenue\, Westchester\, CA 90045\, 7166 Manchester Avenue\, Westchester\, CA\, 90045\, United States
CATEGORIES:Meetings
ATTACH;FMTTYPE=image/png:https://ncwpdr.org/wp-content/uploads/2023/12/budget-meeting-4.png
END:VEVENT
BEGIN:VEVENT
DTSTART;TZID=America/Los_Angeles:20231212T160000
DTEND;TZID=America/Los_Angeles:20231212T190000
DTSTAMP:20260425T055613
CREATED:20231211T232215Z
LAST-MODIFIED:20231211T232215Z
UID:13026-1702396800-1702407600@ncwpdr.org
SUMMARY:Sepulveda Heights Meeting
DESCRIPTION:American Family Housing\, a non-profit organization\, invites you to our community meeting. \nDuring the meeting\, you’ll have an opportunity to learn about the planned renovation of the hotel into 120 units of high quality multifamily supportive housing.
URL:https://ncwpdr.org/event/sepulveda-heights-meeting/
LOCATION:6531 Sepulveda Blvd\, 6531 Sepulveda Blvd\, Los Angeles\, 90045
CATEGORIES:Events
ATTACH;FMTTYPE=image/png:https://ncwpdr.org/wp-content/uploads/2023/12/2023-12-12-sepulveda-heights.png
END:VEVENT
BEGIN:VEVENT
DTSTART;TZID=America/Los_Angeles:20231211T120000
DTEND;TZID=America/Los_Angeles:20231211T140000
DTSTAMP:20260425T055613
CREATED:20231116T231638Z
LAST-MODIFIED:20231116T231638Z
UID:12857-1702296000-1702303200@ncwpdr.org
SUMMARY:Flu Clinic
DESCRIPTION:
URL:https://ncwpdr.org/event/flu-clinic/
LOCATION:Burton Chace Park\, 13650 Mindanao Way\, Marina Del Rey\, 90292
CATEGORIES:Events
ATTACH;FMTTYPE=image/png:https://ncwpdr.org/wp-content/uploads/2023/11/flu-shot-clinic.png
END:VEVENT
BEGIN:VEVENT
DTSTART;TZID=America/Los_Angeles:20231209T110000
DTEND;TZID=America/Los_Angeles:20231209T140000
DTSTAMP:20260425T055613
CREATED:20231204T201519Z
LAST-MODIFIED:20231204T201519Z
UID:12998-1702119600-1702130400@ncwpdr.org
SUMMARY:Holiday Celebration
DESCRIPTION:RSVP to CD11RSVP@lacity.org
URL:https://ncwpdr.org/event/holiday-celebration/
LOCATION:CD 11 Westchester District Office\, 7166 Manchester Ave\, Los Angeles\, 90045
CATEGORIES:Events
ATTACH;FMTTYPE=image/jpeg:https://ncwpdr.org/wp-content/uploads/2023/12/traci-holiday.jpg
END:VEVENT
BEGIN:VEVENT
DTSTART;TZID=America/Los_Angeles:20231205T183000
DTEND;TZID=America/Los_Angeles:20231205T200000
DTSTAMP:20260425T055613
CREATED:20221231T211037Z
LAST-MODIFIED:20240110T221712Z
UID:11172-1701801000-1701806400@ncwpdr.org
SUMMARY:Board Meeting
DESCRIPTION:Join us for our next NCWP Meeting on Tuesday\, December 5\, 6:30 at the Westchester Municipal Building Community Room\, 7166 Manchester Ave. \nOn our agenda: \nUpdate on Homekey Project located at 6531 Sepulveda
URL:https://ncwpdr.org/event/board-meeting-2023-12-05/
LOCATION:Westchester Municipal Building 7166 Manchester Avenue\, Westchester\, CA 90045\, 7166 Manchester Avenue\, Westchester\, CA\, 90045\, United States
CATEGORIES:Meetings
ATTACH;FMTTYPE=image/png:https://ncwpdr.org/wp-content/uploads/2022/12/Meeting-Graphic-4-1.png
END:VEVENT
BEGIN:VEVENT
DTSTART;TZID=America/Los_Angeles:20231205T180000
DTEND;TZID=America/Los_Angeles:20231205T183000
DTSTAMP:20260425T055613
CREATED:20231201T213802Z
LAST-MODIFIED:20231201T214247Z
UID:12959-1701799200-1701801000@ncwpdr.org
SUMMARY:Budget Committee Meeting
DESCRIPTION:Join us for our NCWP Budget Committee Meeting Tuesday\, December 5\, 6pm at the Westchester Municipal Building.
URL:https://ncwpdr.org/event/budget-committee-meeting-4/
LOCATION:Westchester Municipal Building 7166 Manchester Avenue\, Westchester\, CA 90045\, 7166 Manchester Avenue\, Westchester\, CA\, 90045\, United States
CATEGORIES:Meetings
ATTACH;FMTTYPE=image/png:https://ncwpdr.org/wp-content/uploads/2023/12/budget-meeting-4.png
END:VEVENT
BEGIN:VEVENT
DTSTART;TZID=America/Los_Angeles:20231127T183000
DTEND;TZID=America/Los_Angeles:20231127T200000
DTSTAMP:20260425T055613
CREATED:20230113T191147Z
LAST-MODIFIED:20231123T000945Z
UID:11261-1701109800-1701115200@ncwpdr.org
SUMMARY:Community Plan Update Ad Hoc Committee Meeting
DESCRIPTION:Join us for the next Community Plan Update Ad Hoc Committee Meeting Monday\, November 27\, 6:30pm at the Westchester Municipal Building\, 7166 Manchester. \nWe will have a recap of the committee’s driving tour with the Planning Department.
URL:https://ncwpdr.org/event/community-plan-update-ad-hoc-committee-meeting-2-2023-11-27/
LOCATION:Westchester Municipal Building 7166 Manchester Avenue\, Westchester\, CA 90045\, 7166 Manchester Avenue\, Westchester\, CA\, 90045\, United States
CATEGORIES:Meetings
ATTACH;FMTTYPE=image/png:https://ncwpdr.org/wp-content/uploads/2023/01/Community-Plan-Update-Ad-Hoc-Committee-Meeting-1.png
END:VEVENT
BEGIN:VEVENT
DTSTART;TZID=America/Los_Angeles:20231121T183000
DTEND;TZID=America/Los_Angeles:20231121T200000
DTSTAMP:20260425T055613
CREATED:20231116T230519Z
LAST-MODIFIED:20231116T230924Z
UID:12851-1700591400-1700596800@ncwpdr.org
SUMMARY:Planning and Land Use Committee
DESCRIPTION:Join us for the next Neighborhood Council Westchester Playa Planning and Land Use Committee Meeting on November 21\, 6:30pm. \nWe will have a presentation by Crest Real Estate on the proposed project located at 206 Montreal Street Playa del Rey\, CA 90293
URL:https://ncwpdr.org/event/planning-and-land-use-committee-3/
LOCATION:Westchester Municipal Building 7166 Manchester Avenue\, Westchester\, CA 90045\, 7166 Manchester Avenue\, Westchester\, CA\, 90045\, United States
CATEGORIES:Meetings
ATTACH;FMTTYPE=image/png:https://ncwpdr.org/wp-content/uploads/2023/11/PLUM-Nov.png
END:VEVENT
BEGIN:VEVENT
DTSTART;VALUE=DATE:20231121
DTEND;VALUE=DATE:20231122
DTSTAMP:20260425T055613
CREATED:20231107T222655Z
LAST-MODIFIED:20231107T225029Z
UID:12813-1700524800-1700611199@ncwpdr.org
SUMMARY:Book Club: Queen of Thieves
DESCRIPTION:
URL:https://ncwpdr.org/event/book-club-queen-of-thieves/
CATEGORIES:Events
ATTACH;FMTTYPE=image/png:https://ncwpdr.org/wp-content/uploads/2023/11/queen-of-thieves.png
END:VEVENT
BEGIN:VEVENT
DTSTART;TZID=America/Los_Angeles:20231118T100000
DTEND;TZID=America/Los_Angeles:20231118T140000
DTSTAMP:20260425T055613
CREATED:20231107T225646Z
LAST-MODIFIED:20231107T225646Z
UID:12816-1700301600-1700316000@ncwpdr.org
SUMMARY:Makers Market
DESCRIPTION:Over 40 vendors\, live music and food. \nBring non perishable food donations for food pantry\, LAX
URL:https://ncwpdr.org/event/makers-market/
LOCATION:Woman’s Club of Playa Del Rey\, 8039 W. Manchester Ave\, Playa Del Rey
CATEGORIES:Events
ATTACH;FMTTYPE=image/png:https://ncwpdr.org/wp-content/uploads/2023/11/makers-market.png
END:VEVENT
BEGIN:VEVENT
DTSTART;TZID=America/Los_Angeles:20231114T190000
DTEND;TZID=America/Los_Angeles:20231114T210000
DTSTAMP:20260425T055613
CREATED:20231026T052918Z
LAST-MODIFIED:20231110T203311Z
UID:12755-1699988400-1699995600@ncwpdr.org
SUMMARY:Public Safety Committee Meeting
DESCRIPTION:Join us as we will have special guests the Senior Lead Officers of the LAPD as well as a representative from CD 11.  These meetings are very informative and you will walk away with a wealth of knowledge.
URL:https://ncwpdr.org/event/public-safety-committee-meeting-10/
LOCATION:Westchester Municipal Building 7166 Manchester Avenue\, Westchester\, CA 90045\, 7166 Manchester Avenue\, Westchester\, CA\, 90045\, United States
CATEGORIES:Meetings
ATTACH;FMTTYPE=image/jpeg:https://ncwpdr.org/wp-content/uploads/2021/01/LA-Fire-outreach-Los-Angeles-World-Airports-committee-event-page-haeder-community-services600.jpg
END:VEVENT
BEGIN:VEVENT
DTSTART;TZID=America/Los_Angeles:20231113T183000
DTEND;TZID=America/Los_Angeles:20231113T210000
DTSTAMP:20260425T055613
CREATED:20231018T222245Z
LAST-MODIFIED:20231110T202321Z
UID:12732-1699900200-1699909200@ncwpdr.org
SUMMARY:Government Affairs Committee Meeting
DESCRIPTION:
URL:https://ncwpdr.org/event/government-affairs-committee-meeting-november-13th-2023/
LOCATION:Westchester Municipal Building 7166 Manchester Avenue\, Westchester\, CA 90045\, 7166 Manchester Avenue\, Westchester\, CA\, 90045\, United States
CATEGORIES:Meetings
ATTACH;FMTTYPE=image/png:https://ncwpdr.org/wp-content/uploads/2023/10/NCWP-Gov-City-Hall-1.png
END:VEVENT
BEGIN:VEVENT
DTSTART;TZID=America/Los_Angeles:20231109T113000
DTEND;TZID=America/Los_Angeles:20231109T121500
DTSTAMP:20260425T055613
CREATED:20231107T212750Z
LAST-MODIFIED:20231107T212750Z
UID:12808-1699529400-1699532100@ncwpdr.org
SUMMARY:South Bath Meditation
DESCRIPTION:
URL:https://ncwpdr.org/event/south-bath-meditation/
LOCATION:Westchester Senior Center\, 8740 Lincoln Blvd.\, Westchester\, 90045
CATEGORIES:Events
ATTACH;FMTTYPE=image/jpeg:https://ncwpdr.org/wp-content/uploads/2023/11/2023-11-sound-bath-1.jpg
END:VEVENT
BEGIN:VEVENT
DTSTART;TZID=America/Los_Angeles:20231107T183000
DTEND;TZID=America/Los_Angeles:20231107T200000
DTSTAMP:20260425T055613
CREATED:20221231T211037Z
LAST-MODIFIED:20240110T221338Z
UID:11171-1699381800-1699387200@ncwpdr.org
SUMMARY:Board Meeting
DESCRIPTION:Join us for the next NCWP Meeting on Tuesday\, November 7\, 6:30pm at the Municipal Building\, 7166 Manchester Ave. \nOn our agenda: \n\nLulu’s Place Update\nParking Replacement Policy\nDigital Billboards
URL:https://ncwpdr.org/event/board-meeting-2023-11-07/
LOCATION:Westchester Municipal Building 7166 Manchester Avenue\, Westchester\, CA 90045\, 7166 Manchester Avenue\, Westchester\, CA\, 90045\, United States
CATEGORIES:Meetings
ATTACH;FMTTYPE=image/png:https://ncwpdr.org/wp-content/uploads/2022/12/Meeting-Graphic-3-1.png
END:VEVENT
BEGIN:VEVENT
DTSTART;TZID=America/Los_Angeles:20231107T180000
DTEND;TZID=America/Los_Angeles:20231107T183000
DTSTAMP:20260425T055613
CREATED:20231105T005723Z
LAST-MODIFIED:20231106T174057Z
UID:12787-1699380000-1699381800@ncwpdr.org
SUMMARY:Budget & Finance Committee Meeting
DESCRIPTION:
URL:https://ncwpdr.org/event/budget-finance-committee-meeting-3/
LOCATION:Westchester Municipal Building 7166 Manchester Avenue\, Westchester\, CA 90045\, 7166 Manchester Avenue\, Westchester\, CA\, 90045\, United States
CATEGORIES:Meetings
ATTACH;FMTTYPE=image/png:https://ncwpdr.org/wp-content/uploads/2023/11/budget-meeting-1.png
END:VEVENT
BEGIN:VEVENT
DTSTART;TZID=America/Los_Angeles:20231030T113000
DTEND;TZID=America/Los_Angeles:20231030T130000
DTSTAMP:20260425T055613
CREATED:20231026T235433Z
LAST-MODIFIED:20231026T235433Z
UID:12757-1698665400-1698670800@ncwpdr.org
SUMMARY:Seniors Halloween Party
DESCRIPTION:
URL:https://ncwpdr.org/event/seniors-halloween-party/
LOCATION:Westchester Senior Center\, 8740 Lincoln Blvd.\, Westchester\, 90045
CATEGORIES:Events
ATTACH;FMTTYPE=image/jpeg:https://ncwpdr.org/wp-content/uploads/2023/10/Halloween-Flyer.jpg
END:VEVENT
BEGIN:VEVENT
DTSTART;TZID=America/Los_Angeles:20231030T100000
DTEND;TZID=America/Los_Angeles:20231030T113000
DTSTAMP:20260425T055613
CREATED:20231005T235504Z
LAST-MODIFIED:20231005T235504Z
UID:12614-1698660000-1698665400@ncwpdr.org
SUMMARY:Halloween Trick or Treat
DESCRIPTION:
URL:https://ncwpdr.org/event/halloween-trick-or-treat/
LOCATION:Westchester Senior Center\, 8740 Lincoln Blvd.\, Westchester\, 90045
CATEGORIES:Events
ATTACH;FMTTYPE=image/png:https://ncwpdr.org/wp-content/uploads/2023/10/oct-senior-center.png
END:VEVENT
BEGIN:VEVENT
DTSTART;TZID=America/Los_Angeles:20231028T180000
DTEND;TZID=America/Los_Angeles:20231028T200000
DTSTAMP:20260425T055613
CREATED:20231019T230134Z
LAST-MODIFIED:20231019T230134Z
UID:12739-1698516000-1698523200@ncwpdr.org
SUMMARY:Scary-oke
DESCRIPTION:FREE for all middle- and high-school TEENS\nActivities will include: karaoke\, mocktails\, and the first 100 teens will get free food from our food trucks.
URL:https://ncwpdr.org/event/scary-oke/
CATEGORIES:Events
ATTACH;FMTTYPE=image/jpeg:https://ncwpdr.org/wp-content/uploads/2023/10/SCARY-OKE-FLYER.jpg
END:VEVENT
BEGIN:VEVENT
DTSTART;TZID=America/Los_Angeles:20231028T170000
DTEND;TZID=America/Los_Angeles:20231028T200000
DTSTAMP:20260425T055613
CREATED:20231013T174124Z
LAST-MODIFIED:20231013T174124Z
UID:12698-1698512400-1698523200@ncwpdr.org
SUMMARY:Trunk or Treat
DESCRIPTION:
URL:https://ncwpdr.org/event/trunk-or-treat-2/
LOCATION:LAWA Police Station\, 9160 Loyola Blvd\, 90045
CATEGORIES:Events
ATTACH;FMTTYPE=image/jpeg:https://ncwpdr.org/wp-content/uploads/2023/10/2023-Trunk-or-Treat-Flyer1500.jpg
END:VEVENT
BEGIN:VEVENT
DTSTART;TZID=America/Los_Angeles:20231028T100000
DTEND;TZID=America/Los_Angeles:20231028T130000
DTSTAMP:20260425T055613
CREATED:20231006T000150Z
LAST-MODIFIED:20231006T000150Z
UID:12622-1698487200-1698498000@ncwpdr.org
SUMMARY:The Radical Power of Dance: United by the Beat
DESCRIPTION:SAVE THE DATE: SATURDAY\, OCT 28\nThe Radical Power of Dance: United by the Beat \nSaturday\, October 28\, 2023 | 10:00 am – 1:00 pm\nLos Angeles \nJoin Los Angeles County Supervisor Holly J. Mitchell for a FREE event celebrating culture through dance. All are welcomed to attend. RSVP is required to attend. \nhttps://mitchell.lacounty.gov/rjle-oct-28/
URL:https://ncwpdr.org/event/the-radical-power-of-dance-united-by-the-beat/
CATEGORIES:Events
ATTACH;FMTTYPE=image/png:https://ncwpdr.org/wp-content/uploads/2023/10/10-28-23-rjle-the-radical-power-of-dance-flyer_crop.png
END:VEVENT
END:VCALENDAR