BEGIN:VCALENDAR
VERSION:2.0
PRODID:-//Neighborhood Council of Westchester/Playa - ECPv6.15.18//NONSGML v1.0//EN
CALSCALE:GREGORIAN
METHOD:PUBLISH
X-WR-CALNAME:Neighborhood Council of Westchester/Playa
X-ORIGINAL-URL:https://ncwpdr.org
X-WR-CALDESC:Events for Neighborhood Council of Westchester/Playa
REFRESH-INTERVAL;VALUE=DURATION:PT1H
X-Robots-Tag:noindex
X-PUBLISHED-TTL:PT1H
BEGIN:VTIMEZONE
TZID:America/Los_Angeles
BEGIN:DAYLIGHT
TZOFFSETFROM:-0800
TZOFFSETTO:-0700
TZNAME:PDT
DTSTART:20230312T100000
END:DAYLIGHT
BEGIN:STANDARD
TZOFFSETFROM:-0700
TZOFFSETTO:-0800
TZNAME:PST
DTSTART:20231105T090000
END:STANDARD
BEGIN:DAYLIGHT
TZOFFSETFROM:-0800
TZOFFSETTO:-0700
TZNAME:PDT
DTSTART:20240310T100000
END:DAYLIGHT
BEGIN:STANDARD
TZOFFSETFROM:-0700
TZOFFSETTO:-0800
TZNAME:PST
DTSTART:20241103T090000
END:STANDARD
BEGIN:DAYLIGHT
TZOFFSETFROM:-0800
TZOFFSETTO:-0700
TZNAME:PDT
DTSTART:20250309T100000
END:DAYLIGHT
BEGIN:STANDARD
TZOFFSETFROM:-0700
TZOFFSETTO:-0800
TZNAME:PST
DTSTART:20251102T090000
END:STANDARD
END:VTIMEZONE
BEGIN:VEVENT
DTSTART;TZID=America/Los_Angeles:20240919T090000
DTEND;TZID=America/Los_Angeles:20240919T103000
DTSTAMP:20260425T074323
CREATED:20240829T001717Z
LAST-MODIFIED:20240829T001717Z
UID:13810-1726736400-1726741800@ncwpdr.org
SUMMARY:Homeless Initiative Listening Session
DESCRIPTION:The County of Los Angeles Homeless Initiative is holding a series of virtual community listening sessions to strengthen strategies for addressing and preventing homelessness and to inform our annual funding recommendations for homeless services and housing in fiscal year 2025-2026. These listening sessions will solicit input from diverse stakeholders and partners\, including residents\, local leaders\, homeless services providers\, people with lived experience\, and other stakeholders to inform our funding recommendations. The goal of these sessions is to ensure their annual budget and strategies are up-to-date and responsive to the unique needs and priorities of our communities. Los Angeles County residents are invited to join this virtual listening session based on their service planning area. Los Angeles County residents are invited to join this virtual listening session based on their service planning area: \nSan Fernando Valley: Wednesday August 28\, 3:00-4:30pm\nMetro Los Angeles: Tuesday September 3\, 2:00-3:30pm\nEast Los Angeles: Thursday September 5\, 1:00-2:30pm\nSouth Los Angeles: Friday September 13\, 10:00am-12:00pm\nWest Los Angeles: Thursday September 19\, 9:00-10:30am \nRegister
URL:https://ncwpdr.org/event/homeless-initiative-listening-session/
CATEGORIES:Events
ATTACH;FMTTYPE=image/png:https://ncwpdr.org/wp-content/uploads/2024/08/homelessness-listening-sessions.png
END:VEVENT
BEGIN:VEVENT
DTSTART;TZID=America/Los_Angeles:20240914T110000
DTEND;TZID=America/Los_Angeles:20240914T120000
DTSTAMP:20260425T074323
CREATED:20240909T220756Z
LAST-MODIFIED:20240909T220756Z
UID:13889-1726311600-1726315200@ncwpdr.org
SUMMARY:Flight Path Museum Community Day
DESCRIPTION:The Flight Path Museum\, in collaboration with Los Angeles World Airports\, will open up the aircraft apron/tarmac to the public on Saturday September 14 between 11am and noon. Flight Path Museum members will have priority access. If you are a member you should have received a link to register for the event. For more information on becoming a member please click here \nAccess to the ramp will be limited and on a first come first serve basis. Advance registration is required due to safety and security regulations at LAX. Minors without ID will not need to provide a government ID number but will be required to provide all other required information. One form per person. \nOnly those that have registered ahead of time will be allowed in the Museum before our regular hours. Entry is based on availability and may be restricted due to operational issues or when the maximum number of people allowed is reached. We will do our best to inform you ahead of time if access is limited. \nNo weapons of any kind are allowed in the Museum and on the airfield. \nRegistration will close on September 13 at noon. \nRegister
URL:https://ncwpdr.org/event/flight-path-museum-community-day/
LOCATION:Flight Path Museum\, 6661 Imperial Hwy\, Los Angeles
CATEGORIES:Events
ATTACH;FMTTYPE=image/jpeg:https://ncwpdr.org/wp-content/uploads/2024/09/flight-path-museum.jpg
END:VEVENT
BEGIN:VEVENT
DTSTART;TZID=America/Los_Angeles:20240913T130000
DTEND;TZID=America/Los_Angeles:20240913T150000
DTSTAMP:20260425T074323
CREATED:20240729T181822Z
LAST-MODIFIED:20240729T181822Z
UID:13756-1726232400-1726239600@ncwpdr.org
SUMMARY:Summer Cinema Club
DESCRIPTION:The Westchester Senior Center invites everyone to their Summer Cinema Club\, featuring film showings on Fridays at 1 PM. Don’t miss the chance to enjoy great films and more!
URL:https://ncwpdr.org/event/summer-cinema-club/2024-09-13/
LOCATION:Westchester Senior Center\, 8740 Lincoln Blvd.\, Westchester\, 90045
CATEGORIES:Events
ATTACH;FMTTYPE=image/jpeg:https://ncwpdr.org/wp-content/uploads/2024/07/2024-westchester-summer-movies.jpg
END:VEVENT
BEGIN:VEVENT
DTSTART;TZID=America/Los_Angeles:20240830T200000
DTEND;TZID=America/Los_Angeles:20240830T220000
DTSTAMP:20260425T074323
CREATED:20240729T185148Z
LAST-MODIFIED:20240729T185148Z
UID:13773-1725048000-1725055200@ncwpdr.org
SUMMARY:Beach Movie Nights
DESCRIPTION:
URL:https://ncwpdr.org/event/beach-movie-nights-2/2024-08-30/
CATEGORIES:Events
ATTACH;FMTTYPE=image/jpeg:https://ncwpdr.org/wp-content/uploads/2024/07/2024-Beach-Movie-Nights-Flyer-scaled-1.jpg
END:VEVENT
BEGIN:VEVENT
DTSTART;TZID=America/Los_Angeles:20240823T200000
DTEND;TZID=America/Los_Angeles:20240823T220000
DTSTAMP:20260425T074323
CREATED:20240729T185148Z
LAST-MODIFIED:20240729T185148Z
UID:13772-1724443200-1724450400@ncwpdr.org
SUMMARY:Beach Movie Nights
DESCRIPTION:
URL:https://ncwpdr.org/event/beach-movie-nights-2/2024-08-23/
CATEGORIES:Events
ATTACH;FMTTYPE=image/jpeg:https://ncwpdr.org/wp-content/uploads/2024/07/2024-Beach-Movie-Nights-Flyer-scaled-1.jpg
END:VEVENT
BEGIN:VEVENT
DTSTART;TZID=America/Los_Angeles:20240823T130000
DTEND;TZID=America/Los_Angeles:20240823T150000
DTSTAMP:20260425T074323
CREATED:20240729T181822Z
LAST-MODIFIED:20240729T181822Z
UID:13755-1724418000-1724425200@ncwpdr.org
SUMMARY:Summer Cinema Club
DESCRIPTION:The Westchester Senior Center invites everyone to their Summer Cinema Club\, featuring film showings on Fridays at 1 PM. Don’t miss the chance to enjoy great films and more!
URL:https://ncwpdr.org/event/summer-cinema-club/2024-08-23/
LOCATION:Westchester Senior Center\, 8740 Lincoln Blvd.\, Westchester\, 90045
CATEGORIES:Events
ATTACH;FMTTYPE=image/jpeg:https://ncwpdr.org/wp-content/uploads/2024/07/2024-westchester-summer-movies.jpg
END:VEVENT
BEGIN:VEVENT
DTSTART;TZID=America/Los_Angeles:20240817T190000
DTEND;TZID=America/Los_Angeles:20240817T210000
DTSTAMP:20260425T074323
CREATED:20240729T184835Z
LAST-MODIFIED:20240729T184835Z
UID:13766-1723921200-1723928400@ncwpdr.org
SUMMARY:Summer Concert Series
DESCRIPTION:
URL:https://ncwpdr.org/event/summer-concert-series/2024-08-17/
LOCATION:Burton Chace Park\, 13650 Mindanao Way\, Marina Del Rey\, 90292
CATEGORIES:Events
ATTACH;FMTTYPE=image/jpeg:https://ncwpdr.org/wp-content/uploads/2024/07/2024-MDR-Summer-Concert-Flyer-v4-scaled-1.jpg
END:VEVENT
BEGIN:VEVENT
DTSTART;TZID=America/Los_Angeles:20240816T200000
DTEND;TZID=America/Los_Angeles:20240816T220000
DTSTAMP:20260425T074323
CREATED:20240729T185148Z
LAST-MODIFIED:20240729T185148Z
UID:13771-1723838400-1723845600@ncwpdr.org
SUMMARY:Beach Movie Nights
DESCRIPTION:
URL:https://ncwpdr.org/event/beach-movie-nights-2/2024-08-16/
CATEGORIES:Events
ATTACH;FMTTYPE=image/jpeg:https://ncwpdr.org/wp-content/uploads/2024/07/2024-Beach-Movie-Nights-Flyer-scaled-1.jpg
END:VEVENT
BEGIN:VEVENT
DTSTART;TZID=America/Los_Angeles:20240815T170000
DTEND;TZID=America/Los_Angeles:20240815T190000
DTSTAMP:20260425T074323
CREATED:20240731T191130Z
LAST-MODIFIED:20240731T191130Z
UID:13775-1723741200-1723748400@ncwpdr.org
SUMMARY:Summer Pool Party
DESCRIPTION:
URL:https://ncwpdr.org/event/summer-pool-party/
CATEGORIES:Events
ATTACH;FMTTYPE=image/jpeg:https://ncwpdr.org/wp-content/uploads/2024/07/summer-pool-party.jpg
END:VEVENT
BEGIN:VEVENT
DTSTART;TZID=America/Los_Angeles:20240810T190000
DTEND;TZID=America/Los_Angeles:20240810T210000
DTSTAMP:20260425T074323
CREATED:20240729T184835Z
LAST-MODIFIED:20240729T184835Z
UID:13765-1723316400-1723323600@ncwpdr.org
SUMMARY:Summer Concert Series
DESCRIPTION:
URL:https://ncwpdr.org/event/summer-concert-series/2024-08-10/
LOCATION:Burton Chace Park\, 13650 Mindanao Way\, Marina Del Rey\, 90292
CATEGORIES:Events
ATTACH;FMTTYPE=image/jpeg:https://ncwpdr.org/wp-content/uploads/2024/07/2024-MDR-Summer-Concert-Flyer-v4-scaled-1.jpg
END:VEVENT
BEGIN:VEVENT
DTSTART;TZID=America/Los_Angeles:20240810T180000
DTEND;TZID=America/Los_Angeles:20240810T220000
DTSTAMP:20260425T074323
CREATED:20240729T180951Z
LAST-MODIFIED:20240729T180951Z
UID:13749-1723312800-1723327200@ncwpdr.org
SUMMARY:Ballet Beyond Borders
DESCRIPTION:Mark your calendars for an unforgettable evening on Saturday\, August 10\, at 6 p.m. at the Drollinger Stage on the campus of Loyola Marymount University. Celebrate the finale of BBB Westchester\, a spectacular event showcasing the power of dance in fostering global cultural exchange\, with over 17 countries represented. Register and learn more on the website to be part of this unique cultural experience!
URL:https://ncwpdr.org/event/ballet-beyond-borders/
CATEGORIES:Events
ATTACH;FMTTYPE=image/png:https://ncwpdr.org/wp-content/uploads/2024/07/ballet-beyond-borders.png
END:VEVENT
BEGIN:VEVENT
DTSTART;TZID=America/Los_Angeles:20240809T200000
DTEND;TZID=America/Los_Angeles:20240809T220000
DTSTAMP:20260425T074323
CREATED:20240729T185148Z
LAST-MODIFIED:20240729T185148Z
UID:13770-1723233600-1723240800@ncwpdr.org
SUMMARY:Beach Movie Nights
DESCRIPTION:
URL:https://ncwpdr.org/event/beach-movie-nights-2/2024-08-09/
CATEGORIES:Events
ATTACH;FMTTYPE=image/jpeg:https://ncwpdr.org/wp-content/uploads/2024/07/2024-Beach-Movie-Nights-Flyer-scaled-1.jpg
END:VEVENT
BEGIN:VEVENT
DTSTART;TZID=America/Los_Angeles:20240809T130000
DTEND;TZID=America/Los_Angeles:20240809T150000
DTSTAMP:20260425T074323
CREATED:20240729T181822Z
LAST-MODIFIED:20240729T181822Z
UID:13752-1723208400-1723215600@ncwpdr.org
SUMMARY:Summer Cinema Club
DESCRIPTION:The Westchester Senior Center invites everyone to their Summer Cinema Club\, featuring film showings on Fridays at 1 PM. Don’t miss the chance to enjoy great films and more!
URL:https://ncwpdr.org/event/summer-cinema-club/2024-08-09/
LOCATION:Westchester Senior Center\, 8740 Lincoln Blvd.\, Westchester\, 90045
CATEGORIES:Events
ATTACH;FMTTYPE=image/jpeg:https://ncwpdr.org/wp-content/uploads/2024/07/2024-westchester-summer-movies.jpg
END:VEVENT
BEGIN:VEVENT
DTSTART;TZID=America/Los_Angeles:20240806T160000
DTEND;TZID=America/Los_Angeles:20240806T200000
DTSTAMP:20260425T074323
CREATED:20240716T222706Z
LAST-MODIFIED:20240716T222706Z
UID:13743-1722960000-1722974400@ncwpdr.org
SUMMARY:National Night Out
DESCRIPTION:
URL:https://ncwpdr.org/event/national-night-out-5/
CATEGORIES:Events
ATTACH;FMTTYPE=image/jpeg:https://ncwpdr.org/wp-content/uploads/2024/07/National-Night-Out-Flyer-2024-NCWP.jpg
END:VEVENT
BEGIN:VEVENT
DTSTART;TZID=America/Los_Angeles:20240803T190000
DTEND;TZID=America/Los_Angeles:20240803T210000
DTSTAMP:20260425T074323
CREATED:20240729T184835Z
LAST-MODIFIED:20240729T184835Z
UID:13763-1722711600-1722718800@ncwpdr.org
SUMMARY:Summer Concert Series
DESCRIPTION:
URL:https://ncwpdr.org/event/summer-concert-series/2024-08-03/
LOCATION:Burton Chace Park\, 13650 Mindanao Way\, Marina Del Rey\, 90292
CATEGORIES:Events
ATTACH;FMTTYPE=image/jpeg:https://ncwpdr.org/wp-content/uploads/2024/07/2024-MDR-Summer-Concert-Flyer-v4-scaled-1.jpg
END:VEVENT
BEGIN:VEVENT
DTSTART;TZID=America/Los_Angeles:20240802T200000
DTEND;TZID=America/Los_Angeles:20240802T220000
DTSTAMP:20260425T074323
CREATED:20240729T185148Z
LAST-MODIFIED:20240729T185148Z
UID:13768-1722628800-1722636000@ncwpdr.org
SUMMARY:Beach Movie Nights
DESCRIPTION:
URL:https://ncwpdr.org/event/beach-movie-nights-2/2024-08-02/
CATEGORIES:Events
ATTACH;FMTTYPE=image/jpeg:https://ncwpdr.org/wp-content/uploads/2024/07/2024-Beach-Movie-Nights-Flyer-scaled-1.jpg
END:VEVENT
BEGIN:VEVENT
DTSTART;TZID=America/Los_Angeles:20240716T180000
DTEND;TZID=America/Los_Angeles:20240716T193000
DTSTAMP:20260425T074323
CREATED:20240710T013629Z
LAST-MODIFIED:20240710T013825Z
UID:13735-1721152800-1721158200@ncwpdr.org
SUMMARY:Westchester Playa de Rey Community Plan Update Info Session
DESCRIPTION:Join the Department of City Planning for a virtual info session on the Westchester Playa de Rey Community Plan Update. The focus of the meeting will be on the draft land use maps for Ladera Center and La Tijera/Centinela. Learn about the process\, recent updates and share your feedback. \nMeeting ID: 893 8935 6343 \nPasscode: 507338
URL:https://ncwpdr.org/event/westchester-playa-de-rey-community-plan-update-info-session/
CATEGORIES:Events
ATTACH;FMTTYPE=image/png:https://ncwpdr.org/wp-content/uploads/2024/07/westchester-july-16-c.png
END:VEVENT
BEGIN:VEVENT
DTSTART;TZID=America/Los_Angeles:20240709T080000
DTEND;TZID=America/Los_Angeles:20240709T140000
DTSTAMP:20260425T074323
CREATED:20240621T201359Z
LAST-MODIFIED:20240621T201359Z
UID:13691-1720512000-1720533600@ncwpdr.org
SUMMARY:Blood Drive
DESCRIPTION:LAPD Pacific Division and the American Red Cross will be hosting a blood drive at Pacific station on July 9\, 2024 from 8am to 2pm. If you are interested in donating or have friends/family members that want to donate\, please visit the link below to schedule your appointment. Just find the date and location (Pacific Division).\nThe need for blood is constant and only volunteer donors can fulfill that need for patients in our community. Nationwide\, someone needs a unit of blood every 2 to 3 seconds and most of us will need blood in our lifetime.\nThank you for supporting the American Red Cross blood program!\nMake your appointment here
URL:https://ncwpdr.org/event/blood-drive-3/
CATEGORIES:Events
ATTACH;FMTTYPE=image/jpeg:https://ncwpdr.org/wp-content/uploads/2024/06/red-cross-blood-drive.jpg
END:VEVENT
BEGIN:VEVENT
DTSTART;TZID=America/Los_Angeles:20240704T110000
DTEND;TZID=America/Los_Angeles:20240704T140000
DTSTAMP:20260425T074323
CREATED:20240605T192056Z
LAST-MODIFIED:20240605T192056Z
UID:13654-1720090800-1720101600@ncwpdr.org
SUMMARY:Fourth of July Parade
DESCRIPTION:Join the Neighborhood Council of Westchester Playa as we recognize our 2024 NCWP Stars of the Neighborhood during Westchester’s annual Fourth of July Parade. The purpose of the award is to identify and honor those unsung heroes of our community who quietly\, persistently and without fanfare voluntarily perform good deeds that serve the needs of their neighbors and/or the community. \nThe parade will begin at 11 a.m. on July 4. The theme for the 24th Annual Parade is Sounds of Summer\, which celebrates all of the great music and special things that make summer a special time of the year! \nLet’s come together to be grateful for living in LA and create unforgettable memories. The parade will feature lively music and a variety of parade entries that showcase the spirit of our community. \nThe parade route travels along Loyola Boulevard from Westchester Park to Loyola Marymount University. Founded in 2000\, the parade celebrates small town ambience and home town values in the Playa & Westchester areas of coastal Los Angeles. It is spearheaded by the LAX Coastal Chamber of Commerce\, which was founded in 1953. The parade includes floats\, kids groups\, fancy cars with local dignitaries\, bands and an abundance of red\, white and blue decor.
URL:https://ncwpdr.org/event/fourth-of-july-parade/
CATEGORIES:Events
ATTACH;FMTTYPE=image/png:https://ncwpdr.org/wp-content/uploads/2024/06/2024-0704-ncwp.png
END:VEVENT
BEGIN:VEVENT
DTSTART;TZID=America/Los_Angeles:20240622T080000
DTEND;TZID=America/Los_Angeles:20240622T120000
DTSTAMP:20260425T074323
CREATED:20240604T192002Z
LAST-MODIFIED:20240617T211142Z
UID:13641-1719043200-1719057600@ncwpdr.org
SUMMARY:Big Dog Walk For Life Postponed
DESCRIPTION:LA Animal Services has made the decision to postpone the large-scale Big Dog Walk for Life and Shelter Clean Up event that was scheduled on June 22 to ensure we maximize assistance to animals in our shelters while keeping our animals\, volunteers\, and staff safe. \nWe deeply appreciate the enthusiastic response to the Big Dog Walk for Life and Shelter Clean Up event\, and we look forward to reimagining it this Fall with all of you. We will keep you informed of new developments and look forward to coming together for an exciting and successful event. \nPlease remember that\, even without a large group event\, dog walking happens every day in the shelters\, and those who are new to this can still sign up to get trained on safe handling and taking dogs out for exercise. \n  \nLA Animal Services is calling on Angelenos to help make a BIG difference on Saturday\, June 22\, 2024. All six LA Animal Centers are participating in the first Big Dog Walk for Life & Shelter Clean Up event. From 8AM-12PM\, volunteers and the public can visit the Animal Services Center of their choice and take a big dog out for a walk\, or help by cleaning dog kennels while our canine friends are out on a walk. \nFor more information and to RSVP\, visit laanimalservices.com/bigdogwalk
URL:https://ncwpdr.org/event/big-dog-walk-for-life/
CATEGORIES:Events
ATTACH;FMTTYPE=image/jpeg:https://ncwpdr.org/wp-content/uploads/2024/06/big-dog-walk.jpg
END:VEVENT
BEGIN:VEVENT
DTSTART;TZID=America/Los_Angeles:20240620T173000
DTEND;TZID=America/Los_Angeles:20240620T183000
DTSTAMP:20260425T074323
CREATED:20240619T224457Z
LAST-MODIFIED:20240619T224457Z
UID:13681-1718904600-1718908200@ncwpdr.org
SUMMARY:Westchester Public Safety Discussion
DESCRIPTION:Following this week’s incident at Westchester Park\, Councilwoman Traci Park’s Office is holding a joint meeting with LAPD at 5:30pm on Thursday\, June 20 at the LAX Police Headquarters to discuss community safety concerns. The meeting will be held at 9160 Loyola Blvd\, Los Angeles\, CA 90045. \nPlease join us and make sure you’re signed up for CD11 emails at cd11.lacity.org for more details. Your safety is our top priority. See you there! \nTo view the Public Safety Update on YouTube\, please visit: https://www.youtube.com/watch?v=7qyIFqogZ3M
URL:https://ncwpdr.org/event/westchester-public-safety-discussion/
LOCATION:LAWA Police Station\, 9160 Loyola Blvd\, 90045
CATEGORIES:Events
ATTACH;FMTTYPE=image/jpeg:https://ncwpdr.org/wp-content/uploads/2024/06/public-safety-traci-park.jpg
END:VEVENT
BEGIN:VEVENT
DTSTART;TZID=America/Los_Angeles:20240615T090000
DTEND;TZID=America/Los_Angeles:20240615T123000
DTSTAMP:20260425T074323
CREATED:20240417T194017Z
LAST-MODIFIED:20240604T184705Z
UID:13518-1718442000-1718454600@ncwpdr.org
SUMMARY:Budget Day
DESCRIPTION:Budget Advocates Report to NCs 2024.04 April
URL:https://ncwpdr.org/event/budget-day-6/
LOCATION:City Hall
CATEGORIES:Events
ATTACH;FMTTYPE=image/jpeg:https://ncwpdr.org/wp-content/uploads/2024/04/Budget-Day-2024-Save-the-Date-smaller.jpg
END:VEVENT
BEGIN:VEVENT
DTSTART;TZID=America/Los_Angeles:20240609T113000
DTEND;TZID=America/Los_Angeles:20240609T143000
DTSTAMP:20260425T074323
CREATED:20240312T211709Z
LAST-MODIFIED:20240312T211709Z
UID:13346-1717932600-1717943400@ncwpdr.org
SUMMARY:Marina Culture Jam
DESCRIPTION:Burton Chace Park\n13650 Mindanao Way\nMarina del Rey\, CA 90292 \nThe Marina Culture Jam is back! This FREE arts series features a diverse range of live performances\, plus cultural arts & crafts activities for the whole family. \nFor more information visit: beaches.lacounty.gov.
URL:https://ncwpdr.org/event/marina-culture-jam-2/2024-06-09/
LOCATION:Burton Chace Park\, 13650 Mindanao Way\, Marina Del Rey\, 90292
CATEGORIES:Events
ATTACH;FMTTYPE=image/jpeg:https://ncwpdr.org/wp-content/uploads/2024/03/2024-marina-culture-jam_crop.jpg
END:VEVENT
BEGIN:VEVENT
DTSTART;TZID=America/Los_Angeles:20240526T113000
DTEND;TZID=America/Los_Angeles:20240526T143000
DTSTAMP:20260425T074323
CREATED:20240312T211709Z
LAST-MODIFIED:20240312T211709Z
UID:13345-1716723000-1716733800@ncwpdr.org
SUMMARY:Marina Culture Jam
DESCRIPTION:Burton Chace Park\n13650 Mindanao Way\nMarina del Rey\, CA 90292 \nThe Marina Culture Jam is back! This FREE arts series features a diverse range of live performances\, plus cultural arts & crafts activities for the whole family. \nFor more information visit: beaches.lacounty.gov.
URL:https://ncwpdr.org/event/marina-culture-jam-2/2024-05-26/
LOCATION:Burton Chace Park\, 13650 Mindanao Way\, Marina Del Rey\, 90292
CATEGORIES:Events
ATTACH;FMTTYPE=image/jpeg:https://ncwpdr.org/wp-content/uploads/2024/03/2024-marina-culture-jam_crop.jpg
END:VEVENT
BEGIN:VEVENT
DTSTART;TZID=America/Los_Angeles:20240521T100000
DTEND;TZID=America/Los_Angeles:20240521T123000
DTSTAMP:20260425T074323
CREATED:20240417T193836Z
LAST-MODIFIED:20240417T193836Z
UID:13514-1716285600-1716294600@ncwpdr.org
SUMMARY:Beautification Conference
DESCRIPTION:On behalf of the City of Los Angeles Board of Public Works\, the Office of Community Beautification\, and Keep Los Angeles Beautiful\, we are pleased to invite you to the Sixth Annual Beautification Conference held Tuesday\, May 21\, at Pan Pacific Park. The conference will be held inside the Recreation Center at 7600 Beverly Blvd.\, Los Angeles\, CA 90036. \nAbout the Conference: \nJoin us for an opportunity to network and collaborate with other Angelenos on topics focused around beautifying the City. More than 250 attendees and 30 exhibitors will gather to discuss current beautification efforts\, share resources available to LA residents\, and exchange valuable information through informative panels. \nLocal leaders\, speakers\, and attendees \nInspiring keynote speakers \nLearn about community beautification opportunities\, sustainable gardening\, and practices in the home \nEvent is free and open to all (registration required) \nInteractive Resource Exposition \nLive Sustainable Gardening Workshop \n100 shade trees available\, restrictions apply* \nRain barrel raffle\, restrictions apply* \nMore information about the conference and Registration link is available here: http://laocb.org/keep-la-beautiful/beautification-conference/\nYou can also call to ask any question at 213-978-0228 \nRegistration :Sessions are free and open to all\, but registration is required to participate.\n*To be considered for the shade trees and rain barrel giveaways you must be a City of L.A. resident and be present during the event to claim your prize.\nProof of residence will be required (driver’s license or photo ID and your DWP bill).
URL:https://ncwpdr.org/event/beautification-conference/
LOCATION:Pan Pacific Park\, 7600 Beverly Blvd\, Los Angeles\, 90036
CATEGORIES:Events
ATTACH;FMTTYPE=image/png:https://ncwpdr.org/wp-content/uploads/2024/04/beautification-conference-2024.png
END:VEVENT
BEGIN:VEVENT
DTSTART;TZID=America/Los_Angeles:20240511T080000
DTEND;TZID=America/Los_Angeles:20240511T130000
DTSTAMP:20260425T074323
CREATED:20240506T195237Z
LAST-MODIFIED:20240506T195255Z
UID:13601-1715414400-1715432400@ncwpdr.org
SUMMARY:Fire Service Day
DESCRIPTION:The men and women of your Los Angeles Fire Department warmly welcome you to visit an LAFD Fire Station on Saturday\, May 11\, 2024\, between 10:00 AM and 4:00 PM. \nThe second Saturday of each May is designated as “Fire Service Day” in the City of Los Angeles – a citywide open firehouse celebration\, when we plan and prepare for your visit to a Neighborhood Fire Station. \nThis year\, our theme is “Celebrating Community Resilience”\, with a focus on strengthening the connections that benefit our entire community in times of crisis. \nWe’re eager to have you spend part of you day with us on Saturday\, May 11\, to learn about our team\, tools and training – but more importantly\, for us to learn of your needs and concerns regarding emergency response and disaster preparedness. \nWhile all LAFD Neighborhood Fire Stations ** will be welcoming your visit between 10 AM and 4 PM on Saturday\, May 11\, 2024\, the following Focal Sites will also offer special LAFD displays and demonstrations\, as well as introduce this year’s four Honorary Fire Chiefs: \n\nCentral Bureau Focal Site: Fire Station 12 (Highland Park) MAP\nSouth Bureau Focal Site: Fire Station 112 (San Pedro Waterfront) MAP\nValley Bureau Focal Site: Fire Station 88 (Sherman Oaks) MAP\nWest Bureau Focal Site: Fire Station 69 (Pacific Palisades) MAP\n\n**NOTE: Because Fire Stations 51\, 80 and 114 are located on secure airport grounds\, they regretfully cannot be open to the public. \nSome LAFD Stations will be offering special food\, entertainment and more. View their Fire Service Day event flyers: \n\nFire Station 63 (Venice)
URL:https://ncwpdr.org/event/fire-service-day/
CATEGORIES:Events
ATTACH;FMTTYPE=image/jpeg:https://ncwpdr.org/wp-content/uploads/2024/05/venice-fire-service-day-1200-rotated.jpg
END:VEVENT
BEGIN:VEVENT
DTSTART;TZID=America/Los_Angeles:20240509T160000
DTEND;TZID=America/Los_Angeles:20240509T170000
DTSTAMP:20260425T074323
CREATED:20240508T173908Z
LAST-MODIFIED:20240508T174828Z
UID:13610-1715270400-1715274000@ncwpdr.org
SUMMARY:LAPD Virtual Business Town Hall
DESCRIPTION:Business Town Hall With LAPD\nOwn or operate a local business? Don’t forget to register for our CD11/LAPD town hall discussion about how to address commercial burglaries\, retail theft\, and other crimes impacting our local business community. \nRSVP here\nhttps://rb.gy/wahoeh
URL:https://ncwpdr.org/event/lapd-virtual-business-town-hall/
CATEGORIES:Events
ATTACH;FMTTYPE=image/jpeg:https://ncwpdr.org/wp-content/uploads/2024/05/traci-park-business-town-hall.jpg
END:VEVENT
BEGIN:VEVENT
DTSTART;TZID=America/Los_Angeles:20240427T130000
DTEND;TZID=America/Los_Angeles:20240427T150000
DTSTAMP:20260425T074323
CREATED:20240422T184634Z
LAST-MODIFIED:20240422T185613Z
UID:13548-1714222800-1714230000@ncwpdr.org
SUMMARY:Budget Town Hall
DESCRIPTION:The Neighborhood Council Budget Advocates are sponsoring a virtual Town Hall on the Mayor’s Proposed Budget for Fiscal Year 2024-2025\, which will be held on Saturday\, April 27\, 2024 at 1:00 p.m. via Zoom. \nThe Mayor is required by the City Charter to release her Proposed Budget for the next fiscal year by April 22 (extended from the 20th this year due to the weekend). The City Council must act on that Budget by the end of May. Before then\, the City Council Budget\, Finance and Innovative Committee will hold hearings with each of the City Departments and labor partners. The Neighborhood Council Budget Advocates are typically invited to make a presentation with our budget recommendations. \nThis April 27th Town Hall is an opportunity for you to get familiar with the Proposed Budget and related online resources so you are equipped to make your voice heard with the Budget\, Finance and Innovation Committee\, the City Council and the Mayor. New Council File 24-0600 has been opened and the proposed Budget and related documents will be posted there once they have been released. There is where your NC can file its budget-related Community Impact Statements and where public comments may be submitted. \nPlease register to receive the Town Hall Zoom link\, to submit any Budget-related questions you may have\, and to make a language interpretation request.
URL:https://ncwpdr.org/event/budget-town-hall-2/
CATEGORIES:Events
ATTACH;FMTTYPE=image/jpeg:https://ncwpdr.org/wp-content/uploads/2024/04/budget-town-hall.jpeg
END:VEVENT
BEGIN:VEVENT
DTSTART;TZID=America/Los_Angeles:20240427T100000
DTEND;TZID=America/Los_Angeles:20240427T140000
DTSTAMP:20260425T074323
CREATED:20240419T213911Z
LAST-MODIFIED:20240419T213911Z
UID:13532-1714212000-1714226400@ncwpdr.org
SUMMARY:National Prescription Drug Take Back Day
DESCRIPTION:Got Leftover Prescription Drugs? Clean them out; Keep them safe; and Take them back! \nDon’t be surprised by what medications are in your medicine cabinet. If you haven’t used them\, don’t need them\, or they’re expired\, drop them off at a FREE and anonymous collection site near you. \nThe 26th National Prescription Drug Take Back Day is Saturday\, April 27\, 2024 – 10AM to 2PM The National Prescription Drug Take Back Day aims to provide a safe\, convenient\, and responsible means of disposing of leftover PRESCRIPTION DRUGS\, while also educating the general public about the potential for abuse of medications. \nCheck https://www.dea.gov/takebackday for the locations closest to you.
URL:https://ncwpdr.org/event/national-prescription-drug-take-back-day/
CATEGORIES:Events
ATTACH;FMTTYPE=image/png:https://ncwpdr.org/wp-content/uploads/2024/04/2024-04-27-take-back-drugs.png
END:VEVENT
BEGIN:VEVENT
DTSTART;TZID=America/Los_Angeles:20240427T080000
DTEND;TZID=America/Los_Angeles:20240427T140000
DTSTAMP:20260425T074323
CREATED:20240309T014732Z
LAST-MODIFIED:20240309T014732Z
UID:13317-1714204800-1714226400@ncwpdr.org
SUMMARY:Electronic Donation Drive
DESCRIPTION:
URL:https://ncwpdr.org/event/electronic-donation-drive/
CATEGORIES:Events
ATTACH;FMTTYPE=image/jpeg:https://ncwpdr.org/wp-content/uploads/2024/03/LAPDEWASTE2024.jpg
END:VEVENT
END:VCALENDAR