BEGIN:VCALENDAR
VERSION:2.0
PRODID:-//Neighborhood Council of Westchester/Playa - ECPv6.15.18//NONSGML v1.0//EN
CALSCALE:GREGORIAN
METHOD:PUBLISH
X-ORIGINAL-URL:https://ncwpdr.org
X-WR-CALDESC:Events for Neighborhood Council of Westchester/Playa
REFRESH-INTERVAL;VALUE=DURATION:PT1H
X-Robots-Tag:noindex
X-PUBLISHED-TTL:PT1H
BEGIN:VTIMEZONE
TZID:America/Los_Angeles
BEGIN:DAYLIGHT
TZOFFSETFROM:-0800
TZOFFSETTO:-0700
TZNAME:PDT
DTSTART:20230312T100000
END:DAYLIGHT
BEGIN:STANDARD
TZOFFSETFROM:-0700
TZOFFSETTO:-0800
TZNAME:PST
DTSTART:20231105T090000
END:STANDARD
BEGIN:DAYLIGHT
TZOFFSETFROM:-0800
TZOFFSETTO:-0700
TZNAME:PDT
DTSTART:20240310T100000
END:DAYLIGHT
BEGIN:STANDARD
TZOFFSETFROM:-0700
TZOFFSETTO:-0800
TZNAME:PST
DTSTART:20241103T090000
END:STANDARD
BEGIN:DAYLIGHT
TZOFFSETFROM:-0800
TZOFFSETTO:-0700
TZNAME:PDT
DTSTART:20250309T100000
END:DAYLIGHT
BEGIN:STANDARD
TZOFFSETFROM:-0700
TZOFFSETTO:-0800
TZNAME:PST
DTSTART:20251102T090000
END:STANDARD
BEGIN:DAYLIGHT
TZOFFSETFROM:-0800
TZOFFSETTO:-0700
TZNAME:PDT
DTSTART:20260308T100000
END:DAYLIGHT
BEGIN:STANDARD
TZOFFSETFROM:-0700
TZOFFSETTO:-0800
TZNAME:PST
DTSTART:20261101T090000
END:STANDARD
END:VTIMEZONE
BEGIN:VEVENT
DTSTART;TZID=America/Los_Angeles:20240815T170000
DTEND;TZID=America/Los_Angeles:20240815T190000
DTSTAMP:20260425T092517
CREATED:20240731T191130Z
LAST-MODIFIED:20240731T191130Z
UID:13775-1723741200-1723748400@ncwpdr.org
SUMMARY:Summer Pool Party
DESCRIPTION:
URL:https://ncwpdr.org/event/summer-pool-party/
CATEGORIES:Events
ATTACH;FMTTYPE=image/jpeg:https://ncwpdr.org/wp-content/uploads/2024/07/summer-pool-party.jpg
END:VEVENT
BEGIN:VEVENT
DTSTART;TZID=America/Los_Angeles:20240816T200000
DTEND;TZID=America/Los_Angeles:20240816T220000
DTSTAMP:20260425T092517
CREATED:20240729T185148Z
LAST-MODIFIED:20240729T185148Z
UID:13771-1723838400-1723845600@ncwpdr.org
SUMMARY:Beach Movie Nights
DESCRIPTION:
URL:https://ncwpdr.org/event/beach-movie-nights-2/2024-08-16/
CATEGORIES:Events
ATTACH;FMTTYPE=image/jpeg:https://ncwpdr.org/wp-content/uploads/2024/07/2024-Beach-Movie-Nights-Flyer-scaled-1.jpg
END:VEVENT
BEGIN:VEVENT
DTSTART;TZID=America/Los_Angeles:20240817T190000
DTEND;TZID=America/Los_Angeles:20240817T210000
DTSTAMP:20260425T092517
CREATED:20240729T184835Z
LAST-MODIFIED:20240729T184835Z
UID:13766-1723921200-1723928400@ncwpdr.org
SUMMARY:Summer Concert Series
DESCRIPTION:
URL:https://ncwpdr.org/event/summer-concert-series/2024-08-17/
LOCATION:Burton Chace Park\, 13650 Mindanao Way\, Marina Del Rey\, 90292
CATEGORIES:Events
ATTACH;FMTTYPE=image/jpeg:https://ncwpdr.org/wp-content/uploads/2024/07/2024-MDR-Summer-Concert-Flyer-v4-scaled-1.jpg
END:VEVENT
BEGIN:VEVENT
DTSTART;TZID=America/Los_Angeles:20240823T130000
DTEND;TZID=America/Los_Angeles:20240823T150000
DTSTAMP:20260425T092517
CREATED:20240729T181822Z
LAST-MODIFIED:20240729T181822Z
UID:13755-1724418000-1724425200@ncwpdr.org
SUMMARY:Summer Cinema Club
DESCRIPTION:The Westchester Senior Center invites everyone to their Summer Cinema Club\, featuring film showings on Fridays at 1 PM. Don’t miss the chance to enjoy great films and more!
URL:https://ncwpdr.org/event/summer-cinema-club/2024-08-23/
LOCATION:Westchester Senior Center\, 8740 Lincoln Blvd.\, Westchester\, 90045
CATEGORIES:Events
ATTACH;FMTTYPE=image/jpeg:https://ncwpdr.org/wp-content/uploads/2024/07/2024-westchester-summer-movies.jpg
END:VEVENT
BEGIN:VEVENT
DTSTART;TZID=America/Los_Angeles:20240823T200000
DTEND;TZID=America/Los_Angeles:20240823T220000
DTSTAMP:20260425T092517
CREATED:20240729T185148Z
LAST-MODIFIED:20240729T185148Z
UID:13772-1724443200-1724450400@ncwpdr.org
SUMMARY:Beach Movie Nights
DESCRIPTION:
URL:https://ncwpdr.org/event/beach-movie-nights-2/2024-08-23/
CATEGORIES:Events
ATTACH;FMTTYPE=image/jpeg:https://ncwpdr.org/wp-content/uploads/2024/07/2024-Beach-Movie-Nights-Flyer-scaled-1.jpg
END:VEVENT
BEGIN:VEVENT
DTSTART;TZID=America/Los_Angeles:20240830T200000
DTEND;TZID=America/Los_Angeles:20240830T220000
DTSTAMP:20260425T092517
CREATED:20240729T185148Z
LAST-MODIFIED:20240729T185148Z
UID:13773-1725048000-1725055200@ncwpdr.org
SUMMARY:Beach Movie Nights
DESCRIPTION:
URL:https://ncwpdr.org/event/beach-movie-nights-2/2024-08-30/
CATEGORIES:Events
ATTACH;FMTTYPE=image/jpeg:https://ncwpdr.org/wp-content/uploads/2024/07/2024-Beach-Movie-Nights-Flyer-scaled-1.jpg
END:VEVENT
BEGIN:VEVENT
DTSTART;TZID=America/Los_Angeles:20240913T130000
DTEND;TZID=America/Los_Angeles:20240913T150000
DTSTAMP:20260425T092517
CREATED:20240729T181822Z
LAST-MODIFIED:20240729T181822Z
UID:13756-1726232400-1726239600@ncwpdr.org
SUMMARY:Summer Cinema Club
DESCRIPTION:The Westchester Senior Center invites everyone to their Summer Cinema Club\, featuring film showings on Fridays at 1 PM. Don’t miss the chance to enjoy great films and more!
URL:https://ncwpdr.org/event/summer-cinema-club/2024-09-13/
LOCATION:Westchester Senior Center\, 8740 Lincoln Blvd.\, Westchester\, 90045
CATEGORIES:Events
ATTACH;FMTTYPE=image/jpeg:https://ncwpdr.org/wp-content/uploads/2024/07/2024-westchester-summer-movies.jpg
END:VEVENT
BEGIN:VEVENT
DTSTART;TZID=America/Los_Angeles:20240914T110000
DTEND;TZID=America/Los_Angeles:20240914T120000
DTSTAMP:20260425T092517
CREATED:20240909T220756Z
LAST-MODIFIED:20240909T220756Z
UID:13889-1726311600-1726315200@ncwpdr.org
SUMMARY:Flight Path Museum Community Day
DESCRIPTION:The Flight Path Museum\, in collaboration with Los Angeles World Airports\, will open up the aircraft apron/tarmac to the public on Saturday September 14 between 11am and noon. Flight Path Museum members will have priority access. If you are a member you should have received a link to register for the event. For more information on becoming a member please click here \nAccess to the ramp will be limited and on a first come first serve basis. Advance registration is required due to safety and security regulations at LAX. Minors without ID will not need to provide a government ID number but will be required to provide all other required information. One form per person. \nOnly those that have registered ahead of time will be allowed in the Museum before our regular hours. Entry is based on availability and may be restricted due to operational issues or when the maximum number of people allowed is reached. We will do our best to inform you ahead of time if access is limited. \nNo weapons of any kind are allowed in the Museum and on the airfield. \nRegistration will close on September 13 at noon. \nRegister
URL:https://ncwpdr.org/event/flight-path-museum-community-day/
LOCATION:Flight Path Museum\, 6661 Imperial Hwy\, Los Angeles
CATEGORIES:Events
ATTACH;FMTTYPE=image/jpeg:https://ncwpdr.org/wp-content/uploads/2024/09/flight-path-museum.jpg
END:VEVENT
BEGIN:VEVENT
DTSTART;TZID=America/Los_Angeles:20240919T090000
DTEND;TZID=America/Los_Angeles:20240919T103000
DTSTAMP:20260425T092517
CREATED:20240829T001717Z
LAST-MODIFIED:20240829T001717Z
UID:13810-1726736400-1726741800@ncwpdr.org
SUMMARY:Homeless Initiative Listening Session
DESCRIPTION:The County of Los Angeles Homeless Initiative is holding a series of virtual community listening sessions to strengthen strategies for addressing and preventing homelessness and to inform our annual funding recommendations for homeless services and housing in fiscal year 2025-2026. These listening sessions will solicit input from diverse stakeholders and partners\, including residents\, local leaders\, homeless services providers\, people with lived experience\, and other stakeholders to inform our funding recommendations. The goal of these sessions is to ensure their annual budget and strategies are up-to-date and responsive to the unique needs and priorities of our communities. Los Angeles County residents are invited to join this virtual listening session based on their service planning area. Los Angeles County residents are invited to join this virtual listening session based on their service planning area: \nSan Fernando Valley: Wednesday August 28\, 3:00-4:30pm\nMetro Los Angeles: Tuesday September 3\, 2:00-3:30pm\nEast Los Angeles: Thursday September 5\, 1:00-2:30pm\nSouth Los Angeles: Friday September 13\, 10:00am-12:00pm\nWest Los Angeles: Thursday September 19\, 9:00-10:30am \nRegister
URL:https://ncwpdr.org/event/homeless-initiative-listening-session/
CATEGORIES:Events
ATTACH;FMTTYPE=image/png:https://ncwpdr.org/wp-content/uploads/2024/08/homelessness-listening-sessions.png
END:VEVENT
BEGIN:VEVENT
DTSTART;TZID=America/Los_Angeles:20240919T170000
DTEND;TZID=America/Los_Angeles:20240919T190000
DTSTAMP:20260425T092517
CREATED:20240912T162621Z
LAST-MODIFIED:20240912T162621Z
UID:13901-1726765200-1726772400@ncwpdr.org
SUMMARY:Westchester-Playa Del Rey Community Plan Update Meeting
DESCRIPTION:Please join Los Angeles City Planning for an in-person community meeting on September 19\, 2024 from 5 p.m. – 7 p.m. at Frank D. Parent Elementary School\, 5354 W 64th Street\, Inglewood\, CA 90302. This event will provide community members with the opportunity to ask questions and provide feedback on the Westchester-Playa Del Rey Community Plan Update\, with a focus on Ladera Heights. \nThe event will begin with an Open House for residents to learn more about the community plan process followed by a brief presentation by City planning staff. After the presentation\, residents will have time to provide public comments and ask questions. \n5 p.m. – Open House \n5:45 p.m. – LA City Planning Presentation \n6 p.m. – Public Comments & Questions \nFor meeting information and details\, please see the meeting flyer. In addition\, planning staff hosted a virtual information session on July 16\, 2024. Links to the recording of the event as well as materials can be found below: \n\nRecording of Event\nPresentation from Event
URL:https://ncwpdr.org/event/westchester-playa-del-rey-community-plan-update-meeting/
LOCATION:Frank D. Parent Elementary School\, 5354 W 64th Street\, Inglewood\, 90302
CATEGORIES:Events
ATTACH;FMTTYPE=image/png:https://ncwpdr.org/wp-content/uploads/2024/09/2024-09-19-community-plan-update-meeting.png
END:VEVENT
BEGIN:VEVENT
DTSTART;TZID=America/Los_Angeles:20240919T180000
DTEND;TZID=America/Los_Angeles:20240919T200000
DTSTAMP:20260425T092517
CREATED:20240919T221106Z
LAST-MODIFIED:20240919T221106Z
UID:13913-1726768800-1726776000@ncwpdr.org
SUMMARY:LAWA Board of Airport Commissioners
DESCRIPTION:TONIGHT’S THE NIGHT!\n\n\nTime to be heard; the Board of Airport Commissioners and LAWA staff will be listening.\n\n\nYou are invited to attend the special meeting of the LAWA Board of Airport Commissioners\, Thursday Sept. 19\, 2024\, 6:00 PM\, Westchester Municipal Building\, 7166 W Manchester Ave\, Los Angeles\, CA 90045.\n\n\n\nThe Board meetings are customarily at LAX at 10:00 AM the first & third meetings of the month.\n\n\nTo accommodate people who can’t join the Board in the mornings\, this special Board meeting is being held at 6:00 PM in Westchester.\n\n\n\nIf you want to let LAWA know what you like about the airport\, what can be improved and to find out more about LAX capital improvement projects\, please join this special meeting.\n\n\n\nAnd come meet LAWA’s “new” CEO\, John Ackerman!\n\n\n\nIf you would like to provide comment to the commissioners and airport staff\, please sign up for public comment. Depending on the # of speakers\, typically each speaker has two minutes to speak.
URL:https://ncwpdr.org/event/lawa-board-of-airport-commissioners/
LOCATION:Westchester Municipal Building 7166 Manchester Avenue\, Westchester\, CA 90045\, 7166 Manchester Avenue\, Westchester\, CA\, 90045\, United States
CATEGORIES:Events
ATTACH;FMTTYPE=image/png:https://ncwpdr.org/wp-content/uploads/2024/09/LAWA.png
END:VEVENT
BEGIN:VEVENT
DTSTART;TZID=America/Los_Angeles:20240927T130000
DTEND;TZID=America/Los_Angeles:20240927T150000
DTSTAMP:20260425T092517
CREATED:20240729T181822Z
LAST-MODIFIED:20240729T181822Z
UID:13757-1727442000-1727449200@ncwpdr.org
SUMMARY:Summer Cinema Club
DESCRIPTION:The Westchester Senior Center invites everyone to their Summer Cinema Club\, featuring film showings on Fridays at 1 PM. Don’t miss the chance to enjoy great films and more!
URL:https://ncwpdr.org/event/summer-cinema-club/2024-09-27/
LOCATION:Westchester Senior Center\, 8740 Lincoln Blvd.\, Westchester\, 90045
CATEGORIES:Events
ATTACH;FMTTYPE=image/jpeg:https://ncwpdr.org/wp-content/uploads/2024/07/2024-westchester-summer-movies.jpg
END:VEVENT
BEGIN:VEVENT
DTSTART;TZID=America/Los_Angeles:20240928T153000
DTEND;TZID=America/Los_Angeles:20240928T210000
DTSTAMP:20260425T092517
CREATED:20240822T143211Z
LAST-MODIFIED:20240822T143211Z
UID:13796-1727537400-1727557200@ncwpdr.org
SUMMARY:Westchester Park Community Showcase
DESCRIPTION:Drop in for an afternoon of fun\, skateboarding\, community booths and a movie in the park after sunset.
URL:https://ncwpdr.org/event/westchester-park-community-showcase/
LOCATION:Westchester Park\, 8740 Lincoln Blvd
CATEGORIES:Events
ATTACH;FMTTYPE=image/jpeg:https://ncwpdr.org/wp-content/uploads/2024/08/WRC-Community-movie-night.jpg
END:VEVENT
BEGIN:VEVENT
DTSTART;TZID=America/Los_Angeles:20241001T173000
DTEND;TZID=America/Los_Angeles:20241001T200000
DTSTAMP:20260425T092517
CREATED:20240829T001901Z
LAST-MODIFIED:20240829T001901Z
UID:13813-1727803800-1727812800@ncwpdr.org
SUMMARY:Contractor Boot Camp
DESCRIPTION:The Los Angeles Community College District’s Small Contractor Boot Camp is a four-session program designed for local\, small and disadvantaged contractors to improve their competitive bidding capacity. Through a comprehensive curriculum\, they will learn more about the pre-qualification process for the BuildLACCD Program’s Pre-Qualified Service Provider bench\, for projects ranging from $25K to $5M. Check out the flyer for the curriculum’s details and register today.
URL:https://ncwpdr.org/event/contractor-boot-camp/
CATEGORIES:Events
ATTACH;FMTTYPE=image/jpeg:https://ncwpdr.org/wp-content/uploads/2024/08/Contractor-boot-camp.jpg
END:VEVENT
BEGIN:VEVENT
DTSTART;TZID=America/Los_Angeles:20241012T100000
DTEND;TZID=America/Los_Angeles:20241012T120000
DTSTAMP:20260425T092517
CREATED:20241003T154238Z
LAST-MODIFIED:20241003T154238Z
UID:13977-1728727200-1728734400@ncwpdr.org
SUMMARY:Dog Park Reopening
DESCRIPTION:The reopening of the large dog park area at Bill Rosendahl Park\, located at 4601 Alla Road\, Marina Del Rey\, CA 90292 will be celebrated October 12\, 10am. This off-leash dog park is the paw-fect place for your furry friends to play! For more information\, call (310) 391-5451.
URL:https://ncwpdr.org/event/dog-park-reopening/
CATEGORIES:Events
ATTACH;FMTTYPE=image/jpeg:https://ncwpdr.org/wp-content/uploads/2024/10/dog-park-reopening-scaled.jpg
END:VEVENT
BEGIN:VEVENT
DTSTART;TZID=America/Los_Angeles:20241017T160000
DTEND;TZID=America/Los_Angeles:20241017T220000
DTSTAMP:20260425T092517
CREATED:20241017T003322Z
LAST-MODIFIED:20241017T003322Z
UID:14045-1729180800-1729202400@ncwpdr.org
SUMMARY:LAPD's Special Olympics Fundraiser
DESCRIPTION:Join the Tip-A-Cop event at Islands Restaurant in the Howard Hughes Center on October 17th from 4 PM to closing\, benefiting the Special Olympics of Southern California. Enjoy a meal while 20% of food and beverage purchases support this great cause—just bring this flyer or mention it to your server!
URL:https://ncwpdr.org/event/lapds-special-olympics-fundraiser/
CATEGORIES:Events
ATTACH;FMTTYPE=image/jpeg:https://ncwpdr.org/wp-content/uploads/2024/10/special-olympics-fundraiser.jpg
END:VEVENT
BEGIN:VEVENT
DTSTART;VALUE=DATE:20241018
DTEND;VALUE=DATE:20241021
DTSTAMP:20260425T092517
CREATED:20241003T155145Z
LAST-MODIFIED:20241003T155145Z
UID:13985-1729209600-1729468799@ncwpdr.org
SUMMARY:Visitation Carnival in the Nine Double oh Four Five
DESCRIPTION:Visitation Catholic School 8740 Emerson Ave.\, Los Angeles\, CA \nThere’s no better fall event than a classic fair with rides and games\, and Visitation’s “Carnival in the Nine Double Oh Four Five” is back this year on October 18 through the 20! This bi-annual event will feature rides\, games\, music\, a beer garden\, food\, book walk\, raffles\, face painting\, entertainment\, prizes and more! Stay tuned for next month’s edition for more info! Visitation is located at 8740 Emerson Ave. in Westchester.
URL:https://ncwpdr.org/event/visitation-carnival-in-the-nine-double-oh-four-five/
CATEGORIES:Events
ATTACH;FMTTYPE=image/jpeg:https://ncwpdr.org/wp-content/uploads/2024/10/Carnival-2024.jpg
END:VEVENT
BEGIN:VEVENT
DTSTART;TZID=America/Los_Angeles:20241025T180000
DTEND;TZID=America/Los_Angeles:20241025T210000
DTSTAMP:20260425T092517
CREATED:20241003T154848Z
LAST-MODIFIED:20241003T154848Z
UID:13980-1729879200-1729890000@ncwpdr.org
SUMMARY:YMCA Halloween Spooktacular
DESCRIPTION:Westchester Family YMCA 8015 South Sepulveda Boulevard\, Los Angeles\, CA\, United States \nThe YMCA is preparing for its largest community event of the year: its annual Halloween Spooktacular! Save the date for Friday\, October 25th from 6 to 9 p.m. for the most ghoulish-family fun in Westchester! Reservations to attend the free event will launch next month\, and activities will include games\, candy\, a haunted maze\, entertainment and more. Food will also be available for purchase. Follow the Y at facebook.com/westchesterfamilymca to learn more about their upcoming events!
URL:https://ncwpdr.org/event/ymca-halloween-spooktacular/
LOCATION:Westchester Family YMCA\, 8015 S. Sepulveda Blvd
CATEGORIES:Events
ATTACH;FMTTYPE=image/jpeg:https://ncwpdr.org/wp-content/uploads/2024/10/YMCA-HTN-2-1200.jpg
END:VEVENT
BEGIN:VEVENT
DTSTART;TZID=America/Los_Angeles:20241026T150000
DTEND;TZID=America/Los_Angeles:20241026T170000
DTSTAMP:20260425T092517
CREATED:20241017T003502Z
LAST-MODIFIED:20241017T003502Z
UID:14048-1729954800-1729962000@ncwpdr.org
SUMMARY:Metro First/Last Mile Community Design Event
DESCRIPTION:Help shape the future of the area around the Aviation/LAX Station! Join Metro on Saturday\, October 26th\, from 3 PM to 5 PM at the Metro C Line Aviation/LAX Station\, Lower Station Plaza (11500 Aviation Blvd\, Los Angeles\, CA 90045). Your input will guide which streets are prioritized for pedestrian and wheel improvements\, addressing connectivity\, safety\, and accessibility. Transit riders and neighbors have already shared their insights\, and now we want to hear from you. Enjoy free food\, family-friendly activities\, and the chance to make a difference!
URL:https://ncwpdr.org/event/metro-first-last-mile-community-design-event/
CATEGORIES:Events
ATTACH;FMTTYPE=image/png:https://ncwpdr.org/wp-content/uploads/2024/10/first-mile.png
END:VEVENT
BEGIN:VEVENT
DTSTART;TZID=America/Los_Angeles:20241027T093000
DTEND;TZID=America/Los_Angeles:20241027T113000
DTSTAMP:20260425T092517
CREATED:20241011T163112Z
LAST-MODIFIED:20241011T163112Z
UID:14042-1730021400-1730028600@ncwpdr.org
SUMMARY:6th Annual Playa Vista Monster Dash 5k
DESCRIPTION:Celebrate the spooky season–and prepare for all the Halloween treats you’ll be eating–by signing up for the Sixth Annual Monster Dash in Playa Vista. Grab your friends and your best costumes to participate in this bewitching fun run/walk that takes place along the neighborhood’s Bluff Creek Drive. The cost to register is $50 for adults and $20 for children 18 and under (plus fees). A family bundle of four tickets is also available! A costume contest\, live DJ\, giveaways and custom finisher medals for runners\, round out the event \nA Halloween-themed\, family-friendly fun run/walk through the beautiful community of Playa Vista.\nLocation: Randy Johnson Park Bluff Creek Fields\n12702 Bluff Creek Dr Los Angeles\, CA 90094
URL:https://ncwpdr.org/event/6th-annual-playa-vista-monster-dash-5k/
CATEGORIES:Events
ATTACH;FMTTYPE=image/png:https://ncwpdr.org/wp-content/uploads/2024/10/2024-10-27-Monster-Dash.png
END:VEVENT
BEGIN:VEVENT
DTSTART;TZID=America/Los_Angeles:20241102T100000
DTEND;TZID=America/Los_Angeles:20241102T150000
DTSTAMP:20260425T092517
CREATED:20241029T164432Z
LAST-MODIFIED:20241029T164432Z
UID:14077-1730541600-1730559600@ncwpdr.org
SUMMARY:Makers Market
DESCRIPTION:Join the Woman’s Club of Playa del Rey on Saturday\, November 2\, at 10 am for their Fourth Annual Farmer’s Market. This local charity event showcases handmade crafts by local artisans\, live music\, and great food. The event runs from 10 am – 3 pm at 8039 Manchester Avenue in Playa del Rey and will generally support the Club’s Scholarship Fund for local women and girls.
URL:https://ncwpdr.org/event/makers-market-2/
CATEGORIES:Events
ATTACH;FMTTYPE=image/jpeg:https://ncwpdr.org/wp-content/uploads/2024/10/women-of-playa-del-rey.jpg
END:VEVENT
BEGIN:VEVENT
DTSTART;TZID=America/Los_Angeles:20241109T100000
DTEND;TZID=America/Los_Angeles:20241109T113000
DTSTAMP:20260425T092517
CREATED:20241109T003220Z
LAST-MODIFIED:20241109T003220Z
UID:14082-1731146400-1731151800@ncwpdr.org
SUMMARY:2024 Conversations with Veterans
DESCRIPTION:Congressman Lieu will be holding his annual virtual veteran appreciation event “Conversations with Veterans” this Saturday\, November 9 in the morning from 10 a.m. to 11:30 a.m. on Zoom.   We’d like to invite you and your friends and family to zoom in. . Attached is a flyer. Here is the link to register  https://ushr.zoomgov.com/webinar/register/WN_YMZvqVzPRGWNJQxwAWtLgQ#/registration \nA few of the veterans telling a story at the event include: Harry Moyer\, former Westchester longtime resident\, a 104 year old WWII fighter pilot who later became one of the Flyer Tigers\, a former Air Force Captain who was at the Pentagon on 9-11; a female Air Force veteran who was in the Medical Service Corp in Iraq where wounded soldiers were transferred to hospitals\, a Vietnam Marine Medi-vac pilot who evacuated wounded soldiers\, and a Korean War Captain who interviewed prisoner of war at the front lines. \nThere will also be a military love story\, insight into how our troops scramble to support NATO and a behind the scenes look at the rigorous training to be an instructor in the Marines Special Operations Group. \nPlus\, patriotic music –the National Anthem by Maxine Reyes\, US Army Captain retired and God Bless America by Michael Jackson aka Michael Wajacs\, US Army G-6 retired.
URL:https://ncwpdr.org/event/2024-conversations-with-veterans/
CATEGORIES:Events
ATTACH;FMTTYPE=image/jpeg:https://ncwpdr.org/wp-content/uploads/2024/11/lieu-veterans.jpg
END:VEVENT
BEGIN:VEVENT
DTSTART;TZID=America/Los_Angeles:20241115T130000
DTEND;TZID=America/Los_Angeles:20241115T140000
DTSTAMP:20260425T092517
CREATED:20241017T182853Z
LAST-MODIFIED:20241017T182853Z
UID:14055-1731675600-1731679200@ncwpdr.org
SUMMARY:Honoring our Veterans
DESCRIPTION:
URL:https://ncwpdr.org/event/honoring-our-veterans/
LOCATION:Westchester Senior Center\, 8740 Lincoln Blvd.\, Westchester\, 90045
CATEGORIES:Events
ATTACH;FMTTYPE=image/jpeg:https://ncwpdr.org/wp-content/uploads/2024/10/veterans-event-westchester.jpg
END:VEVENT
BEGIN:VEVENT
DTSTART;TZID=America/Los_Angeles:20241123T090000
DTEND;TZID=America/Los_Angeles:20241123T160000
DTSTAMP:20260425T092518
CREATED:20241028T230932Z
LAST-MODIFIED:20241028T230932Z
UID:14069-1732352400-1732377600@ncwpdr.org
SUMMARY:Holiday Arts and Crafts Faire
DESCRIPTION:
URL:https://ncwpdr.org/event/holiday-arts-and-crafts-faire/2024-11-23/
CATEGORIES:Events
ATTACH;FMTTYPE=image/jpeg:https://ncwpdr.org/wp-content/uploads/2024/10/St.-Jerome-Craft-Faire-2024-scaled-1.jpeg
END:VEVENT
BEGIN:VEVENT
DTSTART;TZID=America/Los_Angeles:20241124T080000
DTEND;TZID=America/Los_Angeles:20241124T140000
DTSTAMP:20260425T092518
CREATED:20241028T230932Z
LAST-MODIFIED:20241028T230932Z
UID:14071-1732435200-1732456800@ncwpdr.org
SUMMARY:Holiday Arts and Crafts Faire
DESCRIPTION:
URL:https://ncwpdr.org/event/holiday-arts-and-crafts-faire/2024-11-24/
CATEGORIES:Events
ATTACH;FMTTYPE=image/jpeg:https://ncwpdr.org/wp-content/uploads/2024/10/St.-Jerome-Craft-Faire-2024-scaled-1.jpeg
END:VEVENT
BEGIN:VEVENT
DTSTART;TZID=America/Los_Angeles:20241206T170000
DTEND;TZID=America/Los_Angeles:20241206T200000
DTSTAMP:20260425T092518
CREATED:20241114T232228Z
LAST-MODIFIED:20241114T232403Z
UID:14108-1733504400-1733515200@ncwpdr.org
SUMMARY:Tree Lighting
DESCRIPTION:Join the Holiday Spirit at LMU! This exciting annual holiday tradition is fun for the whole family. There will be music\, crafts for kids\, food trucks\, and photos with a special guest from the North Pole. This event is free and open to the public. The event is Friday\, December 6 from 5 to 8 p.m. \nLoyola Marymount University 1 LMU Drive\, Westchester\, CA
URL:https://ncwpdr.org/event/tree-lighting/
CATEGORIES:Events
ATTACH;FMTTYPE=image/jpeg:https://ncwpdr.org/wp-content/uploads/2024/11/LMUdecweb.jpg
END:VEVENT
BEGIN:VEVENT
DTSTART;TZID=America/Los_Angeles:20241207T090000
DTEND;TZID=America/Los_Angeles:20241207T120000
DTSTAMP:20260425T092518
CREATED:20241121T233452Z
LAST-MODIFIED:20241121T233452Z
UID:14181-1733562000-1733572800@ncwpdr.org
SUMMARY:21st Annual PdR Toy & Animal Shelter Drive
DESCRIPTION:Playa del Rey business owners Jane St. John (REMAX) and Felicia St. Denis (Flowers by Felicia) are teaming up next month for their 21st Annual Toy & Animal Shelter Drive! \nDonations of new\, unwrapped toys for Children’s Hospital Los Angeles and animal shelter supplies (treats\, toys\, beds etc) can be dropped off at Triangle Park (Waterview and Trask) in PdR on December 7 from 9 a.m. to noon. \nAfter you deliver the gifts\, stick around to enjoy a cup of coffee and chat with your neighbors!
URL:https://ncwpdr.org/event/21st-annual-pdr-toy-animal-shelter-drive/
CATEGORIES:Events
ATTACH;FMTTYPE=image/jpeg:https://ncwpdr.org/wp-content/uploads/2024/11/JaneFeliciaToyDRive-50_websize.jpg
END:VEVENT
BEGIN:VEVENT
DTSTART;TZID=America/Los_Angeles:20241214T110000
DTEND;TZID=America/Los_Angeles:20241214T140000
DTSTAMP:20260425T092518
CREATED:20241212T220802Z
LAST-MODIFIED:20241212T220802Z
UID:14225-1734174000-1734184800@ncwpdr.org
SUMMARY:Better 11 Holiday Celebration
DESCRIPTION:RSVP: CD11RSVP@lacity.org
URL:https://ncwpdr.org/event/better-11-holiday-celebration/
LOCATION:CD 11 Westchester District Office\, 7166 Manchester Ave\, Los Angeles\, 90045
CATEGORIES:Events
ATTACH;FMTTYPE=image/jpeg:https://ncwpdr.org/wp-content/uploads/2024/12/park-party.jpg
END:VEVENT
BEGIN:VEVENT
DTSTART;TZID=America/Los_Angeles:20250123T200000
DTEND;TZID=America/Los_Angeles:20250123T230000
DTSTAMP:20260425T092518
CREATED:20241121T233252Z
LAST-MODIFIED:20250113T190525Z
UID:14178-1737662400-1737673200@ncwpdr.org
SUMMARY:Homeless Count-Postponed
DESCRIPTION:Join and make a difference! You can now register to volunteer for the 2025 Greater Los Angeles Homeless Count! This essential event aims to count our unhoused neighbors and obtain data that helps us develop effective strategies to address the homelessness crisis in Los Angeles City and County. Mark your calendars for Homeless Count 2025\, taking place on the nights of January 21\, 22\, and 23. To learn more and sign up\, visit count.lahsa.org!
URL:https://ncwpdr.org/event/homeless-count-5/
CATEGORIES:Events
ATTACH;FMTTYPE=image/jpeg:https://ncwpdr.org/wp-content/uploads/2024/11/homeless-count-2025.jpg
END:VEVENT
BEGIN:VEVENT
DTSTART;TZID=America/Los_Angeles:20250201T090000
DTEND;TZID=America/Los_Angeles:20250201T110000
DTSTAMP:20260425T092518
CREATED:20250130T174254Z
LAST-MODIFIED:20250130T174254Z
UID:14357-1738400400-1738407600@ncwpdr.org
SUMMARY:Coffee and a Conversation with Cops
DESCRIPTION:RSVP and send your questions to: margarita.diosomito@yahoo.com
URL:https://ncwpdr.org/event/coffee-and-a-conversation-with-cops/
LOCATION:Woman’s Club of Playa Del Rey\, 8039 W. Manchester Ave\, Playa Del Rey
CATEGORIES:Events
ATTACH;FMTTYPE=image/jpeg:https://ncwpdr.org/wp-content/uploads/2025/01/NCWP-coffee.jpg
END:VEVENT
END:VCALENDAR