BEGIN:VCALENDAR
VERSION:2.0
PRODID:-//Neighborhood Council of Westchester/Playa - ECPv6.15.18//NONSGML v1.0//EN
CALSCALE:GREGORIAN
METHOD:PUBLISH
X-WR-CALNAME:Neighborhood Council of Westchester/Playa
X-ORIGINAL-URL:https://ncwpdr.org
X-WR-CALDESC:Events for Neighborhood Council of Westchester/Playa
REFRESH-INTERVAL;VALUE=DURATION:PT1H
X-Robots-Tag:noindex
X-PUBLISHED-TTL:PT1H
BEGIN:VTIMEZONE
TZID:America/Los_Angeles
BEGIN:DAYLIGHT
TZOFFSETFROM:-0800
TZOFFSETTO:-0700
TZNAME:PDT
DTSTART:20240310T100000
END:DAYLIGHT
BEGIN:STANDARD
TZOFFSETFROM:-0700
TZOFFSETTO:-0800
TZNAME:PST
DTSTART:20241103T090000
END:STANDARD
BEGIN:DAYLIGHT
TZOFFSETFROM:-0800
TZOFFSETTO:-0700
TZNAME:PDT
DTSTART:20250309T100000
END:DAYLIGHT
BEGIN:STANDARD
TZOFFSETFROM:-0700
TZOFFSETTO:-0800
TZNAME:PST
DTSTART:20251102T090000
END:STANDARD
BEGIN:DAYLIGHT
TZOFFSETFROM:-0800
TZOFFSETTO:-0700
TZNAME:PDT
DTSTART:20260308T100000
END:DAYLIGHT
BEGIN:STANDARD
TZOFFSETFROM:-0700
TZOFFSETTO:-0800
TZNAME:PST
DTSTART:20261101T090000
END:STANDARD
END:VTIMEZONE
BEGIN:VEVENT
DTSTART;TZID=America/Los_Angeles:20250701T180000
DTEND;TZID=America/Los_Angeles:20250701T193000
DTSTAMP:20260423T221751
CREATED:20250506T204857Z
LAST-MODIFIED:20250506T204857Z
UID:14814-1751392800-1751398200@ncwpdr.org
SUMMARY:LA Park Needs Assessment Online Meeting
DESCRIPTION:Join us for Phase 2 of the LA Park Needs Assessment! Let’s Keep the Conversation Going! \nThe City of Los Angeles Department of Recreation and Parks is continuing its Park Needs Assessment\, and we’re excited to invite you to the second round of Community Meetings. \nIn this next phase\, we’ll share what we have learned from your input so far and ask for your help in shaping the next steps. Whether you attended the first meetings or are joining us for the first time\, your voice is vital to creating parks that reflect the needs and priorities of Los Angeles residents. \nYour feedback will help to shape decisions that impact our parks and recreational spaces for generations to come. Invite your friends\, family\, and neighbors to join us in this important process! \n\n\n\n\n\n\n\nCommunity Meeting Details:\nEach meeting will include the same content\, so feel free to attend the meeting that best fits your schedule. Click on the date to add to your calendar.  \nThursday\, May 29\, 2025\n• Time: 6:00pm – 8:00pm\n• Location: JT Harvard Recreation Center\, 1535 W 62nd St\, Los Angeles\, CA 90047 \nTuesday\, June 3\, 2025\n• Time: 6:00pm – 8:00pm\n• Location: Lake View Terrace Recreation Center\, 11075 Foothill Blvd\, Lake View Terrace\, CA 91342 \nWednesday\, June 4\, 2025\n• Time: 6:00pm – 8:00pm\n• Location: Lafayette Recreation Center\, 625 La Fayette Park Pl\, Los Angeles\, CA 90057 \nThursday\, June 5\, 2025\n• Time: 6:00pm – 8:00pm\n• Location: South Park Recreation Center\, 345 E 51st St\, Los Angeles\, CA 90011 \nSaturday\, June 7\, 2025\n• Time: 10:00am – 12:00pm\n• Location: Evergreen Recreation Center\, 2844 E 2nd St\, Los Angeles\, CA 90033 \nTuesday\, June 10\, 2025 \n• Time: 6:00pm – 8:00pm\n• Location: Peck Park Community Center\, 560 N Western Ave\, San Pedro\, CA 90732 \nWednesday\, June 11\, 2025\n• Time: 6:00pm – 8:00pm\n• Location: Friendship Auditorium\, 3201 Riverside Dr\, Los Angeles\, CA 90027 \nWednesday\, June 18\, 2025\n• Time: 6:00pm – 8:00pm\n• Location: Sepulveda Recreation Center\, 8825 Kester Ave\, Panorama City\, CA 91402 \nSaturday\, June 21\, 2025\n• Time: 10:00am – 12:00pm\n• Location: Pan Pacific Senior Center\, 141 S Gardner St\, Los Angeles\, CA 90036 \nWednesday\, June 25\, 2025 \n• Time: 6:00pm – 8:00pm\n• Location: Alpine Recreation Center\, 817 Yale St\, Los Angeles\, CA 90012 \nSaturday\, June 28\, 2025\n• Time: 10:00am – 12:00pm\n• Location: Granada Hills Recreation Center\, 16730 Chatsworth St\, Granada Hills\, CA 91344 \nTuesday\, July 1\, 2025\n• Time: 6:00pm – 7:30pm\n• Location: Virtual via Zoom – bit.ly/lapnavirtualmeeting0701 \nRSVP requested but not required. RSVP at bit.ly/EngageLAPNA \nSign language interpreters\, assistive listening devices\, or any auxiliary aides and/or services may be provided upon request.  To ensure availability\, you are advised to make your request at least 72 hours prior to this meeting.  For additional information\, please contact the project team at LACityParksNeeds@theolinstudio.com\n\n\n\n\n\n\n\n\n\n\n\n\n\n\nAbout the Park Needs Assessment: \nThe City of Los Angeles Department of Recreation and Parks is conducting a Park Needs Assessment to better understand how we can improve and develop our parks to meet the needs of the residents of Los Angeles. It will guide future investment in park infrastructure and amenities that is reflective of the diverse cultures and communities of Los Angeles and its projected population growth.  The Park Needs Assessment process will include many opportunities for the community to participate and engage through community meetings\, pop-ups\, key group meetings\, equity focused events and more! To learn more about the process\, visit the Park Needs Assessment website at bit.ly/LACityParksNeeds.
URL:https://ncwpdr.org/event/la-park-needs-assessment-online-meeting/
CATEGORIES:Events
ATTACH;FMTTYPE=image/png:https://ncwpdr.org/wp-content/uploads/2025/05/park-needs-assessment-header-scaled.png
END:VEVENT
BEGIN:VEVENT
DTSTART;TZID=America/Los_Angeles:20250704T110000
DTEND;TZID=America/Los_Angeles:20250704T140000
DTSTAMP:20260423T221751
CREATED:20250613T174058Z
LAST-MODIFIED:20250625T192723Z
UID:14940-1751626800-1751637600@ncwpdr.org
SUMMARY:4th of July Parade
DESCRIPTION:We are proud to sponsor this year’s parade and hope you will enjoy it! \nThe parade starts at the corner of Manchester and Loyola and concludes at 80th & Loyola.
URL:https://ncwpdr.org/event/4th-of-july-parade-2/
CATEGORIES:Events
ATTACH;FMTTYPE=image/png:https://ncwpdr.org/wp-content/uploads/2025/06/NCWP.png
END:VEVENT
BEGIN:VEVENT
DTSTART;TZID=America/Los_Angeles:20250704T210000
DTEND;TZID=America/Los_Angeles:20250704T212000
DTSTAMP:20260423T221751
CREATED:20250625T151206Z
LAST-MODIFIED:20250625T151206Z
UID:14952-1751662800-1751664000@ncwpdr.org
SUMMARY:4th of July Fireworks Show
DESCRIPTION:Celebrate Independence Day with a spectacular 20-minute fireworks show over the water in Marina del Rey! \nTo ensure your experience in Marina del Rey on July 4th is as convenient and enjoyable as possible\, please review the street closures and read the FAQ. \nSHOWTIME: 9:00 p.m. – 9:20 p.m.\n(20-minute show)\n** All road closure times and locations subject to change based on traffic and safety conditions. 
URL:https://ncwpdr.org/event/4th-of-july-fireworks-show/
CATEGORIES:Events
ATTACH;FMTTYPE=image/jpeg:https://ncwpdr.org/wp-content/uploads/2025/06/4th-of-July-Event-scaled-1.jpg
END:VEVENT
BEGIN:VEVENT
DTSTART;TZID=America/Los_Angeles:20250716T160000
DTEND;TZID=America/Los_Angeles:20250716T170000
DTSTAMP:20260423T221751
CREATED:20250716T215344Z
LAST-MODIFIED:20250716T215344Z
UID:15029-1752681600-1752685200@ncwpdr.org
SUMMARY:Charter Reform Commission Meeting
DESCRIPTION:Charter Reform Commission Meeting – Wednesday\, July 16th\, 2025 at 4pm \nThe next meeting of the Los Angeles Charter Reform Commission will be held in the John Ferraro Council Chamber room 340 at Los Angeles City Hall. The Charter Reform Commission will only be taking in-person public comment. Please note that on the agenda\, there is a section for Neighborhood Council Community Impact Statements.
URL:https://ncwpdr.org/event/charter-reform-commission-meeting/
CATEGORIES:Events
ATTACH;FMTTYPE=image/webp:https://ncwpdr.org/wp-content/uploads/2025/07/202411_INC0763999_ReformLACharter_HeroImage_v1_JumbotronFixedXL_1280x665.png.webp
END:VEVENT
BEGIN:VEVENT
DTSTART;TZID=America/Los_Angeles:20250720T080000
DTEND;TZID=America/Los_Angeles:20250720T120000
DTSTAMP:20260423T221751
CREATED:20250710T144032Z
LAST-MODIFIED:20250710T144032Z
UID:14987-1752998400-1753012800@ncwpdr.org
SUMMARY:Cars\, Cops & Cups
DESCRIPTION:The community is welcome to bring their classic cars or just stop by for coffee and admire cars.
URL:https://ncwpdr.org/event/cars-cops-cups/
LOCATION:LAWA Police Headquarters 9160 South Loyola Blvd\, Los Angeles\, CA 90045
CATEGORIES:Events
ATTACH;FMTTYPE=image/jpeg:https://ncwpdr.org/wp-content/uploads/2025/07/Cars-Cops-cups.jpg
END:VEVENT
END:VCALENDAR