BEGIN:VCALENDAR
VERSION:2.0
PRODID:-//Neighborhood Council of Westchester/Playa - ECPv6.15.18//NONSGML v1.0//EN
CALSCALE:GREGORIAN
METHOD:PUBLISH
X-WR-CALNAME:Neighborhood Council of Westchester/Playa
X-ORIGINAL-URL:https://ncwpdr.org
X-WR-CALDESC:Events for Neighborhood Council of Westchester/Playa
REFRESH-INTERVAL;VALUE=DURATION:PT1H
X-Robots-Tag:noindex
X-PUBLISHED-TTL:PT1H
BEGIN:VTIMEZONE
TZID:America/Los_Angeles
BEGIN:DAYLIGHT
TZOFFSETFROM:-0800
TZOFFSETTO:-0700
TZNAME:PDT
DTSTART:20240310T100000
END:DAYLIGHT
BEGIN:STANDARD
TZOFFSETFROM:-0700
TZOFFSETTO:-0800
TZNAME:PST
DTSTART:20241103T090000
END:STANDARD
BEGIN:DAYLIGHT
TZOFFSETFROM:-0800
TZOFFSETTO:-0700
TZNAME:PDT
DTSTART:20250309T100000
END:DAYLIGHT
BEGIN:STANDARD
TZOFFSETFROM:-0700
TZOFFSETTO:-0800
TZNAME:PST
DTSTART:20251102T090000
END:STANDARD
BEGIN:DAYLIGHT
TZOFFSETFROM:-0800
TZOFFSETTO:-0700
TZNAME:PDT
DTSTART:20260308T100000
END:DAYLIGHT
BEGIN:STANDARD
TZOFFSETFROM:-0700
TZOFFSETTO:-0800
TZNAME:PST
DTSTART:20261101T090000
END:STANDARD
END:VTIMEZONE
BEGIN:VEVENT
DTSTART;TZID=America/Los_Angeles:20250605T180000
DTEND;TZID=America/Los_Angeles:20250605T190000
DTSTAMP:20260423T234152
CREATED:20250528T191205Z
LAST-MODIFIED:20250528T191205Z
UID:14848-1749146400-1749150000@ncwpdr.org
SUMMARY:Westchester Town Hall
DESCRIPTION:CD11 Virtual Town Hall: Westchester on Housing & Development on Thursday\, June 5th from 6:00pm – 7:00pm. Fill out this linked form to RSVP. They will send you the meeting link in your confirmation and again the week of the event. This is a great chance to hear what’s happening\, ask questions\, and share your thoughts about housing and development in Westchester.
URL:https://ncwpdr.org/event/westchester-town-hall/
CATEGORIES:Events
ATTACH;FMTTYPE=image/jpeg:https://ncwpdr.org/wp-content/uploads/2025/05/westchester-town-hall.jpg
END:VEVENT
BEGIN:VEVENT
DTSTART;TZID=America/Los_Angeles:20250621T073000
DTEND;TZID=America/Los_Angeles:20250621T123000
DTSTAMP:20260423T234152
CREATED:20250425T211432Z
LAST-MODIFIED:20250528T190935Z
UID:14706-1750491000-1750509000@ncwpdr.org
SUMMARY:Budget Day
DESCRIPTION:The Neighborhood Council Budget Advocates invites all residents\, community leaders\, and stakeholders to attend Budget Day 2025 on Saturday\, June 21 at City Hall\, beginning with a complimentary breakfast at 7:30 AM and a full program starting at 9:00 AM. \nWith the City facing an unprecedented financial crisis—including record-high deficits\, the potential for department layoffs\, and proposed reductions to public services—this year’s Budget Day is more urgent than ever. Community members are strongly encouraged to participate\, ask questions\, and advocate for their neighborhoods. \n“The City’s budget is more than numbers—it determines the services and quality of life Angelenos experience every day\,” said “At a time of significant cuts and hard choices\, public input is essential.” \nConfirmed speakers include: \n\nMayor Karen Bass\nMarquis Harris Dawson- City Council President\nMatt Szabo\, City Administrative Officer\nCouncilmember Katy Yaroslavsky\, Chair of the Budget & Finance Committee\nCity Controller Kenneth Mejia\nCarmen Chang\, Department Manager Empower L.A.\nJoy Atkinson- President of BONC\nRick Cole\, Office of the City Comptroller\nStephen Cheung\, President & CEO\, Los Angeles County Economic Development Corporation (LAEDC)
URL:https://ncwpdr.org/event/budget-day-7/
LOCATION:City Hall
CATEGORIES:Events
ATTACH;FMTTYPE=image/jpeg:https://ncwpdr.org/wp-content/uploads/2025/04/2025-budget-day-1200.jpg
END:VEVENT
BEGIN:VEVENT
DTSTART;TZID=America/Los_Angeles:20250621T120000
DTEND;TZID=America/Los_Angeles:20250621T140000
DTSTAMP:20260423T234152
CREATED:20250519T184434Z
LAST-MODIFIED:20250519T184434Z
UID:14835-1750507200-1750514400@ncwpdr.org
SUMMARY:Go Skate Day
DESCRIPTION:
URL:https://ncwpdr.org/event/go-skate-day/
CATEGORIES:Events
ATTACH;FMTTYPE=image/jpeg:https://ncwpdr.org/wp-content/uploads/2025/05/go-skate-day-2.jpg
END:VEVENT
BEGIN:VEVENT
DTSTART;TZID=America/Los_Angeles:20250621T120000
DTEND;TZID=America/Los_Angeles:20250621T200000
DTSTAMP:20260423T234152
CREATED:20250528T191641Z
LAST-MODIFIED:20250528T191641Z
UID:14855-1750507200-1750536000@ncwpdr.org
SUMMARY:Venice Summer Love Fest
DESCRIPTION:
URL:https://ncwpdr.org/event/venice-summer-love-fest/
CATEGORIES:Events
ATTACH;FMTTYPE=image/webp:https://ncwpdr.org/wp-content/uploads/2025/05/VSLF.jpg.webp
END:VEVENT
BEGIN:VEVENT
DTSTART;TZID=America/Los_Angeles:20250625T180000
DTEND;TZID=America/Los_Angeles:20250625T200000
DTSTAMP:20260423T234152
CREATED:20250625T192156Z
LAST-MODIFIED:20250625T192156Z
UID:14955-1750874400-1750881600@ncwpdr.org
SUMMARY:Public Works Town Hall
DESCRIPTION:RSVP For The Department of Public Works Town Hall –\nJoin us on Wednesday\, June 25th from 6:00 PM to 8:00 PM for a community Town Hall with Council District 11 and the Department of Public Works. We’ll discuss upcoming projects\, services\, and ways to stay involved.\nRSVP through the linked form to confirm your spot — parking info will be included in your confirmation.
URL:https://ncwpdr.org/event/public-works-town-hall/
CATEGORIES:Events
ATTACH;FMTTYPE=image/jpeg:https://ncwpdr.org/wp-content/uploads/2025/06/public-works.jpg
END:VEVENT
END:VCALENDAR