BEGIN:VCALENDAR
VERSION:2.0
PRODID:-//Neighborhood Council of Westchester/Playa - ECPv6.15.18//NONSGML v1.0//EN
CALSCALE:GREGORIAN
METHOD:PUBLISH
X-ORIGINAL-URL:https://ncwpdr.org
X-WR-CALDESC:Events for Neighborhood Council of Westchester/Playa
REFRESH-INTERVAL;VALUE=DURATION:PT1H
X-Robots-Tag:noindex
X-PUBLISHED-TTL:PT1H
BEGIN:VTIMEZONE
TZID:America/Los_Angeles
BEGIN:DAYLIGHT
TZOFFSETFROM:-0800
TZOFFSETTO:-0700
TZNAME:PDT
DTSTART:20230312T100000
END:DAYLIGHT
BEGIN:STANDARD
TZOFFSETFROM:-0700
TZOFFSETTO:-0800
TZNAME:PST
DTSTART:20231105T090000
END:STANDARD
BEGIN:DAYLIGHT
TZOFFSETFROM:-0800
TZOFFSETTO:-0700
TZNAME:PDT
DTSTART:20240310T100000
END:DAYLIGHT
BEGIN:STANDARD
TZOFFSETFROM:-0700
TZOFFSETTO:-0800
TZNAME:PST
DTSTART:20241103T090000
END:STANDARD
BEGIN:DAYLIGHT
TZOFFSETFROM:-0800
TZOFFSETTO:-0700
TZNAME:PDT
DTSTART:20250309T100000
END:DAYLIGHT
BEGIN:STANDARD
TZOFFSETFROM:-0700
TZOFFSETTO:-0800
TZNAME:PST
DTSTART:20251102T090000
END:STANDARD
END:VTIMEZONE
BEGIN:VEVENT
DTSTART;TZID=America/Los_Angeles:20240124T090000
DTEND;TZID=America/Los_Angeles:20240124T160000
DTSTAMP:20260425T092605
CREATED:20240119T000436Z
LAST-MODIFIED:20240119T000529Z
UID:13156-1706086800-1706112000@ncwpdr.org
SUMMARY:Blood Drive
DESCRIPTION:
URL:https://ncwpdr.org/event/blood-drive-2/
CATEGORIES:Events
ATTACH;FMTTYPE=image/jpeg:https://ncwpdr.org/wp-content/uploads/2024/01/2024-blood-drive-flyer-pdf.jpg
END:VEVENT
BEGIN:VEVENT
DTSTART;TZID=America/Los_Angeles:20240124T200000
DTEND;TZID=America/Los_Angeles:20240124T233000
DTSTAMP:20260425T092605
CREATED:20231211T234755Z
LAST-MODIFIED:20231211T234755Z
UID:13033-1706126400-1706139000@ncwpdr.org
SUMMARY:Homeless Count
DESCRIPTION:LA County is once more excited to announce that registration is now open for the 2024 Greater Los Angeles Homeless Count\, and we invite you to join us in this crucial effort to make a difference in our community. \nThe annual Homeless Count is an important tool that helps us better understand and address homelessness across LA County. It provides valuable data that guides the deployment of resources\, identifies trends\, and informs strategies to combat homelessness effectively. Your participation as a volunteer is instrumental in ensuring the success of this initiative. \nSign Up for the Homeless Count in Westchester
URL:https://ncwpdr.org/event/homeless-count-4/
CATEGORIES:Events
ATTACH;FMTTYPE=image/png:https://ncwpdr.org/wp-content/uploads/2023/12/HC24-FB-Cover.png
END:VEVENT
BEGIN:VEVENT
DTSTART;TZID=America/Los_Angeles:20240127T090000
DTEND;TZID=America/Los_Angeles:20240127T160000
DTSTAMP:20260425T092605
CREATED:20231211T234532Z
LAST-MODIFIED:20231211T234532Z
UID:13030-1706346000-1706371200@ncwpdr.org
SUMMARY:EmpowerLA Youth Conference
DESCRIPTION:The Los Angeles Department of Neighborhood Empowerment (DONE) is proud to introduce the EmpowerLA Youth Conference\, inviting youth from each region throughout the Los Angeles City to participate in a one-day event with various workshops and presentations. The 2024 EmpowerLA Youth Conference will take place on Saturday January 27\, 2024 from 9am-4pm. \nTopics include history and purpose of the Neighborhood Council system\, Brown Act and Robert’s Rules of Order\, as well as Neighborhood Council 101s. The program will also include speeches by city officials or elected officials\, perhaps the Mayor. The program is executed in partnership with Departments such as Recreation & Parks and Sanitation. At the conclusion of the conference\, attendees will receive resources\, including a headshot photo\, to encourage their personal civic engagement and leadership in the community. \nApply by December 18\, 2023
URL:https://ncwpdr.org/event/empowerla-youth-conference/
LOCATION:City Hall
CATEGORIES:Events
ATTACH;FMTTYPE=image/jpeg:https://ncwpdr.org/wp-content/uploads/2023/12/youth-conference.jpg
END:VEVENT
BEGIN:VEVENT
DTSTART;TZID=America/Los_Angeles:20240127T103000
DTEND;TZID=America/Los_Angeles:20240127T120000
DTSTAMP:20260425T092605
CREATED:20240119T000315Z
LAST-MODIFIED:20240119T000315Z
UID:13152-1706351400-1706356800@ncwpdr.org
SUMMARY:Coffee with the Senator
DESCRIPTION:
URL:https://ncwpdr.org/event/coffee-with-the-senator/
LOCATION:Playa Vista Library\, 6400 Playa Vista Drive\, Playa Vista\, 90094
CATEGORIES:Events
ATTACH;FMTTYPE=image/jpeg:https://ncwpdr.org/wp-content/uploads/2024/01/Playa-Vista.Senator-LSC-Coffee.1200.jpg
END:VEVENT
END:VCALENDAR